Workbook
Name A_2025_v4: Calculator!$B$16:$U$24
Name B_2025_v4: Calculator!$B$31:$U$39
Name C_2025_v4: Calculator!$B$45:$U$53
Name Code_year_options: Calculator!$AT$2:$AW$19
Name Code_years: Calculator!$AY$2:$AY$10
Name codeyear: 'BPF Calculator'!$D$9
Name ElecCarbon: 'BPF Calculator'!$D$12
Name ElecCost: 'BPF Calculator'!$D$11
Name elecsource: 'BPF Calculator'!$D$13
Name gascarbon: 'BPF Calculator'!$Q$12
Name gascost: 'BPF Calculator'!$Q$11
Name gassource: 'BPF Calculator'!$Q$13

Sheet BPF Calculator
B2: ASHRAE Standard 90.1-2025 Performance Rating Method (Appendix G) Building Performance Factor Calculation Tool
B3: Published BPFs in Section 4 of ASHRAE Standard 90.1-2025 are based on nationally representative energy costs. Informative Appendix I describes a method allowing BPF's to be calculated based on site energy, source energy, or greenhouse gas emissions using representative national values for source energy and greenhouse gas emissions, shown below in the table labeled 2025 Published BPF Conversion Factors. By selecting the BPF Approach "As Published", in the table below, the published BPF values from ASHRAE 90.1-2025 Section 4.0 (energy cost) and Informative Appendix I (site energy, source energy and emissions) will be displayed. This calculator can be used to develop a custom set of Building Performance Factors (BPFs). These may be used with the Performance Rating Method of ASHRAE Standard 90.1-2025 when approved by the Rating Authority. Jurisdictions may chose to use this calculator to develop BPF values that better align with local metrics. Where a Jurisdiction requires the use of hourly or other time of use data to calculate energy costs, emissions or source energy, calculate and enter conversion factors representing an annual blended or annual average value. The methodology used by this calculator for calculating custom BPF values is described in ASHRAE 90.1-2025 Informative Appendix I.
B5: Instructions for Developing Custom BPF Values 1. Select the BPF Approach "Custom BPF" in the table below. "As Published": This choice selects the published BPF values in ASHRAE Standard 90.1-2025 Standard ignoring any user entered metrics for electricity or natural gas. "Custom BPF": This choice allows users to create custom BPF values using custom metrics for cost, source energy or emissions.
B7: 2. After selecting "Custom BPF", enter user defined conversion factors for energy cost, emissions and/or source energy, for both electricity and natural gas, in the light red cells below. When using fossil fuels other than natural gas, enter values using the units as shown (1 therm = 10^5 BTU). The conversion factors used to calculate the 90.1-2025 Published BPF values for energy cost, source energy and GHG emisisons are shown in the table below.
B9: Code Year: | D9: 90.1-2025 | I9: BPF Approach: | J9: As Published
C10: Electricity | P10: Natural Gas (Fossil Fuel)
C11: Cost: | D11: 0.1122 | F11: $/site kWh | J11: =ElecCost/3.412 -> 0.032883939 | K11: $/site kBTU | P11: Cost: | Q11: 0.838 | S11: $/therm | V11: =Q11/100 -> 0.00838 | W11: $/site kBtu
C12: Emissions: | D12: 0.4709 | F12: lb/site kWh | J12: =ElecCarbon/3.412 -> 0.1380129 | K12: lb/site kBTU | P12: Emissions: | Q12: 14.7 | S12: lb/therm | V12: =Q12/100 -> 0.147 | W12: lb/site kBtu
C13: Source: | D13: 8.27 | F13: source kBtu/ site kWh | J13: =elecsource/3.412 -> 2.4237984 | K13: source kBtu/ site kBTU | P13: Source: | Q13: 123 | S13: source kBtu/therm | V13: =Q13/100 -> 1.23 | W13: source kBtu/site kBtu
C15: =Calculator!W14 -> BPF_Cost | Z15: 2025 Published BPF Conversion Factors
C16: =Calculator!W15 -> Group | D16: =Calculator!X15 -> 0A | E16: =Calculator!Y15 -> 0B | F16: =Calculator!Z15 -> 1A | G16: =Calculator!AA15 -> 1B | H16: =Calculator!AB15 -> 2A | I16: =Calculator!AC15 -> 2B | J16: =Calculator!AD15 -> 3A | ... V16: =Calculator!AP15 -> 8
C17: =Calculator!W16 -> Apartment | D17: =Calculator!X16 -> 0.60830016 | E17: =Calculator!Y16 -> 0.5674304 | F17: =Calculator!Z16 -> 0.59831723 | G17: =Calculator!AA16 -> 0.57392467 | H17: =Calculator!AB16 -> 0.5922107 | I17: =Calculator!AC16 -> 0.56924312 | J17: =Calculator!AD16 -> 0.57886038 | ... V17: =Calculator!AP16 -> 0.59497086 | Z17: Elec Cost | AB17: 0.1122 | AC17: $/site kWh
C18: =Calculator!W17 -> Medical | D18: =Calculator!X17 -> 0.59822892 | E18: =Calculator!Y17 -> 0.58599296 | F18: =Calculator!Z17 -> 0.58811046 | G18: =Calculator!AA17 -> 0.59528133 | H18: =Calculator!AB17 -> 0.59942768 | I18: =Calculator!AC17 -> 0.59739762 | J18: =Calculator!AD17 -> 0.58155714 | ... V18: =Calculator!AP17 -> 0.57092081 | Z18: Elec Emissions | AB18: 0.471 | AC18: lb/site kWh
C19: =Calculator!W18 -> Hotel | D19: =Calculator!X18 -> 0.58032815 | E19: =Calculator!Y18 -> 0.56469455 | F19: =Calculator!Z18 -> 0.57489433 | G19: =Calculator!AA18 -> 0.55829509 | H19: =Calculator!AB18 -> 0.55422548 | I19: =Calculator!AC18 -> 0.5351346 | J19: =Calculator!AD18 -> 0.539122 | ... V19: =Calculator!AP18 -> 0.52732168 | Z19: Elec Source | AB19: 8.27 | AC19: source kBtu/site kWh
C20: =Calculator!W19 -> Office | D20: =Calculator!X19 -> 0.42809668 | E20: =Calculator!Y19 -> 0.41775895 | F20: =Calculator!Z19 -> 0.40318725 | G20: =Calculator!AA19 -> 0.40588782 | H20: =Calculator!AB19 -> 0.36917359 | I20: =Calculator!AC19 -> 0.38780983 | J20: =Calculator!AD19 -> 0.36818607 | ... V20: =Calculator!AP19 -> 0.38731261 | Z20: Gas Cost | AB20: 0.838 | AC20: $/therm
C21: =Calculator!W20 -> Food.Svc | D21: =Calculator!X20 -> 0.57392561 | E21: =Calculator!Y20 -> 0.55238265 | F21: =Calculator!Z20 -> 0.55758768 | G21: =Calculator!AA20 -> 0.55007887 | H21: =Calculator!AB20 -> 0.54991375 | I21: =Calculator!AC20 -> 0.54668999 | J21: =Calculator!AD20 -> 0.58345725 | ... V21: =Calculator!AP20 -> 0.6701515 | Z21: Gas Emissions | AB21: 14.7 | AC21: lb/therm
C22: =Calculator!W21 -> Retail | D22: =Calculator!X21 -> 0.41484224 | E22: =Calculator!Y21 -> 0.39993622 | F22: =Calculator!Z21 -> 0.37534267 | G22: =Calculator!AA21 -> 0.38788826 | H22: =Calculator!AB21 -> 0.3345147 | I22: =Calculator!AC21 -> 0.34277264 | J22: =Calculator!AD21 -> 0.33517798 | ... V22: =Calculator!AP21 -> 0.41331592 | Z22: Gas Source | AB22: 123 | AC22: source kBtu/therm
C23: =Calculator!W22 -> School | D23: =Calculator!X22 -> 0.4452374 | E23: =Calculator!Y22 -> 0.44557141 | F23: =Calculator!Z22 -> 0.42915493 | G23: =Calculator!AA22 -> 0.4388681 | H23: =Calculator!AB22 -> 0.40866183 | I23: =Calculator!AC22 -> 0.42879048 | J23: =Calculator!AD22 -> 0.4301878 | ... V23: =Calculator!AP22 -> 0.41404286
C24: =Calculator!W23 -> Warehouse | D24: =Calculator!X23 -> 0.23825438 | E24: =Calculator!Y23 -> 0.25399988 | F24: =Calculator!Z23 -> 0.21326239 | G24: =Calculator!AA23 -> 0.23873251 | H24: =Calculator!AB23 -> 0.20128086 | I24: =Calculator!AC23 -> 0.21491021 | J24: =Calculator!AD23 -> 0.23806338 | ... V24: =Calculator!AP23 -> 0.32447193
C25: =Calculator!W24 -> Other | D25: =Calculator!X24 -> 0.5267961 | E25: =Calculator!Y24 -> 0.51009994 | F25: =Calculator!Z24 -> 0.50096199 | G25: =Calculator!AA24 -> 0.50666373 | H25: =Calculator!AB24 -> 0.4381222 | I25: =Calculator!AC24 -> 0.42179708 | J25: =Calculator!AD24 -> 0.43039219 | ... V25: =Calculator!AP24 -> 0.46924894
C27: =Calculator!W29 -> BPF_Source | Z27: The BPF Calculator includes a special feature that compares 2 different tables of BPF values. Select the arrow to navigate to the BPF Compare Tool.
C28: =Calculator!W30 -> Group | D28: =Calculator!X30 -> 0A | E28: =Calculator!Y30 -> 0B | F28: =Calculator!Z30 -> 1A | G28: =Calculator!AA30 -> 1B | H28: =Calculator!AB30 -> 2A | I28: =Calculator!AC30 -> 2B | J28: =Calculator!AD30 -> 3A | ... V28: =Calculator!AP30 -> 8
C29: =Calculator!W31 -> Apartment | D29: =Calculator!X31 -> 0.62 | E29: =Calculator!Y31 -> 0.58 | F29: =Calculator!Z31 -> 0.61 | G29: =Calculator!AA31 -> 0.59 | H29: =Calculator!AB31 -> 0.6 | I29: =Calculator!AC31 -> 0.58 | J29: =Calculator!AD31 -> 0.6 | ... V29: =Calculator!AP31 -> 0.57
C30: =Calculator!W32 -> Medical | D30: =Calculator!X32 -> 0.58 | E30: =Calculator!Y32 -> 0.57 | F30: =Calculator!Z32 -> 0.57 | G30: =Calculator!AA32 -> 0.58 | H30: =Calculator!AB32 -> 0.58 | I30: =Calculator!AC32 -> 0.58 | J30: =Calculator!AD32 -> 0.56 | ... V30: =Calculator!AP32 -> 0.57
C31: =Calculator!W33 -> Hotel | D31: =Calculator!X33 -> 0.59 | E31: =Calculator!Y33 -> 0.57 | F31: =Calculator!Z33 -> 0.59 | G31: =Calculator!AA33 -> 0.57 | H31: =Calculator!AB33 -> 0.57 | I31: =Calculator!AC33 -> 0.55 | J31: =Calculator!AD33 -> 0.56 | ... V31: =Calculator!AP33 -> 0.54
C32: =Calculator!W34 -> Office | D32: =Calculator!X34 -> 0.43 | E32: =Calculator!Y34 -> 0.42 | F32: =Calculator!Z34 -> 0.4 | G32: =Calculator!AA34 -> 0.41 | H32: =Calculator!AB34 -> 0.37 | I32: =Calculator!AC34 -> 0.39 | J32: =Calculator!AD34 -> 0.37 | ... V32: =Calculator!AP34 -> 0.41
C33: =Calculator!W35 -> Food.Svc | D33: =Calculator!X35 -> 0.58 | E33: =Calculator!Y35 -> 0.56 | F33: =Calculator!Z35 -> 0.57 | G33: =Calculator!AA35 -> 0.56 | H33: =Calculator!AB35 -> 0.56 | I33: =Calculator!AC35 -> 0.56 | J33: =Calculator!AD35 -> 0.6 | ... V33: =Calculator!AP35 -> 0.73
C34: =Calculator!W36 -> Retail | D34: =Calculator!X36 -> 0.41 | E34: =Calculator!Y36 -> 0.4 | F34: =Calculator!Z36 -> 0.38 | G34: =Calculator!AA36 -> 0.39 | H34: =Calculator!AB36 -> 0.33 | I34: =Calculator!AC36 -> 0.34 | J34: =Calculator!AD36 -> 0.34 | ... V34: =Calculator!AP36 -> 0.45
C35: =Calculator!W37 -> School | D35: =Calculator!X37 -> 0.45 | E35: =Calculator!Y37 -> 0.45 | F35: =Calculator!Z37 -> 0.43 | G35: =Calculator!AA37 -> 0.44 | H35: =Calculator!AB37 -> 0.41 | I35: =Calculator!AC37 -> 0.43 | J35: =Calculator!AD37 -> 0.43 | ... V35: =Calculator!AP37 -> 0.43
C36: =Calculator!W38 -> Warehouse | D36: =Calculator!X38 -> 0.24 | E36: =Calculator!Y38 -> 0.25 | F36: =Calculator!Z38 -> 0.21 | G36: =Calculator!AA38 -> 0.24 | H36: =Calculator!AB38 -> 0.2 | I36: =Calculator!AC38 -> 0.21 | J36: =Calculator!AD38 -> 0.24 | ... V36: =Calculator!AP38 -> 0.4
C37: =Calculator!W39 -> Other | D37: =Calculator!X39 -> 0.53 | E37: =Calculator!Y39 -> 0.51 | F37: =Calculator!Z39 -> 0.51 | G37: =Calculator!AA39 -> 0.51 | H37: =Calculator!AB39 -> 0.44 | I37: =Calculator!AC39 -> 0.43 | J37: =Calculator!AD39 -> 0.44 | ... V37: =Calculator!AP39 -> 0.5
C39: =Calculator!W44 -> BPF_Emissions
C40: =Calculator!W45 -> Group | D40: =Calculator!X45 -> 0A | E40: =Calculator!Y45 -> 0B | F40: =Calculator!Z45 -> 1A | G40: =Calculator!AA45 -> 1B | H40: =Calculator!AB45 -> 2A | I40: =Calculator!AC45 -> 2B | J40: =Calculator!AD45 -> 3A | ... V40: =Calculator!AP45 -> 8
C41: =Calculator!W46 -> Apartment | D41: =Calculator!X46 -> 0.63 | E41: =Calculator!Y46 -> 0.59 | F41: =Calculator!Z46 -> 0.63 | G41: =Calculator!AA46 -> 0.61 | H41: =Calculator!AB46 -> 0.63 | I41: =Calculator!AC46 -> 0.61 | J41: =Calculator!AD46 -> 0.62 | ... V41: =Calculator!AP46 -> 0.56
C42: =Calculator!W47 -> Medical | D42: =Calculator!X47 -> 0.54 | E42: =Calculator!Y47 -> 0.53 | F42: =Calculator!Z47 -> 0.53 | G42: =Calculator!AA47 -> 0.54 | H42: =Calculator!AB47 -> 0.54 | I42: =Calculator!AC47 -> 0.54 | J42: =Calculator!AD47 -> 0.53 | ... V42: =Calculator!AP47 -> 0.57
C43: =Calculator!W48 -> Hotel | D43: =Calculator!X48 -> 0.6 | E43: =Calculator!Y48 -> 0.59 | F43: =Calculator!Z48 -> 0.61 | G43: =Calculator!AA48 -> 0.59 | H43: =Calculator!AB48 -> 0.59 | I43: =Calculator!AC48 -> 0.58 | J43: =Calculator!AD48 -> 0.59 | ... V43: =Calculator!AP48 -> 0.56
C44: =Calculator!W49 -> Office | D44: =Calculator!X49 -> 0.43 | E44: =Calculator!Y49 -> 0.42 | F44: =Calculator!Z49 -> 0.4 | G44: =Calculator!AA49 -> 0.41 | H44: =Calculator!AB49 -> 0.37 | I44: =Calculator!AC49 -> 0.39 | J44: =Calculator!AD49 -> 0.37 | ... V44: =Calculator!AP49 -> 0.43
C45: =Calculator!W50 -> Food.Svc | D45: =Calculator!X50 -> 0.59 | E45: =Calculator!Y50 -> 0.57 | F45: =Calculator!Z50 -> 0.59 | G45: =Calculator!AA50 -> 0.58 | H45: =Calculator!AB50 -> 0.58 | I45: =Calculator!AC50 -> 0.58 | J45: =Calculator!AD50 -> 0.62 | ... V45: =Calculator!AP50 -> 0.78
C46: =Calculator!W51 -> Retail | D46: =Calculator!X51 -> 0.41 | E46: =Calculator!Y51 -> 0.4 | F46: =Calculator!Z51 -> 0.38 | G46: =Calculator!AA51 -> 0.39 | H46: =Calculator!AB51 -> 0.33 | I46: =Calculator!AC51 -> 0.34 | J46: =Calculator!AD51 -> 0.34 | ... V46: =Calculator!AP51 -> 0.5
C47: =Calculator!W52 -> School | D47: =Calculator!X52 -> 0.45 | E47: =Calculator!Y52 -> 0.45 | F47: =Calculator!Z52 -> 0.43 | G47: =Calculator!AA52 -> 0.44 | H47: =Calculator!AB52 -> 0.42 | I47: =Calculator!AC52 -> 0.44 | J47: =Calculator!AD52 -> 0.44 | ... V47: =Calculator!AP52 -> 0.44
...

Sheet Calculator
AT1: Code Year Options | AU1: Coefficent Tables | AY1: Code Year Options | AZ1: Elec_Cost | BA1: Gas_Cost | BB1: Elec_Source | BC1: Gas_Source | BD1: Elec_Emissions | BE1: Gas_Emissions | BG1: BPF Approach
AT2: 90.1-2025 | AU2: A_2025_v4 | AV2: B_2025_v4 | AW2: C_2025_v4 | AY2: 90.1-2025 | AZ2: 0.1122 | BA2: 0.8381 | BB2: 8.27 | BC2: 123 | BD2: 0.471 | BE2: 14.7 | BG2: ='BPF Calculator'!J9 -> As Published
J3: Code Year | K3: =codeyear&$BG$3 -> 90.1-2025_Pub | AT3: 90.1-2025_Pub | AU3: A_2025_v4 | AV3: B_2025_v4 | AW3: C_2025_v4 | BG3: =IF(BG2="Custom BPF - using Final PNNL coefficents","","_Pub") -> _Pub | BH3: <<----DO NOT Delete formula
J4: Coeff Tables | BG4: =IF(AND(BG2="As Published",codeyear="90.1-2019",ElecCost=AZ3,gascost=BA3),"AP2019",IF(AND(BG2="As Published", codeyear="90.1-2016",ElecCost=AZ2,gascost=BA2),"AP2016","1")) -> 1
K5: Electricity
J6: Cost | K6: {=IF($BG$2="As Published",INDIRECT("AZ"&MATCH(codeyear,Code_years)+1)/3.412,ElecCost/3.412)} -> 0.032883939 | L6: $/site kBtu
J7: Emissions | K7: {=IF($BG$2="As Published",INDIRECT("BD"&MATCH(codeyear,Code_years)+1)/3.412,ElecCarbon/3.412)} -> 0.1380422 | L7: lb/site kBtu
J8: Source | K8: {=IF($BG$2="As Published",INDIRECT("BB"&MATCH(codeyear,Code_years)+1)/3.412,elecsource/3.412)} -> 2.4237984 | L8: source kBtu/site kBtu
K9: Natural Gas
J10: Cost | K10: {=IF($BG$2="As Published",INDIRECT("BA"&MATCH(codeyear,Code_years,0)+1)/100,gascost/100)} -> 0.008381 | L10: $/site kBtu
J11: Emissions | K11: {=IF($BG$2="As Published",INDIRECT("BE"&MATCH(codeyear,Code_years,0)+1)/100,gascarbon/100)} -> 0.147 | L11: lb/site kBtu
J12: Source | K12: {=IF($BG$2="As Published",INDIRECT("BC"&MATCH(codeyear,Code_years,0)+1)/100,gassource/100)} -> 1.23 | L12: source kBtu/site kBtu
B14: Coefficient A | C14: Proposed Gas/Proposed Electric | W14: BPF_Cost
B15: Group | C15: 0A | D15: 0B | E15: 1A | F15: 1B | G15: 2A | H15: 2B | I15: 3A | J15: 3B | K15: 3C | L15: 4A | M15: 4B | N15: 4C | O15: 5A | P15: 5B | Q15: 5C | R15: 6A | S15: 6B | T15: 7 | U15: 8 | W15: Group | X15: 0A | Y15: 0B | Z15: 1A | AA15: 1B | AB15: 2A | AC15: 2B | AD15: 3A | AE15: 3B | AF15: 3C | AG15: 4A | AH15: 4B | AI15: 4C | AJ15: 5A | AK15: 5B | AL15: 5C | AM15: 6A | AN15: 6B | AO15: 7 | AP15: 8
B16: Apartment | C16: 0.28356776 | D16: 0.30282915 | E16: 0.38974106 | F16: 0.37292333 | G16: 0.47444915 | H16: 0.49059014 | I16: 0.62695401 | J16: 0.63429999 | K16: 1.0808421 | L16: 1.0421316 | M16: 0.77319704 | N16: 1.1797492 | O16: 1.3480037 | P16: 0.97555799 | Q16: 1.1856754 | R16: 1.5460141 | S16: 1.3411304 | T16: 1.7460906 | U16: 2.1242863 | W16: Apartment | X16: =IF($K$3="90.1-2016_Pub",(($K$6+C16*$K$10)/(C31*$K$6+C45*$K$10))-0.05,(($K$6+C16*$K$10)/(C31*$K$6+C45*$K$10))) -> 0.60830016 | Y16: =IF($K$3="90.1-2016_Pub",(($K$6+D16*$K$10)/(D31*$K$6+D45*$K$10))-0.05,(($K$6+D16*$K$10)/(D31*$K$6+D45*$K$10))) -> 0.5674304 | Z16: =IF($K$3="90.1-2016_Pub",(($K$6+E16*$K$10)/(E31*$K$6+E45*$K$10))-0.05,(($K$6+E16*$K$10)/(E31*$K$6+E45*$K$10))) -> 0.59831723 | AA16: =IF($K$3="90.1-2016_Pub",(($K$6+F16*$K$10)/(F31*$K$6+F45*$K$10))-0.05,(($K$6+F16*$K$10)/(F31*$K$6+F45*$K$10))) -> 0.57392467 | AB16: =IF($K$3="90.1-2016_Pub",(($K$6+G16*$K$10)/(G31*$K$6+G45*$K$10))-0.05,(($K$6+G16*$K$10)/(G31*$K$6+G45*$K$10))) -> 0.5922107 | AC16: =IF($K$3="90.1-2016_Pub",(($K$6+H16*$K$10)/(H31*$K$6+H45*$K$10))-0.05,(($K$6+H16*$K$10)/(H31*$K$6+H45*$K$10))) -> 0.56924312 | AD16: =IF($K$3="90.1-2016_Pub",(($K$6+I16*$K$10)/(I31*$K$6+I45*$K$10))-0.05,(($K$6+I16*$K$10)/(I31*$K$6+I45*$K$10))) -> 0.57886038 | AE16: =IF($K$3="90.1-2016_Pub",(($K$6+J16*$K$10)/(J31*$K$6+J45*$K$10))-0.05,(($K$6+J16*$K$10)/(J31*$K$6+J45*$K$10))) -> 0.57884884 | ... AP16: =IF($K$3="90.1-2016_Pub",(($K$6+U16*$K$10)/(U31*$K$6+U45*$K$10))-0.05,(($K$6+U16*$K$10)/(U31*$K$6+U45*$K$10))) -> 0.59497086
B17: Medical | C17: 0.030036194 | D17: 0.036765882 | E17: 0.041473787 | F17: 0.043474261 | G17: 0.049566303 | H17: 0.049361569 | I17: 0.07560525 | J17: 0.13328546 | K17: 0.14669184 | L17: 0.24557055 | M17: 0.15589063 | N17: 0.25390146 | O17: 0.32208482 | P17: 0.23910897 | Q17: 0.59452235 | R17: 0.44450595 | S17: 0.57533898 | T17: 0.88938057 | U17: 1.1949212 | W17: Medical | X17: =IF($K$3="90.1-2016_Pub",(($K$6+C17*$K$10)/(C32*$K$6+C46*$K$10))-0.05,(($K$6+C17*$K$10)/(C32*$K$6+C46*$K$10))) -> 0.59822892 | Y17: =IF($K$3="90.1-2016_Pub",(($K$6+D17*$K$10)/(D32*$K$6+D46*$K$10))-0.05,(($K$6+D17*$K$10)/(D32*$K$6+D46*$K$10))) -> 0.58599296 | Z17: =IF($K$3="90.1-2016_Pub",(($K$6+E17*$K$10)/(E32*$K$6+E46*$K$10))-0.05,(($K$6+E17*$K$10)/(E32*$K$6+E46*$K$10))) -> 0.58811046 | AA17: =IF($K$3="90.1-2016_Pub",(($K$6+F17*$K$10)/(F32*$K$6+F46*$K$10))-0.05,(($K$6+F17*$K$10)/(F32*$K$6+F46*$K$10))) -> 0.59528133 | AB17: =IF($K$3="90.1-2016_Pub",(($K$6+G17*$K$10)/(G32*$K$6+G46*$K$10))-0.05,(($K$6+G17*$K$10)/(G32*$K$6+G46*$K$10))) -> 0.59942768 | AC17: =IF($K$3="90.1-2016_Pub",(($K$6+H17*$K$10)/(H32*$K$6+H46*$K$10))-0.05,(($K$6+H17*$K$10)/(H32*$K$6+H46*$K$10))) -> 0.59739762 | AD17: =IF($K$3="90.1-2016_Pub",(($K$6+I17*$K$10)/(I32*$K$6+I46*$K$10))-0.05,(($K$6+I17*$K$10)/(I32*$K$6+I46*$K$10))) -> 0.58155714 | AE17: =IF($K$3="90.1-2016_Pub",(($K$6+J17*$K$10)/(J32*$K$6+J46*$K$10))-0.05,(($K$6+J17*$K$10)/(J32*$K$6+J46*$K$10))) -> 0.58667101 | ... AP17: =IF($K$3="90.1-2016_Pub",(($K$6+U17*$K$10)/(U32*$K$6+U46*$K$10))-0.05,(($K$6+U17*$K$10)/(U32*$K$6+U46*$K$10))) -> 0.57092081
B18: Hotel | C18: 0.31413598 | D18: 0.33418135 | E18: 0.40360805 | F18: 0.39612538 | G18: 0.4752064 | H18: 0.5348428 | I18: 0.62055712 | J18: 0.71621145 | K18: 0.83927746 | L18: 0.99961611 | M18: 0.9306795 | N18: 1.1937751 | O18: 1.2330211 | P18: 1.1399877 | Q18: 1.3144788 | R18: 1.4425963 | S18: 1.4359058 | T18: 1.8056599 | U18: 2.4081416 | W18: Hotel | X18: =IF($K$3="90.1-2016_Pub",(($K$6+C18*$K$10)/(C33*$K$6+C47*$K$10))-0.05,(($K$6+C18*$K$10)/(C33*$K$6+C47*$K$10))) -> 0.58032815 | Y18: =IF($K$3="90.1-2016_Pub",(($K$6+D18*$K$10)/(D33*$K$6+D47*$K$10))-0.05,(($K$6+D18*$K$10)/(D33*$K$6+D47*$K$10))) -> 0.56469455 | Z18: =IF($K$3="90.1-2016_Pub",(($K$6+E18*$K$10)/(E33*$K$6+E47*$K$10))-0.05,(($K$6+E18*$K$10)/(E33*$K$6+E47*$K$10))) -> 0.57489433 | AA18: =IF($K$3="90.1-2016_Pub",(($K$6+F18*$K$10)/(F33*$K$6+F47*$K$10))-0.05,(($K$6+F18*$K$10)/(F33*$K$6+F47*$K$10))) -> 0.55829509 | AB18: =IF($K$3="90.1-2016_Pub",(($K$6+G18*$K$10)/(G33*$K$6+G47*$K$10))-0.05,(($K$6+G18*$K$10)/(G33*$K$6+G47*$K$10))) -> 0.55422548 | AC18: =IF($K$3="90.1-2016_Pub",(($K$6+H18*$K$10)/(H33*$K$6+H47*$K$10))-0.05,(($K$6+H18*$K$10)/(H33*$K$6+H47*$K$10))) -> 0.5351346 | AD18: =IF($K$3="90.1-2016_Pub",(($K$6+I18*$K$10)/(I33*$K$6+I47*$K$10))-0.05,(($K$6+I18*$K$10)/(I33*$K$6+I47*$K$10))) -> 0.539122 | AE18: =IF($K$3="90.1-2016_Pub",(($K$6+J18*$K$10)/(J33*$K$6+J47*$K$10))-0.05,(($K$6+J18*$K$10)/(J33*$K$6+J47*$K$10))) -> 0.54386455 | ... AP18: =IF($K$3="90.1-2016_Pub",(($K$6+U18*$K$10)/(U33*$K$6+U47*$K$10))-0.05,(($K$6+U18*$K$10)/(U33*$K$6+U47*$K$10))) -> 0.52732168
B19: Office | C19: 0 | D19: 0 | E19: 0 | F19: 0 | G19: 0 | H19: 0 | I19: 0 | J19: 0.072655725 | K19: 0.019186048 | L19: 0.34962384 | M19: 0.14399537 | N19: 0.33134678 | O19: 0.56189295 | P19: 0.35106455 | Q19: 0.3819259 | R19: 0.94225983 | S19: 0.67471407 | T19: 0.89358113 | U19: 1.4042123 | W19: Office | X19: =IF($K$3="90.1-2016_Pub",(($K$6+C19*$K$10)/(C34*$K$6+C48*$K$10))-0.05,(($K$6+C19*$K$10)/(C34*$K$6+C48*$K$10))) -> 0.42809668 | Y19: =IF($K$3="90.1-2016_Pub",(($K$6+D19*$K$10)/(D34*$K$6+D48*$K$10))-0.05,(($K$6+D19*$K$10)/(D34*$K$6+D48*$K$10))) -> 0.41775895 | Z19: =IF($K$3="90.1-2016_Pub",(($K$6+E19*$K$10)/(E34*$K$6+E48*$K$10))-0.05,(($K$6+E19*$K$10)/(E34*$K$6+E48*$K$10))) -> 0.40318725 | AA19: =IF($K$3="90.1-2016_Pub",(($K$6+F19*$K$10)/(F34*$K$6+F48*$K$10))-0.05,(($K$6+F19*$K$10)/(F34*$K$6+F48*$K$10))) -> 0.40588782 | AB19: =IF($K$3="90.1-2016_Pub",(($K$6+G19*$K$10)/(G34*$K$6+G48*$K$10))-0.05,(($K$6+G19*$K$10)/(G34*$K$6+G48*$K$10))) -> 0.36917359 | AC19: =IF($K$3="90.1-2016_Pub",(($K$6+H19*$K$10)/(H34*$K$6+H48*$K$10))-0.05,(($K$6+H19*$K$10)/(H34*$K$6+H48*$K$10))) -> 0.38780983 | AD19: =IF($K$3="90.1-2016_Pub",(($K$6+I19*$K$10)/(I34*$K$6+I48*$K$10))-0.05,(($K$6+I19*$K$10)/(I34*$K$6+I48*$K$10))) -> 0.36818607 | AE19: =IF($K$3="90.1-2016_Pub",(($K$6+J19*$K$10)/(J34*$K$6+J48*$K$10))-0.05,(($K$6+J19*$K$10)/(J34*$K$6+J48*$K$10))) -> 0.38306884 | ... AP19: =IF($K$3="90.1-2016_Pub",(($K$6+U19*$K$10)/(U34*$K$6+U48*$K$10))-0.05,(($K$6+U19*$K$10)/(U34*$K$6+U48*$K$10))) -> 0.38731261
B20: Food.Svc | C20: 0.26590887 | D20: 0.28647744 | E20: 0.37618635 | F20: 0.35216134 | G20: 0.44351123 | H20: 0.48176149 | I20: 0.54917824 | J20: 0.88743484 | K20: 0.95215054 | L20: 1.9828618 | M20: 1.3564564 | N20: 2.0052202 | O20: 2.8683755 | P20: 1.9668086 | Q20: 2.3745091 | R20: 3.6028823 | S20: 2.9743701 | T20: 4.6381599 | U20: 6.6050576 | W20: Food.Svc | X20: =IF($K$3="90.1-2016_Pub",(($K$6+C20*$K$10)/(C35*$K$6+C49*$K$10))-0.05,(($K$6+C20*$K$10)/(C35*$K$6+C49*$K$10))) -> 0.57392561 | Y20: =IF($K$3="90.1-2016_Pub",(($K$6+D20*$K$10)/(D35*$K$6+D49*$K$10))-0.05,(($K$6+D20*$K$10)/(D35*$K$6+D49*$K$10))) -> 0.55238265 | Z20: =IF($K$3="90.1-2016_Pub",(($K$6+E20*$K$10)/(E35*$K$6+E49*$K$10))-0.05,(($K$6+E20*$K$10)/(E35*$K$6+E49*$K$10))) -> 0.55758768 | AA20: =IF($K$3="90.1-2016_Pub",(($K$6+F20*$K$10)/(F35*$K$6+F49*$K$10))-0.05,(($K$6+F20*$K$10)/(F35*$K$6+F49*$K$10))) -> 0.55007887 | AB20: =IF($K$3="90.1-2016_Pub",(($K$6+G20*$K$10)/(G35*$K$6+G49*$K$10))-0.05,(($K$6+G20*$K$10)/(G35*$K$6+G49*$K$10))) -> 0.54991375 | AC20: =IF($K$3="90.1-2016_Pub",(($K$6+H20*$K$10)/(H35*$K$6+H49*$K$10))-0.05,(($K$6+H20*$K$10)/(H35*$K$6+H49*$K$10))) -> 0.54668999 | AD20: =IF($K$3="90.1-2016_Pub",(($K$6+I20*$K$10)/(I35*$K$6+I49*$K$10))-0.05,(($K$6+I20*$K$10)/(I35*$K$6+I49*$K$10))) -> 0.58345725 | AE20: =IF($K$3="90.1-2016_Pub",(($K$6+J20*$K$10)/(J35*$K$6+J49*$K$10))-0.05,(($K$6+J20*$K$10)/(J35*$K$6+J49*$K$10))) -> 0.5560978 | ... AP20: =IF($K$3="90.1-2016_Pub",(($K$6+U20*$K$10)/(U35*$K$6+U49*$K$10))-0.05,(($K$6+U20*$K$10)/(U35*$K$6+U49*$K$10))) -> 0.6701515
B21: Retail | C21: 0 | D21: 0 | E21: 0 | F21: 0 | G21: 0 | H21: 0 | I21: 0 | J21: 0.078453373 | K21: 0.013392248 | L21: 0.42933717 | M21: 0.19710387 | N21: 0.4297534 | O21: 0.72714377 | P21: 0.45010997 | Q21: 0.51507429 | R21: 1.0189204 | S21: 0.67844926 | T21: 1.2937124 | U21: 2.0003228 | W21: Retail | X21: =IF($K$3="90.1-2016_Pub",(($K$6+C21*$K$10)/(C36*$K$6+C50*$K$10))-0.05,(($K$6+C21*$K$10)/(C36*$K$6+C50*$K$10))) -> 0.41484224 | Y21: =IF($K$3="90.1-2016_Pub",(($K$6+D21*$K$10)/(D36*$K$6+D50*$K$10))-0.05,(($K$6+D21*$K$10)/(D36*$K$6+D50*$K$10))) -> 0.39993622 | Z21: =IF($K$3="90.1-2016_Pub",(($K$6+E21*$K$10)/(E36*$K$6+E50*$K$10))-0.05,(($K$6+E21*$K$10)/(E36*$K$6+E50*$K$10))) -> 0.37534267 | AA21: =IF($K$3="90.1-2016_Pub",(($K$6+F21*$K$10)/(F36*$K$6+F50*$K$10))-0.05,(($K$6+F21*$K$10)/(F36*$K$6+F50*$K$10))) -> 0.38788826 | AB21: =IF($K$3="90.1-2016_Pub",(($K$6+G21*$K$10)/(G36*$K$6+G50*$K$10))-0.05,(($K$6+G21*$K$10)/(G36*$K$6+G50*$K$10))) -> 0.3345147 | AC21: =IF($K$3="90.1-2016_Pub",(($K$6+H21*$K$10)/(H36*$K$6+H50*$K$10))-0.05,(($K$6+H21*$K$10)/(H36*$K$6+H50*$K$10))) -> 0.34277264 | AD21: =IF($K$3="90.1-2016_Pub",(($K$6+I21*$K$10)/(I36*$K$6+I50*$K$10))-0.05,(($K$6+I21*$K$10)/(I36*$K$6+I50*$K$10))) -> 0.33517798 | AE21: =IF($K$3="90.1-2016_Pub",(($K$6+J21*$K$10)/(J36*$K$6+J50*$K$10))-0.05,(($K$6+J21*$K$10)/(J36*$K$6+J50*$K$10))) -> 0.34124199 | ... AP21: =IF($K$3="90.1-2016_Pub",(($K$6+U21*$K$10)/(U36*$K$6+U50*$K$10))-0.05,(($K$6+U21*$K$10)/(U36*$K$6+U50*$K$10))) -> 0.41331592
B22: School | C22: 0.035878043 | D22: 0.041033308 | E22: 0.051978193 | F22: 0.051555707 | G22: 0.063287447 | H22: 0.074819829 | I22: 0.082111284 | J22: 0.19928631 | K22: 0.19605511 | L22: 0.48245175 | M22: 0.37260812 | N22: 0.7272832 | O22: 0.79326333 | P22: 0.81028821 | Q22: 0.77545724 | R22: 1.1303674 | S22: 0.96316311 | T22: 1.5021818 | U22: 2.6132892 | W22: School | X22: =IF($K$3="90.1-2016_Pub",(($K$6+C22*$K$10)/(C37*$K$6+C51*$K$10))-0.05,(($K$6+C22*$K$10)/(C37*$K$6+C51*$K$10))) -> 0.4452374 | Y22: =IF($K$3="90.1-2016_Pub",(($K$6+D22*$K$10)/(D37*$K$6+D51*$K$10))-0.05,(($K$6+D22*$K$10)/(D37*$K$6+D51*$K$10))) -> 0.44557141 | Z22: =IF($K$3="90.1-2016_Pub",(($K$6+E22*$K$10)/(E37*$K$6+E51*$K$10))-0.05,(($K$6+E22*$K$10)/(E37*$K$6+E51*$K$10))) -> 0.42915493 | AA22: =IF($K$3="90.1-2016_Pub",(($K$6+F22*$K$10)/(F37*$K$6+F51*$K$10))-0.05,(($K$6+F22*$K$10)/(F37*$K$6+F51*$K$10))) -> 0.4388681 | AB22: =IF($K$3="90.1-2016_Pub",(($K$6+G22*$K$10)/(G37*$K$6+G51*$K$10))-0.05,(($K$6+G22*$K$10)/(G37*$K$6+G51*$K$10))) -> 0.40866183 | AC22: =IF($K$3="90.1-2016_Pub",(($K$6+H22*$K$10)/(H37*$K$6+H51*$K$10))-0.05,(($K$6+H22*$K$10)/(H37*$K$6+H51*$K$10))) -> 0.42879048 | AD22: =IF($K$3="90.1-2016_Pub",(($K$6+I22*$K$10)/(I37*$K$6+I51*$K$10))-0.05,(($K$6+I22*$K$10)/(I37*$K$6+I51*$K$10))) -> 0.4301878 | AE22: =IF($K$3="90.1-2016_Pub",(($K$6+J22*$K$10)/(J37*$K$6+J51*$K$10))-0.05,(($K$6+J22*$K$10)/(J37*$K$6+J51*$K$10))) -> 0.39296849 | ... AP22: =IF($K$3="90.1-2016_Pub",(($K$6+U22*$K$10)/(U37*$K$6+U51*$K$10))-0.05,(($K$6+U22*$K$10)/(U37*$K$6+U51*$K$10))) -> 0.41404286
B23: Warehouse | C23: 0 | D23: 0 | E23: 0 | F23: 0 | G23: 0 | H23: 0 | I23: 0 | J23: 0.10243546 | K23: 0.0069165037 | L23: 2.3104731 | M23: 0.70169691 | N23: 1.1382789 | O23: 4.3147975 | P23: 1.9585536 | Q23: 1.0915125 | R23: 5.741386 | S23: 3.405062 | T23: 5.485561 | U23: 5.9258118 | W23: Warehouse | X23: =IF($K$3="90.1-2016_Pub",(($K$6+C23*$K$10)/(C38*$K$6+C52*$K$10))-0.05,(($K$6+C23*$K$10)/(C38*$K$6+C52*$K$10))) -> 0.23825438 | Y23: =IF($K$3="90.1-2016_Pub",(($K$6+D23*$K$10)/(D38*$K$6+D52*$K$10))-0.05,(($K$6+D23*$K$10)/(D38*$K$6+D52*$K$10))) -> 0.25399988 | Z23: =IF($K$3="90.1-2016_Pub",(($K$6+E23*$K$10)/(E38*$K$6+E52*$K$10))-0.05,(($K$6+E23*$K$10)/(E38*$K$6+E52*$K$10))) -> 0.21326239 | AA23: =IF($K$3="90.1-2016_Pub",(($K$6+F23*$K$10)/(F38*$K$6+F52*$K$10))-0.05,(($K$6+F23*$K$10)/(F38*$K$6+F52*$K$10))) -> 0.23873251 | AB23: =IF($K$3="90.1-2016_Pub",(($K$6+G23*$K$10)/(G38*$K$6+G52*$K$10))-0.05,(($K$6+G23*$K$10)/(G38*$K$6+G52*$K$10))) -> 0.20128086 | AC23: =IF($K$3="90.1-2016_Pub",(($K$6+H23*$K$10)/(H38*$K$6+H52*$K$10))-0.05,(($K$6+H23*$K$10)/(H38*$K$6+H52*$K$10))) -> 0.21491021 | AD23: =IF($K$3="90.1-2016_Pub",(($K$6+I23*$K$10)/(I38*$K$6+I52*$K$10))-0.05,(($K$6+I23*$K$10)/(I38*$K$6+I52*$K$10))) -> 0.23806338 | AE23: =IF($K$3="90.1-2016_Pub",(($K$6+J23*$K$10)/(J38*$K$6+J52*$K$10))-0.05,(($K$6+J23*$K$10)/(J38*$K$6+J52*$K$10))) -> 0.20517909 | ... AP23: =IF($K$3="90.1-2016_Pub",(($K$6+U23*$K$10)/(U38*$K$6+U52*$K$10))-0.05,(($K$6+U23*$K$10)/(U38*$K$6+U52*$K$10))) -> 0.32447193
B24: Other | C24: 0.1636861 | D24: 0.17556772 | E24: 0.21323004 | F24: 0.21327913 | G24: 0.17346646 | H24: 0.15159782 | I24: 0.19642012 | J24: 0.33453078 | K24: 0.43464773 | L24: 0.7309363 | M24: 0.4372996 | N24: 0.80404526 | O24: 1.0418224 | P24: 0.77874006 | Q24: 0.81018314 | R24: 1.2946224 | S24: 1.0716699 | T24: 1.5462533 | U24: 2.3180412 | W24: Other | X24: =IF($K$3="90.1-2016_Pub",(($K$6+C24*$K$10)/(C39*$K$6+C53*$K$10))-0.05,(($K$6+C24*$K$10)/(C39*$K$6+C53*$K$10))) -> 0.5267961 | Y24: =IF($K$3="90.1-2016_Pub",(($K$6+D24*$K$10)/(D39*$K$6+D53*$K$10))-0.05,(($K$6+D24*$K$10)/(D39*$K$6+D53*$K$10))) -> 0.51009994 | Z24: =IF($K$3="90.1-2016_Pub",(($K$6+E24*$K$10)/(E39*$K$6+E53*$K$10))-0.05,(($K$6+E24*$K$10)/(E39*$K$6+E53*$K$10))) -> 0.50096199 | AA24: =IF($K$3="90.1-2016_Pub",(($K$6+F24*$K$10)/(F39*$K$6+F53*$K$10))-0.05,(($K$6+F24*$K$10)/(F39*$K$6+F53*$K$10))) -> 0.50666373 | AB24: =IF($K$3="90.1-2016_Pub",(($K$6+G24*$K$10)/(G39*$K$6+G53*$K$10))-0.05,(($K$6+G24*$K$10)/(G39*$K$6+G53*$K$10))) -> 0.4381222 | AC24: =IF($K$3="90.1-2016_Pub",(($K$6+H24*$K$10)/(H39*$K$6+H53*$K$10))-0.05,(($K$6+H24*$K$10)/(H39*$K$6+H53*$K$10))) -> 0.42179708 | AD24: =IF($K$3="90.1-2016_Pub",(($K$6+I24*$K$10)/(I39*$K$6+I53*$K$10))-0.05,(($K$6+I24*$K$10)/(I39*$K$6+I53*$K$10))) -> 0.43039219 | AE24: =IF($K$3="90.1-2016_Pub",(($K$6+J24*$K$10)/(J39*$K$6+J53*$K$10))-0.05,(($K$6+J24*$K$10)/(J39*$K$6+J53*$K$10))) -> 0.42109154 | ... AP24: =IF($K$3="90.1-2016_Pub",(($K$6+U24*$K$10)/(U39*$K$6+U53*$K$10))-0.05,(($K$6+U24*$K$10)/(U39*$K$6+U53*$K$10))) -> 0.46924894
B29: Coefficient B | C29: Baseline Electric/Proposed Electric | W29: BPF_Source
B30: Group | C30: 0A | D30: 0B | E30: 1A | F30: 1B | G30: 2A | H30: 2B | I30: 3A | J30: 3B | K30: 3C | L30: 4A | M30: 4B | N30: 4C | O30: 5A | P30: 5B | Q30: 5C | R30: 6A | S30: 6B | T30: 7 | U30: 8 | W30: Group | X30: 0A | Y30: 0B | Z30: 1A | AA30: 1B | AB30: 2A | AC30: 2B | AD30: 3A | AE30: 3B | AF30: 3C | AG30: 4A | AH30: 4B | AI30: 4C | AJ30: 5A | AK30: 5B | AL30: 5C | AM30: 6A | AN30: 6B | AO30: 7 | AP30: 8
B31: Apartment | C31: 1.6670147 | D31: 1.796127 | E31: 1.7057742 | F31: 1.7820766 | G31: 1.7325351 | H31: 1.810675 | I31: 1.7917846 | J31: 1.7817799 | K31: 2.3962866 | L31: 1.7965158 | M31: 1.7853125 | N31: 1.8507026 | O31: 1.7762385 | P31: 1.7881592 | Q31: 1.7747584 | R31: 1.8192476 | S31: 1.8374615 | T31: 1.7776693 | U31: 1.5582582 | W31: Apartment | X31: =ROUND(IF($K$3="90.1-2016_Pub",(($K$8+C16*$K$12)/(C31*$K$8+C45*$K$12))-0.05,(($K$8+C16*$K$12)/(C31*$K$8+C45*$K$12))),2) -> 0.62 | Y31: =ROUND(IF($K$3="90.1-2016_Pub",(($K$8+D16*$K$12)/(D31*$K$8+D45*$K$12))-0.05,(($K$8+D16*$K$12)/(D31*$K$8+D45*$K$12))),2) -> 0.58 | Z31: =ROUND(IF($K$3="90.1-2016_Pub",(($K$8+E16*$K$12)/(E31*$K$8+E45*$K$12))-0.05,(($K$8+E16*$K$12)/(E31*$K$8+E45*$K$12))),2) -> 0.61 | AA31: =ROUND(IF($K$3="90.1-2016_Pub",(($K$8+F16*$K$12)/(F31*$K$8+F45*$K$12))-0.05,(($K$8+F16*$K$12)/(F31*$K$8+F45*$K$12))),2) -> 0.59 | AB31: =ROUND(IF($K$3="90.1-2016_Pub",(($K$8+G16*$K$12)/(G31*$K$8+G45*$K$12))-0.05,(($K$8+G16*$K$12)/(G31*$K$8+G45*$K$12))),2) -> 0.6 | AC31: =ROUND(IF($K$3="90.1-2016_Pub",(($K$8+H16*$K$12)/(H31*$K$8+H45*$K$12))-0.05,(($K$8+H16*$K$12)/(H31*$K$8+H45*$K$12))),2) -> 0.58 | AD31: =ROUND(IF($K$3="90.1-2016_Pub",(($K$8+I16*$K$12)/(I31*$K$8+I45*$K$12))-0.05,(($K$8+I16*$K$12)/(I31*$K$8+I45*$K$12))),2) -> 0.6 | AE31: =ROUND(IF($K$3="90.1-2016_Pub",(($K$8+J16*$K$12)/(J31*$K$8+J45*$K$12))-0.05,(($K$8+J16*$K$12)/(J31*$K$8+J45*$K$12))),2) -> 0.59 | ... AP31: =ROUND(IF($K$3="90.1-2016_Pub",(($K$8+U16*$K$12)/(U31*$K$8+U45*$K$12))-0.05,(($K$8+U16*$K$12)/(U31*$K$8+U45*$K$12))),2) -> 0.57
B32: Medical | C32: 1.615197 | D32: 1.642233 | E32: 1.6355328 | F32: 1.6206487 | G32: 1.6074788 | H32: 1.6198439 | I32: 1.6584609 | J32: 1.6616515 | K32: 1.7391101 | L32: 1.7077093 | M32: 1.6777163 | N32: 1.6405681 | O32: 1.616967 | P32: 1.6873704 | Q32: 1.9099529 | R32: 1.6255443 | S32: 1.8099432 | T32: 1.8016422 | U32: 1.756888 | W32: Medical | X32: =ROUND(IF($K$3="90.1-2016_Pub",(($K$8+C17*$K$12)/(C32*$K$8+C46*$K$12))-0.05,(($K$8+C17*$K$12)/(C32*$K$8+C46*$K$12))),2) -> 0.58 | Y32: =ROUND(IF($K$3="90.1-2016_Pub",(($K$8+D17*$K$12)/(D32*$K$8+D46*$K$12))-0.05,(($K$8+D17*$K$12)/(D32*$K$8+D46*$K$12))),2) -> 0.57 | Z32: =ROUND(IF($K$3="90.1-2016_Pub",(($K$8+E17*$K$12)/(E32*$K$8+E46*$K$12))-0.05,(($K$8+E17*$K$12)/(E32*$K$8+E46*$K$12))),2) -> 0.57 | AA32: =ROUND(IF($K$3="90.1-2016_Pub",(($K$8+F17*$K$12)/(F32*$K$8+F46*$K$12))-0.05,(($K$8+F17*$K$12)/(F32*$K$8+F46*$K$12))),2) -> 0.58 | AB32: =ROUND(IF($K$3="90.1-2016_Pub",(($K$8+G17*$K$12)/(G32*$K$8+G46*$K$12))-0.05,(($K$8+G17*$K$12)/(G32*$K$8+G46*$K$12))),2) -> 0.58 | AC32: =ROUND(IF($K$3="90.1-2016_Pub",(($K$8+H17*$K$12)/(H32*$K$8+H46*$K$12))-0.05,(($K$8+H17*$K$12)/(H32*$K$8+H46*$K$12))),2) -> 0.58 | AD32: =ROUND(IF($K$3="90.1-2016_Pub",(($K$8+I17*$K$12)/(I32*$K$8+I46*$K$12))-0.05,(($K$8+I17*$K$12)/(I32*$K$8+I46*$K$12))),2) -> 0.56 | AE32: =ROUND(IF($K$3="90.1-2016_Pub",(($K$8+J17*$K$12)/(J32*$K$8+J46*$K$12))-0.05,(($K$8+J17*$K$12)/(J32*$K$8+J46*$K$12))),2) -> 0.57 | ... AP32: =ROUND(IF($K$3="90.1-2016_Pub",(($K$8+U17*$K$12)/(U32*$K$8+U46*$K$12))-0.05,(($K$8+U17*$K$12)/(U32*$K$8+U46*$K$12))),2) -> 0.57
B33: Hotel | C33: 1.7519665 | D33: 1.8055664 | E33: 1.7784022 | F33: 1.8346091 | G33: 1.8582719 | H33: 1.9382008 | I33: 1.933927 | J33: 1.9229274 | K33: 2.0153646 | L33: 1.960533 | M33: 2.0052775 | N33: 2.0614452 | O33: 1.9437106 | P33: 2.0049517 | Q33: 2.0394203 | R33: 1.9369888 | S33: 1.9964743 | T33: 1.9865069 | U33: 2.0037679 | W33: Hotel | X33: =ROUND(IF($K$3="90.1-2016_Pub",(($K$8+C18*$K$12)/(C33*$K$8+C47*$K$12))-0.05,(($K$8+C18*$K$12)/(C33*$K$8+C47*$K$12))),2) -> 0.59 | Y33: =ROUND(IF($K$3="90.1-2016_Pub",(($K$8+D18*$K$12)/(D33*$K$8+D47*$K$12))-0.05,(($K$8+D18*$K$12)/(D33*$K$8+D47*$K$12))),2) -> 0.57 | Z33: =ROUND(IF($K$3="90.1-2016_Pub",(($K$8+E18*$K$12)/(E33*$K$8+E47*$K$12))-0.05,(($K$8+E18*$K$12)/(E33*$K$8+E47*$K$12))),2) -> 0.59 | AA33: =ROUND(IF($K$3="90.1-2016_Pub",(($K$8+F18*$K$12)/(F33*$K$8+F47*$K$12))-0.05,(($K$8+F18*$K$12)/(F33*$K$8+F47*$K$12))),2) -> 0.57 | AB33: =ROUND(IF($K$3="90.1-2016_Pub",(($K$8+G18*$K$12)/(G33*$K$8+G47*$K$12))-0.05,(($K$8+G18*$K$12)/(G33*$K$8+G47*$K$12))),2) -> 0.57 | AC33: =ROUND(IF($K$3="90.1-2016_Pub",(($K$8+H18*$K$12)/(H33*$K$8+H47*$K$12))-0.05,(($K$8+H18*$K$12)/(H33*$K$8+H47*$K$12))),2) -> 0.55 | AD33: =ROUND(IF($K$3="90.1-2016_Pub",(($K$8+I18*$K$12)/(I33*$K$8+I47*$K$12))-0.05,(($K$8+I18*$K$12)/(I33*$K$8+I47*$K$12))),2) -> 0.56 | AE33: =ROUND(IF($K$3="90.1-2016_Pub",(($K$8+J18*$K$12)/(J33*$K$8+J47*$K$12))-0.05,(($K$8+J18*$K$12)/(J33*$K$8+J47*$K$12))),2) -> 0.56 | ... AP33: =ROUND(IF($K$3="90.1-2016_Pub",(($K$8+U18*$K$12)/(U33*$K$8+U47*$K$12))-0.05,(($K$8+U18*$K$12)/(U33*$K$8+U47*$K$12))),2) -> 0.54
B34: Office | C34: 2.3359209 | D34: 2.3937249 | E34: 2.4802372 | F34: 2.4637349 | G34: 2.7087528 | H34: 2.5785834 | I34: 2.716018 | J34: 2.6366493 | K34: 2.8535959 | L34: 2.9152508 | M34: 2.7669836 | N34: 2.8727732 | O34: 2.8523946 | P34: 2.8253416 | Q34: 2.8685661 | R34: 2.8752392 | S34: 2.9212547 | T34: 2.9029668 | U34: 2.8005669 | W34: Office | X34: =ROUND(IF($K$3="90.1-2016_Pub",(($K$8+C19*$K$12)/(C34*$K$8+C48*$K$12))-0.05,(($K$8+C19*$K$12)/(C34*$K$8+C48*$K$12))),2) -> 0.43 | Y34: =ROUND(IF($K$3="90.1-2016_Pub",(($K$8+D19*$K$12)/(D34*$K$8+D48*$K$12))-0.05,(($K$8+D19*$K$12)/(D34*$K$8+D48*$K$12))),2) -> 0.42 | Z34: =ROUND(IF($K$3="90.1-2016_Pub",(($K$8+E19*$K$12)/(E34*$K$8+E48*$K$12))-0.05,(($K$8+E19*$K$12)/(E34*$K$8+E48*$K$12))),2) -> 0.4 | AA34: =ROUND(IF($K$3="90.1-2016_Pub",(($K$8+F19*$K$12)/(F34*$K$8+F48*$K$12))-0.05,(($K$8+F19*$K$12)/(F34*$K$8+F48*$K$12))),2) -> 0.41 | AB34: =ROUND(IF($K$3="90.1-2016_Pub",(($K$8+G19*$K$12)/(G34*$K$8+G48*$K$12))-0.05,(($K$8+G19*$K$12)/(G34*$K$8+G48*$K$12))),2) -> 0.37 | AC34: =ROUND(IF($K$3="90.1-2016_Pub",(($K$8+H19*$K$12)/(H34*$K$8+H48*$K$12))-0.05,(($K$8+H19*$K$12)/(H34*$K$8+H48*$K$12))),2) -> 0.39 | AD34: =ROUND(IF($K$3="90.1-2016_Pub",(($K$8+I19*$K$12)/(I34*$K$8+I48*$K$12))-0.05,(($K$8+I19*$K$12)/(I34*$K$8+I48*$K$12))),2) -> 0.37 | AE34: =ROUND(IF($K$3="90.1-2016_Pub",(($K$8+J19*$K$12)/(J34*$K$8+J48*$K$12))-0.05,(($K$8+J19*$K$12)/(J34*$K$8+J48*$K$12))),2) -> 0.39 | ... AP34: =ROUND(IF($K$3="90.1-2016_Pub",(($K$8+U19*$K$12)/(U34*$K$8+U48*$K$12))-0.05,(($K$8+U19*$K$12)/(U34*$K$8+U48*$K$12))),2) -> 0.41
B35: Food.Svc | C35: 1.7648388 | D35: 1.8394366 | E35: 1.8322453 | F35: 1.85625 | G35: 1.8688076 | H35: 1.8853901 | I35: 1.7651206 | J35: 1.9427141 | K35: 1.9801126 | L35: 1.981017 | M35: 1.9804637 | N35: 1.9858881 | O35: 1.949763 | P35: 1.9747755 | Q35: 1.9724428 | R35: 1.9779198 | S35: 2.029074 | T35: 2.0351897 | U35: 2.0404769 | W35: Food.Svc | X35: =ROUND(IF($K$3="90.1-2016_Pub",(($K$8+C20*$K$12)/(C35*$K$8+C49*$K$12))-0.05,(($K$8+C20*$K$12)/(C35*$K$8+C49*$K$12))),2) -> 0.58 | Y35: =ROUND(IF($K$3="90.1-2016_Pub",(($K$8+D20*$K$12)/(D35*$K$8+D49*$K$12))-0.05,(($K$8+D20*$K$12)/(D35*$K$8+D49*$K$12))),2) -> 0.56 | Z35: =ROUND(IF($K$3="90.1-2016_Pub",(($K$8+E20*$K$12)/(E35*$K$8+E49*$K$12))-0.05,(($K$8+E20*$K$12)/(E35*$K$8+E49*$K$12))),2) -> 0.57 | AA35: =ROUND(IF($K$3="90.1-2016_Pub",(($K$8+F20*$K$12)/(F35*$K$8+F49*$K$12))-0.05,(($K$8+F20*$K$12)/(F35*$K$8+F49*$K$12))),2) -> 0.56 | AB35: =ROUND(IF($K$3="90.1-2016_Pub",(($K$8+G20*$K$12)/(G35*$K$8+G49*$K$12))-0.05,(($K$8+G20*$K$12)/(G35*$K$8+G49*$K$12))),2) -> 0.56 | AC35: =ROUND(IF($K$3="90.1-2016_Pub",(($K$8+H20*$K$12)/(H35*$K$8+H49*$K$12))-0.05,(($K$8+H20*$K$12)/(H35*$K$8+H49*$K$12))),2) -> 0.56 | AD35: =ROUND(IF($K$3="90.1-2016_Pub",(($K$8+I20*$K$12)/(I35*$K$8+I49*$K$12))-0.05,(($K$8+I20*$K$12)/(I35*$K$8+I49*$K$12))),2) -> 0.6 | AE35: =ROUND(IF($K$3="90.1-2016_Pub",(($K$8+J20*$K$12)/(J35*$K$8+J49*$K$12))-0.05,(($K$8+J20*$K$12)/(J35*$K$8+J49*$K$12))),2) -> 0.59 | ... AP35: =ROUND(IF($K$3="90.1-2016_Pub",(($K$8+U20*$K$12)/(U35*$K$8+U49*$K$12))-0.05,(($K$8+U20*$K$12)/(U35*$K$8+U49*$K$12))),2) -> 0.73
B36: Retail | C36: 2.4105549 | D36: 2.5003987 | E36: 2.6642321 | F36: 2.578062 | G36: 2.9894053 | H36: 2.9173857 | I36: 2.9834896 | J36: 2.9808253 | K36: 2.9438699 | L36: 3.0174728 | M36: 2.8721598 | N36: 2.8972532 | O36: 2.9707294 | P36: 2.9332839 | Q36: 2.8173808 | R36: 3.0104448 | S36: 2.9150372 | T36: 2.9226452 | U36: 2.8386113 | W36: Retail | X36: =ROUND(IF($K$3="90.1-2016_Pub",(($K$8+C21*$K$12)/(C36*$K$8+C50*$K$12))-0.05,(($K$8+C21*$K$12)/(C36*$K$8+C50*$K$12))),2) -> 0.41 | Y36: =ROUND(IF($K$3="90.1-2016_Pub",(($K$8+D21*$K$12)/(D36*$K$8+D50*$K$12))-0.05,(($K$8+D21*$K$12)/(D36*$K$8+D50*$K$12))),2) -> 0.4 | Z36: =ROUND(IF($K$3="90.1-2016_Pub",(($K$8+E21*$K$12)/(E36*$K$8+E50*$K$12))-0.05,(($K$8+E21*$K$12)/(E36*$K$8+E50*$K$12))),2) -> 0.38 | AA36: =ROUND(IF($K$3="90.1-2016_Pub",(($K$8+F21*$K$12)/(F36*$K$8+F50*$K$12))-0.05,(($K$8+F21*$K$12)/(F36*$K$8+F50*$K$12))),2) -> 0.39 | AB36: =ROUND(IF($K$3="90.1-2016_Pub",(($K$8+G21*$K$12)/(G36*$K$8+G50*$K$12))-0.05,(($K$8+G21*$K$12)/(G36*$K$8+G50*$K$12))),2) -> 0.33 | AC36: =ROUND(IF($K$3="90.1-2016_Pub",(($K$8+H21*$K$12)/(H36*$K$8+H50*$K$12))-0.05,(($K$8+H21*$K$12)/(H36*$K$8+H50*$K$12))),2) -> 0.34 | AD36: =ROUND(IF($K$3="90.1-2016_Pub",(($K$8+I21*$K$12)/(I36*$K$8+I50*$K$12))-0.05,(($K$8+I21*$K$12)/(I36*$K$8+I50*$K$12))),2) -> 0.34 | AE36: =ROUND(IF($K$3="90.1-2016_Pub",(($K$8+J21*$K$12)/(J36*$K$8+J50*$K$12))-0.05,(($K$8+J21*$K$12)/(J36*$K$8+J50*$K$12))),2) -> 0.35 | ... AP36: =ROUND(IF($K$3="90.1-2016_Pub",(($K$8+U21*$K$12)/(U36*$K$8+U50*$K$12))-0.05,(($K$8+U21*$K$12)/(U36*$K$8+U50*$K$12))),2) -> 0.45
B37: School | C37: 2.2519378 | D37: 2.2512003 | E37: 2.3404228 | F37: 2.2881674 | G37: 2.4618596 | H37: 2.3476011 | I37: 2.342189 | J37: 2.6074703 | K37: 2.7885527 | L37: 2.7040203 | M37: 2.7584881 | N37: 2.8592092 | O37: 2.6258854 | P37: 2.8329942 | Q37: 2.8339507 | R37: 2.6226419 | S37: 2.77907 | T37: 2.6416277 | U37: 2.5989042 | W37: School | X37: =ROUND(IF($K$3="90.1-2016_Pub",(($K$8+C22*$K$12)/(C37*$K$8+C51*$K$12))-0.05,(($K$8+C22*$K$12)/(C37*$K$8+C51*$K$12))),2) -> 0.45 | Y37: =ROUND(IF($K$3="90.1-2016_Pub",(($K$8+D22*$K$12)/(D37*$K$8+D51*$K$12))-0.05,(($K$8+D22*$K$12)/(D37*$K$8+D51*$K$12))),2) -> 0.45 | Z37: =ROUND(IF($K$3="90.1-2016_Pub",(($K$8+E22*$K$12)/(E37*$K$8+E51*$K$12))-0.05,(($K$8+E22*$K$12)/(E37*$K$8+E51*$K$12))),2) -> 0.43 | AA37: =ROUND(IF($K$3="90.1-2016_Pub",(($K$8+F22*$K$12)/(F37*$K$8+F51*$K$12))-0.05,(($K$8+F22*$K$12)/(F37*$K$8+F51*$K$12))),2) -> 0.44 | AB37: =ROUND(IF($K$3="90.1-2016_Pub",(($K$8+G22*$K$12)/(G37*$K$8+G51*$K$12))-0.05,(($K$8+G22*$K$12)/(G37*$K$8+G51*$K$12))),2) -> 0.41 | AC37: =ROUND(IF($K$3="90.1-2016_Pub",(($K$8+H22*$K$12)/(H37*$K$8+H51*$K$12))-0.05,(($K$8+H22*$K$12)/(H37*$K$8+H51*$K$12))),2) -> 0.43 | AD37: =ROUND(IF($K$3="90.1-2016_Pub",(($K$8+I22*$K$12)/(I37*$K$8+I51*$K$12))-0.05,(($K$8+I22*$K$12)/(I37*$K$8+I51*$K$12))),2) -> 0.43 | AE37: =ROUND(IF($K$3="90.1-2016_Pub",(($K$8+J22*$K$12)/(J37*$K$8+J51*$K$12))-0.05,(($K$8+J22*$K$12)/(J37*$K$8+J51*$K$12))),2) -> 0.4 | ... AP37: =ROUND(IF($K$3="90.1-2016_Pub",(($K$8+U22*$K$12)/(U37*$K$8+U51*$K$12))-0.05,(($K$8+U22*$K$12)/(U37*$K$8+U51*$K$12))),2) -> 0.43
B38: Warehouse | C38: 4.1971947 | D38: 3.9370097 | E38: 4.6890594 | F38: 4.1887886 | G38: 4.9681822 | H38: 4.6531061 | I38: 4.2005621 | J38: 4.9796928 | K38: 5.6777286 | L38: 5.9306898 | M38: 5.4379384 | N38: 5.6954878 | O38: 6.2078336 | P38: 5.6786982 | Q38: 5.6452825 | R38: 5.8897192 | S38: 5.5309026 | T38: 5.8988679 | U38: 5.3333333 | W38: Warehouse | X38: =ROUND(IF($K$3="90.1-2016_Pub",(($K$8+C23*$K$12)/(C38*$K$8+C52*$K$12))-0.05,(($K$8+C23*$K$12)/(C38*$K$8+C52*$K$12))),2) -> 0.24 | Y38: =ROUND(IF($K$3="90.1-2016_Pub",(($K$8+D23*$K$12)/(D38*$K$8+D52*$K$12))-0.05,(($K$8+D23*$K$12)/(D38*$K$8+D52*$K$12))),2) -> 0.25 | Z38: =ROUND(IF($K$3="90.1-2016_Pub",(($K$8+E23*$K$12)/(E38*$K$8+E52*$K$12))-0.05,(($K$8+E23*$K$12)/(E38*$K$8+E52*$K$12))),2) -> 0.21 | AA38: =ROUND(IF($K$3="90.1-2016_Pub",(($K$8+F23*$K$12)/(F38*$K$8+F52*$K$12))-0.05,(($K$8+F23*$K$12)/(F38*$K$8+F52*$K$12))),2) -> 0.24 | AB38: =ROUND(IF($K$3="90.1-2016_Pub",(($K$8+G23*$K$12)/(G38*$K$8+G52*$K$12))-0.05,(($K$8+G23*$K$12)/(G38*$K$8+G52*$K$12))),2) -> 0.2 | AC38: =ROUND(IF($K$3="90.1-2016_Pub",(($K$8+H23*$K$12)/(H38*$K$8+H52*$K$12))-0.05,(($K$8+H23*$K$12)/(H38*$K$8+H52*$K$12))),2) -> 0.21 | AD38: =ROUND(IF($K$3="90.1-2016_Pub",(($K$8+I23*$K$12)/(I38*$K$8+I52*$K$12))-0.05,(($K$8+I23*$K$12)/(I38*$K$8+I52*$K$12))),2) -> 0.24 | AE38: =ROUND(IF($K$3="90.1-2016_Pub",(($K$8+J23*$K$12)/(J38*$K$8+J52*$K$12))-0.05,(($K$8+J23*$K$12)/(J38*$K$8+J52*$K$12))),2) -> 0.21 | ... AP38: =ROUND(IF($K$3="90.1-2016_Pub",(($K$8+U23*$K$12)/(U38*$K$8+U52*$K$12))-0.05,(($K$8+U23*$K$12)/(U38*$K$8+U52*$K$12))),2) -> 0.4
B39: Other | C39: 1.9101765 | D39: 1.9753301 | E39: 2.0236887 | F39: 1.9958314 | G39: 2.3085452 | H39: 2.3964099 | I39: 2.3578327 | J39: 2.4562572 | K39: 2.4882016 | L39: 2.3830932 | M39: 2.493666 | N39: 2.3945126 | O39: 2.4207868 | P39: 2.4838925 | Q39: 2.3979386 | R39: 2.3818014 | S39: 2.4194612 | T39: 2.3854601 | U39: 2.3961667 | W39: Other | X39: =ROUND(IF($K$3="90.1-2016_Pub",(($K$8+C24*$K$12)/(C39*$K$8+C53*$K$12))-0.05,(($K$8+C24*$K$12)/(C39*$K$8+C53*$K$12))),2) -> 0.53 | Y39: =ROUND(IF($K$3="90.1-2016_Pub",(($K$8+D24*$K$12)/(D39*$K$8+D53*$K$12))-0.05,(($K$8+D24*$K$12)/(D39*$K$8+D53*$K$12))),2) -> 0.51 | Z39: =ROUND(IF($K$3="90.1-2016_Pub",(($K$8+E24*$K$12)/(E39*$K$8+E53*$K$12))-0.05,(($K$8+E24*$K$12)/(E39*$K$8+E53*$K$12))),2) -> 0.51 | AA39: =ROUND(IF($K$3="90.1-2016_Pub",(($K$8+F24*$K$12)/(F39*$K$8+F53*$K$12))-0.05,(($K$8+F24*$K$12)/(F39*$K$8+F53*$K$12))),2) -> 0.51 | AB39: =ROUND(IF($K$3="90.1-2016_Pub",(($K$8+G24*$K$12)/(G39*$K$8+G53*$K$12))-0.05,(($K$8+G24*$K$12)/(G39*$K$8+G53*$K$12))),2) -> 0.44 | AC39: =ROUND(IF($K$3="90.1-2016_Pub",(($K$8+H24*$K$12)/(H39*$K$8+H53*$K$12))-0.05,(($K$8+H24*$K$12)/(H39*$K$8+H53*$K$12))),2) -> 0.43 | AD39: =ROUND(IF($K$3="90.1-2016_Pub",(($K$8+I24*$K$12)/(I39*$K$8+I53*$K$12))-0.05,(($K$8+I24*$K$12)/(I39*$K$8+I53*$K$12))),2) -> 0.44 | AE39: =ROUND(IF($K$3="90.1-2016_Pub",(($K$8+J24*$K$12)/(J39*$K$8+J53*$K$12))-0.05,(($K$8+J24*$K$12)/(J39*$K$8+J53*$K$12))),2) -> 0.43 | ... AP39: =ROUND(IF($K$3="90.1-2016_Pub",(($K$8+U24*$K$12)/(U39*$K$8+U53*$K$12))-0.05,(($K$8+U24*$K$12)/(U39*$K$8+U53*$K$12))),2) -> 0.5
B44: Coefficient C | C44: Baseline Gas/Proposed Electric | W44: BPF_Emissions
B45: Apartment | C45: 0.37556983 | D45: 0.40108077 | E45: 0.51634377 | F45: 0.49405768 | G45: 0.62871798 | H45: 0.65012421 | I45: 0.83098089 | J45: 0.88308328 | K45: 1.4563651 | L45: 1.9289613 | M45: 1.1851691 | N45: 1.9586988 | O45: 2.7504803 | P45: 1.7543453 | Q45: 2.0283304 | R45: 3.2505186 | S45: 2.6351081 | T45: 3.5607941 | U45: 4.0510343 | W45: Group | X45: 0A | Y45: 0B | Z45: 1A | AA45: 1B | AB45: 2A | AC45: 2B | AD45: 3A | AE45: 3B | AF45: 3C | AG45: 4A | AH45: 4B | AI45: 4C | AJ45: 5A | AK45: 5B | AL45: 5C | AM45: 6A | AN45: 6B | AO45: 7 | AP45: 8
B46: Medical | C46: 0.27151662 | D46: 0.31492143 | E46: 0.32488159 | F46: 0.30542509 | G46: 0.32116449 | H46: 0.2948296 | I46: 0.36958414 | J46: 0.39543987 | K46: 0.50114716 | L46: 0.74551952 | M46: 0.51605689 | N46: 0.80125594 | O46: 0.98055918 | P46: 0.72113624 | Q46: 0.9758755 | R46: 1.2596107 | S46: 1.1348898 | T46: 1.6311247 | U46: 2.0720529 | W46: Apartment | X46: =ROUND(IF($K$3="90.1-2016_Pub",(($K$7+C16*$K$11)/(C31*$K$7+C45*$K$11))-0.05,(($K$7+C16*$K$11)/(C31*$K$7+C45*$K$11))),2) -> 0.63 | Y46: =ROUND(IF($K$3="90.1-2016_Pub",(($K$7+D16*$K$11)/(D31*$K$7+D45*$K$11))-0.05,(($K$7+D16*$K$11)/(D31*$K$7+D45*$K$11))),2) -> 0.59 | Z46: =ROUND(IF($K$3="90.1-2016_Pub",(($K$7+E16*$K$11)/(E31*$K$7+E45*$K$11))-0.05,(($K$7+E16*$K$11)/(E31*$K$7+E45*$K$11))),2) -> 0.63 | AA46: =ROUND(IF($K$3="90.1-2016_Pub",(($K$7+F16*$K$11)/(F31*$K$7+F45*$K$11))-0.05,(($K$7+F16*$K$11)/(F31*$K$7+F45*$K$11))),2) -> 0.61 | AB46: =ROUND(IF($K$3="90.1-2016_Pub",(($K$7+G16*$K$11)/(G31*$K$7+G45*$K$11))-0.05,(($K$7+G16*$K$11)/(G31*$K$7+G45*$K$11))),2) -> 0.63 | AC46: =ROUND(IF($K$3="90.1-2016_Pub",(($K$7+H16*$K$11)/(H31*$K$7+H45*$K$11))-0.05,(($K$7+H16*$K$11)/(H31*$K$7+H45*$K$11))),2) -> 0.61 | AD46: =ROUND(IF($K$3="90.1-2016_Pub",(($K$7+I16*$K$11)/(I31*$K$7+I45*$K$11))-0.05,(($K$7+I16*$K$11)/(I31*$K$7+I45*$K$11))),2) -> 0.62 | AE46: =ROUND(IF($K$3="90.1-2016_Pub",(($K$7+J16*$K$11)/(J31*$K$7+J45*$K$11))-0.05,(($K$7+J16*$K$11)/(J31*$K$7+J45*$K$11))),2) -> 0.62 | ... AP46: =ROUND(IF($K$3="90.1-2016_Pub",(($K$7+U16*$K$11)/(U31*$K$7+U45*$K$11))-0.05,(($K$7+U16*$K$11)/(U31*$K$7+U45*$K$11))),2) -> 0.56
B47: Hotel | C47: 0.42829319 | D47: 0.45565107 | E47: 0.54922228 | F47: 0.5390781 | G47: 0.64573624 | H47: 0.72671515 | I47: 0.84085206 | J47: 0.98638884 | K47: 1.140613 | L47: 1.580277 | M47: 1.3010826 | N47: 1.7104658 | O47: 2.1544207 | P47: 1.7243719 | Q47: 1.9102716 | R47: 2.6212797 | S47: 2.289002 | T47: 3.1352808 | U47: 4.1453741 | W47: Medical | X47: =ROUND(IF($K$3="90.1-2016_Pub",(($K$7+C17*$K$11)/(C32*$K$7+C46*$K$11))-0.05,(($K$7+C17*$K$11)/(C32*$K$7+C46*$K$11))),2) -> 0.54 | Y47: =ROUND(IF($K$3="90.1-2016_Pub",(($K$7+D17*$K$11)/(D32*$K$7+D46*$K$11))-0.05,(($K$7+D17*$K$11)/(D32*$K$7+D46*$K$11))),2) -> 0.53 | Z47: =ROUND(IF($K$3="90.1-2016_Pub",(($K$7+E17*$K$11)/(E32*$K$7+E46*$K$11))-0.05,(($K$7+E17*$K$11)/(E32*$K$7+E46*$K$11))),2) -> 0.53 | AA47: =ROUND(IF($K$3="90.1-2016_Pub",(($K$7+F17*$K$11)/(F32*$K$7+F46*$K$11))-0.05,(($K$7+F17*$K$11)/(F32*$K$7+F46*$K$11))),2) -> 0.54 | AB47: =ROUND(IF($K$3="90.1-2016_Pub",(($K$7+G17*$K$11)/(G32*$K$7+G46*$K$11))-0.05,(($K$7+G17*$K$11)/(G32*$K$7+G46*$K$11))),2) -> 0.54 | AC47: =ROUND(IF($K$3="90.1-2016_Pub",(($K$7+H17*$K$11)/(H32*$K$7+H46*$K$11))-0.05,(($K$7+H17*$K$11)/(H32*$K$7+H46*$K$11))),2) -> 0.54 | AD47: =ROUND(IF($K$3="90.1-2016_Pub",(($K$7+I17*$K$11)/(I32*$K$7+I46*$K$11))-0.05,(($K$7+I17*$K$11)/(I32*$K$7+I46*$K$11))),2) -> 0.53 | AE47: =ROUND(IF($K$3="90.1-2016_Pub",(($K$7+J17*$K$11)/(J32*$K$7+J46*$K$11))-0.05,(($K$7+J17*$K$11)/(J32*$K$7+J46*$K$11))),2) -> 0.55 | ... AP47: =ROUND(IF($K$3="90.1-2016_Pub",(($K$7+U17*$K$11)/(U32*$K$7+U46*$K$11))-0.05,(($K$7+U17*$K$11)/(U32*$K$7+U46*$K$11))),2) -> 0.57
B48: Office | C48: 0 | D48: 0 | E48: 0 | F48: 0 | G48: 0 | H48: 0 | I48: 0 | J48: 0.087055023 | K48: 0.075900367 | L48: 0.73035711 | M48: 0.22918504 | N48: 0.49745418 | O48: 1.0826459 | P48: 0.56229444 | Q48: 0.49743921 | R48: 1.6460007 | S48: 1.157844 | T48: 1.9682998 | U48: 2.7675345 | W48: Hotel | X48: =ROUND(IF($K$3="90.1-2016_Pub",(($K$7+C18*$K$11)/(C33*$K$7+C47*$K$11))-0.05,(($K$7+C18*$K$11)/(C33*$K$7+C47*$K$11))),2) -> 0.6 | Y48: =ROUND(IF($K$3="90.1-2016_Pub",(($K$7+D18*$K$11)/(D33*$K$7+D47*$K$11))-0.05,(($K$7+D18*$K$11)/(D33*$K$7+D47*$K$11))),2) -> 0.59 | Z48: =ROUND(IF($K$3="90.1-2016_Pub",(($K$7+E18*$K$11)/(E33*$K$7+E47*$K$11))-0.05,(($K$7+E18*$K$11)/(E33*$K$7+E47*$K$11))),2) -> 0.61 | AA48: =ROUND(IF($K$3="90.1-2016_Pub",(($K$7+F18*$K$11)/(F33*$K$7+F47*$K$11))-0.05,(($K$7+F18*$K$11)/(F33*$K$7+F47*$K$11))),2) -> 0.59 | AB48: =ROUND(IF($K$3="90.1-2016_Pub",(($K$7+G18*$K$11)/(G33*$K$7+G47*$K$11))-0.05,(($K$7+G18*$K$11)/(G33*$K$7+G47*$K$11))),2) -> 0.59 | AC48: =ROUND(IF($K$3="90.1-2016_Pub",(($K$7+H18*$K$11)/(H33*$K$7+H47*$K$11))-0.05,(($K$7+H18*$K$11)/(H33*$K$7+H47*$K$11))),2) -> 0.58 | AD48: =ROUND(IF($K$3="90.1-2016_Pub",(($K$7+I18*$K$11)/(I33*$K$7+I47*$K$11))-0.05,(($K$7+I18*$K$11)/(I33*$K$7+I47*$K$11))),2) -> 0.59 | AE48: =ROUND(IF($K$3="90.1-2016_Pub",(($K$7+J18*$K$11)/(J33*$K$7+J47*$K$11))-0.05,(($K$7+J18*$K$11)/(J33*$K$7+J47*$K$11))),2) -> 0.59 | ... AP48: =ROUND(IF($K$3="90.1-2016_Pub",(($K$7+U18*$K$11)/(U33*$K$7+U47*$K$11))-0.05,(($K$7+U18*$K$11)/(U33*$K$7+U47*$K$11))),2) -> 0.56
B49: Food.Svc | C49: 0.37521975 | D49: 0.40445403 | E49: 0.52240967 | F49: 0.48981344 | G49: 0.60899258 | H49: 0.66072621 | I49: 0.74036255 | J49: 1.0289813 | K49: 1.1909434 | L49: 2.2384228 | M49: 1.4982066 | N49: 2.1679282 | O49: 3.2865869 | P49: 2.2229367 | Q49: 2.6009112 | R49: 4.2166092 | S49: 3.3972175 | T49: 5.411776 | U49: 7.7048307 | W49: Office | X49: =ROUND(IF($K$3="90.1-2016_Pub",(($K$7+C19*$K$11)/(C34*$K$7+C48*$K$11))-0.05,(($K$7+C19*$K$11)/(C34*$K$7+C48*$K$11))),2) -> 0.43 | Y49: =ROUND(IF($K$3="90.1-2016_Pub",(($K$7+D19*$K$11)/(D34*$K$7+D48*$K$11))-0.05,(($K$7+D19*$K$11)/(D34*$K$7+D48*$K$11))),2) -> 0.42 | Z49: =ROUND(IF($K$3="90.1-2016_Pub",(($K$7+E19*$K$11)/(E34*$K$7+E48*$K$11))-0.05,(($K$7+E19*$K$11)/(E34*$K$7+E48*$K$11))),2) -> 0.4 | AA49: =ROUND(IF($K$3="90.1-2016_Pub",(($K$7+F19*$K$11)/(F34*$K$7+F48*$K$11))-0.05,(($K$7+F19*$K$11)/(F34*$K$7+F48*$K$11))),2) -> 0.41 | AB49: =ROUND(IF($K$3="90.1-2016_Pub",(($K$7+G19*$K$11)/(G34*$K$7+G48*$K$11))-0.05,(($K$7+G19*$K$11)/(G34*$K$7+G48*$K$11))),2) -> 0.37 | AC49: =ROUND(IF($K$3="90.1-2016_Pub",(($K$7+H19*$K$11)/(H34*$K$7+H48*$K$11))-0.05,(($K$7+H19*$K$11)/(H34*$K$7+H48*$K$11))),2) -> 0.39 | AD49: =ROUND(IF($K$3="90.1-2016_Pub",(($K$7+I19*$K$11)/(I34*$K$7+I48*$K$11))-0.05,(($K$7+I19*$K$11)/(I34*$K$7+I48*$K$11))),2) -> 0.37 | AE49: =ROUND(IF($K$3="90.1-2016_Pub",(($K$7+J19*$K$11)/(J34*$K$7+J48*$K$11))-0.05,(($K$7+J19*$K$11)/(J34*$K$7+J48*$K$11))),2) -> 0.39 | ... AP49: =ROUND(IF($K$3="90.1-2016_Pub",(($K$7+U19*$K$11)/(U34*$K$7+U48*$K$11))-0.05,(($K$7+U19*$K$11)/(U34*$K$7+U48*$K$11))),2) -> 0.43
...

Sheet BPF Compare
D1: ASHRAE Standard 90.1-2025 Performance Rating Method (Appendix G) Building Performance Factor Comparison Tool | AJ1: Code Year Options | AK1: Elec_Cost | AL1: Gas_Cost | AM1: Elec_Source | AN1: Gas_Source | AO1: Elec_Emissions | AP1: Gas_Emissions | AQ1: Elec_Site | AR1: Gas_Site | AU1: Do not delete
E2: Instructions for BPF Comparison Tool This worksheet can be used to compare 2 different sets of BPF Values. First, select the Approach and BPF metric type in the green cells (to the left) for the 2 cases you want to compare. Second, when selecting "Custom" as the Approach, enter user defined metrics for cost, source energy or emissions into the applicable Custom Metrics Table using the light red cells (to the right) . | AJ2: Custom1 | AK2: =Z7 -> 0.1122 | AL2: =Z8 -> 0.838 | AM2: =Z11 -> 9.008 | AN2: =Z12 -> 109 | AO2: =Z9 -> 1.2 | AP2: =Z10 -> 19.96 | AQ2: 3.412 | AR2: 100 | AU2: 2 | AV2: 3 | AW2: 4 | AX2: 5 | AY2: 6 | AZ2: 7 | BA2: 8 | BB2: 9 | BC2: 10 | BD2: 11 | BE2: 12 | BF2: 13 | BG2: 14 | BH2: 15 | BI2: 16 | BJ2: 17 | BK2: 18 | BL2: 19 | BM2: 20
AJ3: Custom2 | AK3: =Z19 -> 0.1122 | AL3: =Z20 -> 0.838 | AM3: =Z23 -> 8.27 | AN3: =Z24 -> 123 | AO3: =Z21 -> 0.471 | AP3: =Z22 -> 14.7 | AQ3: 3.412 | AR3: 100 | AU3: Do not delete
AJ4: 90.1-2025 | AK4: 0.1122 | AL4: 0.838 | AM4: 8.27 | AN4: 123 | AO4: 0.471 | AP4: 14.7 | AQ4: 3.412 | AR4: 100 | AU4: 1
A5: Code Year | B5: 90.1-2025 | D5: ="BPF_"&B7 -> BPF_Cost | E5: Table 1 | AU5: 2
A6: Approach | B6: As Published | E6: 0A | F6: 0B | G6: 1A | H6: 1B | I6: 2A | J6: 2B | K6: 3A | L6: 3B | M6: 3C | N6: 4A | O6: 4B | P6: 4C | Q6: 5A | R6: 5B | S6: 5C | T6: 6A | U6: 6B | V6: 7 | W6: 8 | Y6: Custom Metrics Table 1 | AU6: 3
A7: Type | B7: Cost | D7: Apartment | E7: {=($B$9+$B$10*INDEX(INDIRECT($B$11),$AU4,AU$2))/($B$9*INDEX(INDIRECT($B$12),$AU4,AU$2)+$B$10*INDEX(INDIRECT($B$13),$AU4,AU$2))} -> 0.60829921 | F7: {=($B$9+$B$10*INDEX(INDIRECT($B$11),$AU4,AV$2))/($B$9*INDEX(INDIRECT($B$12),$AU4,AV$2)+$B$10*INDEX(INDIRECT($B$13),$AU4,AV$2))} -> 0.5674292 | G7: {=($B$9+$B$10*INDEX(INDIRECT($B$11),$AU4,AW$2))/($B$9*INDEX(INDIRECT($B$12),$AU4,AW$2)+$B$10*INDEX(INDIRECT($B$13),$AU4,AW$2))} -> 0.59831589 | H7: {=($B$9+$B$10*INDEX(INDIRECT($B$11),$AU4,AX$2))/($B$9*INDEX(INDIRECT($B$12),$AU4,AX$2)+$B$10*INDEX(INDIRECT($B$13),$AU4,AX$2))} -> 0.57392325 | I7: {=($B$9+$B$10*INDEX(INDIRECT($B$11),$AU4,AY$2))/($B$9*INDEX(INDIRECT($B$12),$AU4,AY$2)+$B$10*INDEX(INDIRECT($B$13),$AU4,AY$2))} -> 0.59220906 | J7: {=($B$9+$B$10*INDEX(INDIRECT($B$11),$AU4,AZ$2))/($B$9*INDEX(INDIRECT($B$12),$AU4,AZ$2)+$B$10*INDEX(INDIRECT($B$13),$AU4,AZ$2))} -> 0.56924127 | K7: {=($B$9+$B$10*INDEX(INDIRECT($B$11),$AU4,BA$2))/($B$9*INDEX(INDIRECT($B$12),$AU4,BA$2)+$B$10*INDEX(INDIRECT($B$13),$AU4,BA$2))} -> 0.57885817 | L7: {=($B$9+$B$10*INDEX(INDIRECT($B$11),$AU4,BB$2))/($B$9*INDEX(INDIRECT($B$12),$AU4,BB$2)+$B$10*INDEX(INDIRECT($B$13),$AU4,BB$2))} -> 0.57884697 | ... W7: {=($B$9+$B$10*INDEX(INDIRECT($B$11),$AU4,BM$2))/($B$9*INDEX(INDIRECT($B$12),$AU4,BM$2)+$B$10*INDEX(INDIRECT($B$13),$AU4,BM$2))} -> 0.59497422 | Y7: Elec Cost | Z7: 0.1122 | AA7: $/site kWh | AU7: 4
A8: Do Not Edit Cells Below | D8: Medical | E8: {=($B$9+$B$10*INDEX(INDIRECT($B$11),$AU5,AU$2))/($B$9*INDEX(INDIRECT($B$12),$AU5,AU$2)+$B$10*INDEX(INDIRECT($B$13),$AU5,AU$2))} -> 0.59823131 | F8: {=($B$9+$B$10*INDEX(INDIRECT($B$11),$AU5,AV$2))/($B$9*INDEX(INDIRECT($B$12),$AU5,AV$2)+$B$10*INDEX(INDIRECT($B$13),$AU5,AV$2))} -> 0.58599557 | G8: {=($B$9+$B$10*INDEX(INDIRECT($B$11),$AU5,AW$2))/($B$9*INDEX(INDIRECT($B$12),$AU5,AW$2)+$B$10*INDEX(INDIRECT($B$13),$AU5,AW$2))} -> 0.58811311 | H8: {=($B$9+$B$10*INDEX(INDIRECT($B$11),$AU5,AX$2))/($B$9*INDEX(INDIRECT($B$12),$AU5,AX$2)+$B$10*INDEX(INDIRECT($B$13),$AU5,AX$2))} -> 0.59528381 | I8: {=($B$9+$B$10*INDEX(INDIRECT($B$11),$AU5,AY$2))/($B$9*INDEX(INDIRECT($B$12),$AU5,AY$2)+$B$10*INDEX(INDIRECT($B$13),$AU5,AY$2))} -> 0.59943025 | J8: {=($B$9+$B$10*INDEX(INDIRECT($B$11),$AU5,AZ$2))/($B$9*INDEX(INDIRECT($B$12),$AU5,AZ$2)+$B$10*INDEX(INDIRECT($B$13),$AU5,AZ$2))} -> 0.5973999 | K8: {=($B$9+$B$10*INDEX(INDIRECT($B$11),$AU5,BA$2))/($B$9*INDEX(INDIRECT($B$12),$AU5,BA$2)+$B$10*INDEX(INDIRECT($B$13),$AU5,BA$2))} -> 0.58155955 | L8: {=($B$9+$B$10*INDEX(INDIRECT($B$11),$AU5,BB$2))/($B$9*INDEX(INDIRECT($B$12),$AU5,BB$2)+$B$10*INDEX(INDIRECT($B$13),$AU5,BB$2))} -> 0.58667271 | ... W8: {=($B$9+$B$10*INDEX(INDIRECT($B$11),$AU5,BM$2))/($B$9*INDEX(INDIRECT($B$12),$AU5,BM$2)+$B$10*INDEX(INDIRECT($B$13),$AU5,BM$2))} -> 0.57092065 | Y8: Gas Cost | Z8: 0.838 | AA8: $/therm | AU8: 5
A9: Elec Metric | B9: {=IF($B$6="Custom",(INDEX($AJ$1:$AR$12,2,MATCH("Elec_"&$B$7,$AK$1:$AR$1,0)+1)),(INDEX($AJ$1:$AR$12,MATCH($B$5,$AJ$4:$AJ$12)+3,MATCH("Elec_"&$B$7,$AK$1:$AR$1,0)+1)))/3.412} -> 0.032883939 | D9: Hotel | E9: {=($B$9+$B$10*INDEX(INDIRECT($B$11),$AU6,AU$2))/($B$9*INDEX(INDIRECT($B$12),$AU6,AU$2)+$B$10*INDEX(INDIRECT($B$13),$AU6,AU$2))} -> 0.58032708 | F9: {=($B$9+$B$10*INDEX(INDIRECT($B$11),$AU6,AV$2))/($B$9*INDEX(INDIRECT($B$12),$AU6,AV$2)+$B$10*INDEX(INDIRECT($B$13),$AU6,AV$2))} -> 0.56469333 | G9: {=($B$9+$B$10*INDEX(INDIRECT($B$11),$AU6,AW$2))/($B$9*INDEX(INDIRECT($B$12),$AU6,AW$2)+$B$10*INDEX(INDIRECT($B$13),$AU6,AW$2))} -> 0.57489294 | H9: {=($B$9+$B$10*INDEX(INDIRECT($B$11),$AU6,AX$2))/($B$9*INDEX(INDIRECT($B$12),$AU6,AX$2)+$B$10*INDEX(INDIRECT($B$13),$AU6,AX$2))} -> 0.55829362 | I9: {=($B$9+$B$10*INDEX(INDIRECT($B$11),$AU6,AY$2))/($B$9*INDEX(INDIRECT($B$12),$AU6,AY$2)+$B$10*INDEX(INDIRECT($B$13),$AU6,AY$2))} -> 0.55422372 | J9: {=($B$9+$B$10*INDEX(INDIRECT($B$11),$AU6,AZ$2))/($B$9*INDEX(INDIRECT($B$12),$AU6,AZ$2)+$B$10*INDEX(INDIRECT($B$13),$AU6,AZ$2))} -> 0.53513251 | K9: {=($B$9+$B$10*INDEX(INDIRECT($B$11),$AU6,BA$2))/($B$9*INDEX(INDIRECT($B$12),$AU6,BA$2)+$B$10*INDEX(INDIRECT($B$13),$AU6,BA$2))} -> 0.53911963 | L9: {=($B$9+$B$10*INDEX(INDIRECT($B$11),$AU6,BB$2))/($B$9*INDEX(INDIRECT($B$12),$AU6,BB$2)+$B$10*INDEX(INDIRECT($B$13),$AU6,BB$2))} -> 0.54386203 | ... W9: {=($B$9+$B$10*INDEX(INDIRECT($B$11),$AU6,BM$2))/($B$9*INDEX(INDIRECT($B$12),$AU6,BM$2)+$B$10*INDEX(INDIRECT($B$13),$AU6,BM$2))} -> 0.52731947 | Y9: Elec Emissions | Z9: 1.2 | AA9: lb/site kWh | AU9: 6
A10: Gas Metric | B10: {=IF($B$6="Custom",(INDEX($AJ$1:$AR$12,2,MATCH("Gas_"&$B$7,$AK$1:$AR$1,0)+1)),(INDEX($AJ$1:$AR$12,MATCH($B$5,$AJ$4:$AJ$12)+3,MATCH("Gas_"&$B$7,$AK$1:$AR$1,0)+1)))/100} -> 0.00838 | D10: Office | E10: {=($B$9+$B$10*INDEX(INDIRECT($B$11),$AU7,AU$2))/($B$9*INDEX(INDIRECT($B$12),$AU7,AU$2)+$B$10*INDEX(INDIRECT($B$13),$AU7,AU$2))} -> 0.42809668 | F10: {=($B$9+$B$10*INDEX(INDIRECT($B$11),$AU7,AV$2))/($B$9*INDEX(INDIRECT($B$12),$AU7,AV$2)+$B$10*INDEX(INDIRECT($B$13),$AU7,AV$2))} -> 0.41775895 | G10: {=($B$9+$B$10*INDEX(INDIRECT($B$11),$AU7,AW$2))/($B$9*INDEX(INDIRECT($B$12),$AU7,AW$2)+$B$10*INDEX(INDIRECT($B$13),$AU7,AW$2))} -> 0.40318725 | H10: {=($B$9+$B$10*INDEX(INDIRECT($B$11),$AU7,AX$2))/($B$9*INDEX(INDIRECT($B$12),$AU7,AX$2)+$B$10*INDEX(INDIRECT($B$13),$AU7,AX$2))} -> 0.40588782 | I10: {=($B$9+$B$10*INDEX(INDIRECT($B$11),$AU7,AY$2))/($B$9*INDEX(INDIRECT($B$12),$AU7,AY$2)+$B$10*INDEX(INDIRECT($B$13),$AU7,AY$2))} -> 0.36917359 | J10: {=($B$9+$B$10*INDEX(INDIRECT($B$11),$AU7,AZ$2))/($B$9*INDEX(INDIRECT($B$12),$AU7,AZ$2)+$B$10*INDEX(INDIRECT($B$13),$AU7,AZ$2))} -> 0.38780983 | K10: {=($B$9+$B$10*INDEX(INDIRECT($B$11),$AU7,BA$2))/($B$9*INDEX(INDIRECT($B$12),$AU7,BA$2)+$B$10*INDEX(INDIRECT($B$13),$AU7,BA$2))} -> 0.36818607 | L10: {=($B$9+$B$10*INDEX(INDIRECT($B$11),$AU7,BB$2))/($B$9*INDEX(INDIRECT($B$12),$AU7,BB$2)+$B$10*INDEX(INDIRECT($B$13),$AU7,BB$2))} -> 0.3830684 | ... W10: {=($B$9+$B$10*INDEX(INDIRECT($B$11),$AU7,BM$2))/($B$9*INDEX(INDIRECT($B$12),$AU7,BM$2)+$B$10*INDEX(INDIRECT($B$13),$AU7,BM$2))} -> 0.38730973 | Y10: Gas Emissions | Z10: 19.96 | AA10: lb/therm | AU10: 7
A11: Coefficent A | B11: =IF($B$6="Custom",VLOOKUP($B$5,Code_year_options,2,FALSE),VLOOKUP($B$5&"_Pub",Code_year_options,2,FALSE)) -> A_2025_v4 | D11: Food.Svc | E11: {=($B$9+$B$10*INDEX(INDIRECT($B$11),$AU8,AU$2))/($B$9*INDEX(INDIRECT($B$12),$AU8,AU$2)+$B$10*INDEX(INDIRECT($B$13),$AU8,AU$2))} -> 0.57392478 | F11: {=($B$9+$B$10*INDEX(INDIRECT($B$11),$AU8,AV$2))/($B$9*INDEX(INDIRECT($B$12),$AU8,AV$2)+$B$10*INDEX(INDIRECT($B$13),$AU8,AV$2))} -> 0.55238166 | G11: {=($B$9+$B$10*INDEX(INDIRECT($B$11),$AU8,AW$2))/($B$9*INDEX(INDIRECT($B$12),$AU8,AW$2)+$B$10*INDEX(INDIRECT($B$13),$AU8,AW$2))} -> 0.55758637 | H11: {=($B$9+$B$10*INDEX(INDIRECT($B$11),$AU8,AX$2))/($B$9*INDEX(INDIRECT($B$12),$AU8,AX$2)+$B$10*INDEX(INDIRECT($B$13),$AU8,AX$2))} -> 0.5500776 | I11: {=($B$9+$B$10*INDEX(INDIRECT($B$11),$AU8,AY$2))/($B$9*INDEX(INDIRECT($B$12),$AU8,AY$2)+$B$10*INDEX(INDIRECT($B$13),$AU8,AY$2))} -> 0.54991212 | J11: {=($B$9+$B$10*INDEX(INDIRECT($B$11),$AU8,AZ$2))/($B$9*INDEX(INDIRECT($B$12),$AU8,AZ$2)+$B$10*INDEX(INDIRECT($B$13),$AU8,AZ$2))} -> 0.5466882 | K11: {=($B$9+$B$10*INDEX(INDIRECT($B$11),$AU8,BA$2))/($B$9*INDEX(INDIRECT($B$12),$AU8,BA$2)+$B$10*INDEX(INDIRECT($B$13),$AU8,BA$2))} -> 0.58345543 | L11: {=($B$9+$B$10*INDEX(INDIRECT($B$11),$AU8,BB$2))/($B$9*INDEX(INDIRECT($B$12),$AU8,BB$2)+$B$10*INDEX(INDIRECT($B$13),$AU8,BB$2))} -> 0.55609345 | ... W11: {=($B$9+$B$10*INDEX(INDIRECT($B$11),$AU8,BM$2))/($B$9*INDEX(INDIRECT($B$12),$AU8,BM$2)+$B$10*INDEX(INDIRECT($B$13),$AU8,BM$2))} -> 0.67014055 | Y11: Elec Source | Z11: 9.008 | AA11: source kBtu/ site kWh | AU11: 8
