Workbook

Sheet Introduction
B2: Fan Power Limit Examples and Tool
B3: version 1
B4: 44312
B6: John Bade, 2050 Partners | D6: johnbade@2050partners.com
B7: Bryan Boyce, Energy Solutions | D7: bboyce@energy-solution.com
B9: The purpose of this workbook is to allow stakeholders to work with the proposed fan power limit updates for ASHRAE 90.1.
B10: There are three worksheets that the user can work out of, one for each type of fan system (single fan, supply/return fan, or complex fan systems). In each worksheet the user can enter fan system parameters and see how the resulting power allowance for the proposal compares against the two existing options in 90.1-2019 (i.e., the motor nameplate method and the brake horsepower method). Users only need to modify the orange "input" cells.
B13: Following the three template worksheets, there are a number of completed examples for a variety of fan system types and airflow levels. Stakeholders can easily view a side-by-side comparison for these worked examples. A summary table for these examples is also shown below.
B16: Summary of Examples
B17: No. | C17: Fan System Type | D17: Airflow Control | E17: Airflow (cfm) | F17: 90.1-2019 | I17: Proposed | J17: Percent Change between BHP method & proposed method
F18: Motor HP Method Result | G18: BHP Method Result | H18: BHP Method Result (est. input kW) | I18: Proposed Result (kW)
B19: 1 | C19: Single Fan, recirculating | D19: MZ-VAV | E19: 20000 | F19: =#REF! -> #REF! | G19: =#REF! -> #REF! | H19: =#REF! -> #REF! | I19: =#REF! -> #REF! | J19: =(H19-I19)/H19 -> #REF!
B20: 2 | C20: Single Fan, recirculating | D20: MZ-VAV | E20: 7500 | F20: =#REF! -> #REF! | G20: =#REF! -> #REF! | H20: =#REF! -> #REF! | I20: =#REF! -> #REF! | J20: =(H20-I20)/H20 -> #REF!
B21: 3 | C21: Single Fan, recirculating | D21: MZ-VAV | E21: 4000 | F21: =#REF! -> #REF! | G21: =#REF! -> #REF! | H21: =#REF! -> #REF! | I21: =#REF! -> #REF! | J21: =(H21-I21)/H21 -> #REF!
B22: 4 | C22: Single Fan, recirculating | D22: CAV | E22: 20000 | F22: =#REF! -> #REF! | G22: =#REF! -> #REF! | H22: =#REF! -> #REF! | I22: =#REF! -> #REF! | J22: =(H22-I22)/H22 -> #REF!
B23: 5 | C23: Single Fan, recirculating | D23: CAV | E23: 7500 | F23: =#REF! -> #REF! | G23: =#REF! -> #REF! | H23: =#REF! -> #REF! | I23: =#REF! -> #REF! | J23: =(H23-I23)/H23 -> #REF!
B24: 6 | C24: Single Fan, recirculating | D24: SZ-VAV | E24: 20000 | F24: =#REF! -> #REF! | G24: =#REF! -> #REF! | H24: =#REF! -> #REF! | I24: =#REF! -> #REF! | J24: =(H24-I24)/H24 -> #REF!
B25: 7 | C25: Single Fan, recirculating | D25: SZ-VAV | E25: 7500 | F25: =#REF! -> #REF! | G25: =#REF! -> #REF! | H25: =#REF! -> #REF! | I25: =#REF! -> #REF! | J25: =(H25-I25)/H25 -> #REF!
B26: 8 | C26: ERV-recirculating | D26: MZ-VAV | E26: 8000 | F26: =#REF! -> #REF! | G26: =#REF! -> #REF! | H26: =#REF! -> #REF! | I26: =#REF! -> #REF! | J26: =(H26-I26)/H26 -> #REF!
B27: 9 | C27: ERV-recirculating | D27: MZ-VAV | E27: 7500 | F27: =#REF! -> #REF! | G27: =#REF! -> #REF! | H27: =#REF! -> #REF! | I27: =#REF! -> #REF! | J27: =(H27-I27)/H27 -> #REF!
B28: 10 | C28: Supply and Return | D28: MZ-VAV | E28: 20000 | F28: =#REF! -> #REF! | G28: =#REF! -> #REF! | H28: =#REF! -> #REF! | I28: =#REF! -> #REF! | J28: =(H28-I28)/H28 -> #REF!
B29: 11 | C29: Supply and Return | D29: CAV | E29: 20000 | F29: =#REF! -> #REF! | G29: =#REF! -> #REF! | H29: =#REF! -> #REF! | I29: =#REF! -> #REF! | J29: =(H29-I29)/H29 -> #REF!

Sheet Single Fan Template
E4: System Attributes | J4: Key:
B5: Description: | F5: Single fan, recirculating | J5: Input
B6: CAV/SZ-VAV/MZ-VAV: | F6: MZ-VAV | J6: Calculation
B7: Calculation Method: | F7: Single-cabinet fan | J7: Hard-coded value
F8: Supply | J8: Output
B9: Variable Speed Drive (Yes/No) | F9: Yes
B10: Transmission (Direct/V-belt): | F10: Direct
B11: Airflow (cfm): | F11: 30000
E13: MERV 8 Filter: | F13: Yes
E14: MERV 9-12 Filter: | F14: No
E15: MERV 13+ Filter: | F15: Yes
E16: S3. Cooling or Heat Pump Coil: | F16: Yes
E17: S4. Heating Coil: | F17: No
E18: S4. Gas Furnace: | F18: Yes
E19: S4. Electric Resistance Heat: | F19: No
E20: S6. Energy Recovery Ventilator: | F20: No
E21: S5. Economizer Return Damper | F21: Yes
E22: S7. Hot Gas Reheat Coil | F22: No
E23: S8. 50% Turndown (Single-Zone VAV only) | F23: No
E25: Results of Fan Power Limit Based on Method:
E27: 90.1-2019 Methods: | J27: Proposed Method:
B29: Motor Nameplate Method, max hp | F29: =IF(F6="MZ-VAV",F11*0.0015,F11*0.0011) -> 45
B30: Resulting maximum standard motor size, hp | F30: =SMALL($S$78:$S$102,COUNTIF($S$78:$S$102,"<="&F29)) -> 40
B32: Brake Horsepower Method | F32: Airflow (cfm) | G32: Additional Pressure Loss (in. wc) | H32: Allowed Brake Horsepower | J32: Calculation per the proposed Fan Power Limits: | K32: Airflow | L32: Allowed w/cfm | M32: Fan Power Allowance (kW)
B33: Base Allowance: | F33: =F11 -> 30000 | G33: N/A | H33: =IF(F6="MZ-VAV",F33*0.0013,F33*0.00094) -> 39 | J33: S1. Supply Base Allowance: | K33: =F11 -> 30000 | L33: =IF(AND(F$6="MZ-VAV",F$11>10000),U37,IF(AND(F$6="MZ-VAV",F$11<=10000,F$11>5000),V37,IF(F$6="MZ-VAV",W37,IF(F$11>10000,X37,IF(AND(F$11<=10000,F$11>5000),Y37,Z37))))) -> 0.48004219 | M33: =K33*L33/1000 -> 14.401266
B34: MERV 9-12 Filter: | F34: =IF(F14=X79,F11,0) -> 0 | G34: 0.5 | H34: =G34*F34/4131 -> 0 | J34: S2. Up to MERV 12 Filter: | K34: =IF(OR(F13=X79,F14=X79),F11,0) -> 30000 | L34: =IF(AND(F$6="MZ-VAV",F$11>10000),U38,IF(AND(F$6="MZ-VAV",F$11<=10000,F$11>5000),V38,IF(F$6="MZ-VAV",W38,IF(F$11>10000,X38,IF(AND(F$11<=10000,F$11>5000),Y38,Z38))))) -> 0.073260688 | M34: =K34*L34/1000 -> 2.1978206 | V34: Multi-Zone VAV System airflow (cfm) | Y34: Constant Volume/Single-zone VAV airflow (cfm)
B35: MERV 13 or greater filter: | F35: =IF(F15=X79,F11,0) -> 30000 | G35: 0.9 | H35: =G35*F35/4131 -> 6.5359477 | J35: S2. MERV 13 to 16 Filter: | K35: =IF(F15=X79,F11,0) -> 30000 | L35: =IF(AND(F$6="MZ-VAV",F$11>10000),U39,IF(AND(F$6="MZ-VAV",F$11<=10000,F$11>5000),V39,IF(F$6="MZ-VAV",W39,IF(F$11>10000,X39,IF(AND(F$11<=10000,F$11>5000),Y39,Z39))))) -> 0.16544989 | M35: =K35*L35/1000 -> 4.9634967 | T35: Air System Component | U35: >10,000 | V35: >5,000 and ≤10,000 | W35: ≤5,000 | X35: >10,000 | Y35: >5,000 and ≤10,000 | Z35: ≤5,000
B36: Energy Recovery Supply Airstream: | F36: =IF(F20=X79,F11,0) -> 0 | G36: =2.2*0.625-0.5 -> 0.875 | H36: =G36*F36/4131 -> 0 | J36: S2. MERV 13-16 Filter Downstream of Cooling Coil: | K36: =IF(F13=Z81,$F$11,0) -> 0 | L36: =IF(AND(F$6="MZ-VAV",F$11>10000),U40,IF(AND(F$6="MZ-VAV",F$11<=10000,F$11>5000),V40,IF(F$6="MZ-VAV",W40,IF(F$11>10000,X40,IF(AND(F$11<=10000,F$11>5000),Y40,Z40))))) -> 0.18400785 | M36: =K36*L36/1000 -> 0
B37: Energy Recovery Exhaust Airstream: | F37: =IF(F20=X79,F11,0) -> 0 | G37: 0.875 | H37: =G37*F37/4131 -> 0 | J37: S3. Cooling or Heat Pump Coil: | K37: =IF(F16=$X$79,F11,0) -> 30000 | L37: =IF(AND(F$6="MZ-VAV",F$11>10000),U41,IF(AND(F$6="MZ-VAV",F$11<=10000,F$11>5000),V41,IF(F$6="MZ-VAV",W41,IF(F$11>10000,X41,IF(AND(F$11<=10000,F$11>5000),Y41,Z41))))) -> 0.11002795 | M37: =K37*L37/1000 -> 3.3008385 | T37: Supply System Base Allowance for air handler serving floor ≤6 floors away. | U37: 0.48004219 | V37: 0.47247115 | W37: 0.41298195 | X37: 0.24829908 | Y37: 0.26699447 | Z37: 0.24303029
B38: Deduction for no Central Cooling Device: | F38: =IF(F16=X78,F11,0) -> 0 | G38: -0.6 | H38: =G38*F38/4131 -> 0 | J38: S4. Heating Coil: | K38: =IF(F17=$X$79,F11,0) -> 0 | L38: =IF(AND(F$6="MZ-VAV",F$11>10000),U42,IF(AND(F$6="MZ-VAV",F$11<=10000,F$11>5000),V42,IF(F$6="MZ-VAV",W42,IF(F$11>10000,X42,IF(AND(F$11<=10000,F$11>5000),Y42,Z42))))) -> 0.054919339 | M38: =K38*L38/1000 -> 0 | T38: Filter MERV 12 or less | U38: 0.073260688 | V38: 0.079265464 | W38: 0.093946594 | X38: 0.075394944 | Y38: 0.083644004 | Z38: 0.097212114
B39: Deduction for no Central Heating Device: | F39: =IF(AND(F17=X78,F18=X78,F19=X78),F11,0) -> 0 | G39: -0.3 | H39: =G39*F39/4131 -> 0 | J39: S4. Gas Furnace: | K39: =IF(F18=$X$79,F11,0) -> 30000 | L39: =IF(AND(F$6="MZ-VAV",F$11>10000),U43,IF(AND(F$6="MZ-VAV",F$11<=10000,F$11>5000),V43,IF(F$6="MZ-VAV",W43,IF(F$11>10000,X43,IF(AND(F$11<=10000,F$11>5000),Y43,Z43))))) -> 0.073260688 | M39: =K39*L39/1000 -> 2.1978206 | T39: MERV 13 to MERV 16 Filter (mid-life) | U39: 0.16544989 | V39: 0.17662576 | W39: 0.20986203 | X39: 0.16767207 | Y39: 0.18543501 | Z39: 0.21706459
B40: Deduction for Electric Resistance Heat: | F40: =IF(F19=X79,F11,0) -> 0 | G40: -0.2 | H40: =G40*F40/4131 -> 0 | J40: S4. Electric Resistance Heat: | K40: =IF(F19=$X$79,F11,0) -> 0 | L40: =IF(AND(F$6="MZ-VAV",F$11>10000),U44,IF(AND(F$6="MZ-VAV",F$11<=10000,F$11>5000),V44,IF(F$6="MZ-VAV",W44,IF(F$11>10000,X44,IF(AND(F$11<=10000,F$11>5000),Y44,Z44))))) -> 0.036599444 | M40: =K40*L40/1000 -> 0 | T40: MERV 13 to MERV 16 Final filter located downstream of thermal conditioning equipment. (mid-life) | U40: 0.18400785 | V40: 0.19590564 | W40: 0.23285256 | X40: 0.18599637 | Y40: 0.20547667 | Z40: 0.24051581
B41: TOTAL: | H41: =SUM(H33:H40) -> 45.535948 | J41: S5. Economizer Return Damper: | K41: =IF(F21=$X$79,F11,0) -> 30000 | L41: =IF(AND(F$6="MZ-VAV",F$11>10000),U45,IF(AND(F$6="MZ-VAV",F$11<=10000,F$11>5000),V45,IF(F$6="MZ-VAV",W45,IF(F$11>10000,X45,IF(AND(F$11<=10000,F$11>5000),Y45,Z45))))) -> 0.036599444 | M41: =K41*L41/1000 -> 1.0979833 | T41: Hydronic/DX cooling coil, or heat pump coil (wet) [Healthcare facilities can select twice] | U41: 0.11002795 | V41: 0.11841599 | W41: 0.14050917 | X41: 0.11248346 | Y41: 0.12469667 | Z41: 0.14581817
J42: S6. Energy Recovery (ERR=62.5%) | K42: =IF(F20=$X$79,F11,0) -> 0 | L42: =IF(AND(F$6="MZ-VAV",F$11>10000),U46,IF(AND(F$6="MZ-VAV",F$11<=10000,F$11>5000),V46,IF(F$6="MZ-VAV",W46,IF(F$11>10000,X46,IF(AND(F$11<=10000,F$11>5000),Y46,Z46))))) -> 0.15063497 | M42: =K42*L42/1000 -> 0 | T42: Hydronic heating coil (central) | U42: 0.054919339 | V42: 0.049700486 | W42: 0.047112922 | X42: 0.056722001 | Y42: 0.052530353 | Z42: 0.048606057
J43: S7. Hot Gas Reheat Coil: | K43: =IF(F22=$X$79,F11,0) -> 0 | L43: =IF(AND(F$6="MZ-VAV",K$33>10000),U47,IF(AND(F$6="MZ-VAV",K$33<=10000,K$33>5000),V47,IF(F$6="MZ-VAV",W47,IF(K$33>10000,X47,IF(AND(K$33<=10000,K$33>5000),Y47,Z47))))) -> 0.036599444 | M43: =K43*L43/1000 -> 0 | T43: Gas heat | U43: 0.073260688 | V43: 0.059575715 | W43: 0.07056415 | X43: 0.075394944 | Y43: 0.062933825 | Z43: 0.060757571
J44: S8. 50% Turndown Single-Zone VAV: | K44: =IF(AND(F6="SZ-VAV",F23=$X$79),F11,0) -> 0 | L44: =IF(AND(F$6="MZ-VAV",K$33>10000),U48,IF(AND(F$6="MZ-VAV",K$33<=10000,K$33>5000),V48,IF(F$6="MZ-VAV",W48,IF(K$33>10000,X48,IF(AND(K$33<=10000,K$33>5000),Y48,Z48))))) -> 0 | M44: =K44*L44/1000 -> 0 | T44: Electric heat | U44: 0.036599444 | V44: 0.039804339 | W44: 0.047112922 | X44: 0.037943123 | Y44: 0.042093671 | Z44: 0.048606057
L45: supply side power allowance (kW) | M45: =SUM(M33:M44) -> 28.159226 | T45: Economizer return damper | U45: 0.036599444 | V45: 0.039804339 | W45: 0.047112922 | X45: 0.037943123 | Y45: 0.042093671 | Z45: 0.048606057
F46: Supply Fan | T46: Enthalpy Recovery Ratio ≥ 0.60 and <0.65) | U46: 0.15063497 | V46: 0.16115926 | W46: 0.19142435 | X46: 0.1529924 | Y46: 0.16933059 | Z46: 0.19825339
B47: Upsize Motor? | F47: No | J47: ER1. Exhaust/Return/Relief Base Allowance: | K47: =F11 -> 30000 | L47: =IF(AND(F$6="MZ-VAV",K$47>10000),U51,IF(AND(F$6="MZ-VAV",K$47<=10000,K$47>5000),V51,IF(F$6="MZ-VAV",W51,IF(K$47>10000,X51,IF(AND(K$47<=10000,K$47>5000),Y51,Z51))))) -> 0.24829908 | M47: =K47*L47/1000 -> 7.4489725 | T47: Reheat coil for dehumidification | U47: 0.036599444 | V47: 0.039804339 | W47: 0.047112922 | X47: 0.037943123 | Y47: 0.042093671 | Z47: 0.048606057
B48: Assumed Motor Nameplate Size: | F48: {=INDEX($S$78:$S$102,MATCH(TRUE,$S$78:$S$102>=H41,0)+IF(F47=$X$79,1,0))} -> 50 | J48: ER2. Filter, any MERV value, in the return airstream: | K48: =IF($K$19=$X$79,F11,0) -> 0 | L48: =IF(AND(F$6="MZ-VAV",K$47>10000),U52,IF(AND(F$6="MZ-VAV",K$47<=10000,K$47>5000),V52,IF(F$6="MZ-VAV",W52,IF(K$47>10000,X52,IF(AND(K$47<=10000,K$47>5000),Y52,Z52))))) -> 0.037943123 | M48: =K48*L48/1000 -> 0 | T48: Low-turndown single-zone VAV fan systems meeting the requirements in note 4. | U48: 0 | V48: 0 | W48: 0 | X48: 0.093977336 | Y48: 0.10422981 | Z48: 0.072909086
B49: Brake horsepower: | F49: =H41 -> 45.535948 | J49: ER3. Energy Recovery (ERR=62.5%): | K49: =IF(F20=X79,F11,0) -> 0 | L49: =IF(AND(F$6="MZ-VAV",K$47>10000),U53,IF(AND(F$6="MZ-VAV",K$47<=10000,K$47>5000),V53,IF(F$6="MZ-VAV",W53,IF(K$47>10000,X53,IF(AND(K$47<=10000,K$47>5000),Y53,Z53))))) -> 0.1529924 | M49: =K49*L49/1000 -> 0
B50: ODP/TEFC | F50: ODP | L50: return/exhaust side power allowance | M50: =SUM(M47:M49) -> 7.4489725
B51: Number of Poles | F51: 4 | T51: Exhaust System Base Allowance | U51: 0.24829908 | V51: 0.25638049 | W51: 0.23087877 | X51: 0.19995071 | Y51: 0.19187364 | Z51: 0.19442423
B52: Wire-to-Shaft effciency per AMCA 207: | F52: =N95 -> 0.91696925 | J52: Proposed Method Total Supply and Exhaust/Return (kW): | M52: =M45+M50 -> 35.608198 | T52: Filter (any MERV value) | U52: 0.037943123 | V52: 0.042237028 | W52: 0.048606057 | X52: 0.038768919 | Y52: 0.043164662 | Z52: 0.048606057
B53: Fan electical power (kW): | F53: =M95 -> 37.030856 | J53: Estimated allowance per current requirements (kW): | M53: =F53+G53 -> 37.030856 | T53: Enthalpy Recovery Ratio ≥ 0.60 and <0.65) | U53: 0.1529924 | V53: 0.16984605 | W53: 0.19862498 | X53: 0.1552872 | Y53: 0.17318764 | Z53: 0.19928483
B54: Watts per cfm (W): | F54: =(F53*1000)/F11 -> 1.2343619 | J54: Reduction from estimated current allowance: | M54: =1-(M52/M53) -> 0.038418168
C76: Motor Efficiency Calculations | Q76: Lookups
E77: ηR | N77: Voltage | O77: Motor Type | P77: Tansmission | Q77: M Poles | R77: Qty | S77: Qty M/F | T77: Num MP | U77: VFD current or HP | V77: FEI Pressure Basis | W77: System Type | X77: Yes/No | Z77: MERV Value
E78: ODP | I78: TEFC | N78: 460 | O78: ODP | P78: Direct | Q78: 2 | R78: 0 | S78: 1 | T78: 2 | U78: HP | V78: Static | W78: CAV | X78: No | Z78: MERV 8 or less
D79: Fan System 1 | E79: 2 POLE | F79: 4 POLE | G79: 6 POLE | H79: 8 POLE | I79: 2 POLE | J79: 4 POLE | K79: 6 POLE | L79: 8 POLE | N79: 230 | O79: TEFC | P79: V-Belt | Q79: 4 | R79: 1 | S79: 1.5 | T79: 4 | U79: Current (A) | V79: Total | W79: SZ-VAV | X79: Yes | Z79: MERV 9-12
E80: =VLOOKUP($D$82,constantsHP!$A$4:$I$28,2)/100 -> 0.93 | F80: =VLOOKUP($D$82,constantsHP!$A$4:$I$28,3)/100 -> 0.945 | G80: =VLOOKUP($D$82,constantsHP!$A$4:$I$28,4)/100 -> 0.941 | H80: =VLOOKUP($D$82,constantsHP!$A$4:$I$28,5)/100 -> 0.924 | I80: =VLOOKUP($D$82,constantsHP!$A$4:$I$28,6)/100 -> 0.93 | J80: =VLOOKUP($D$82,constantsHP!$A$4:$I$28,7)/100 -> 0.945 | K80: =VLOOKUP($D$82,constantsHP!$A$4:$I$28,8)/100 -> 0.941 | L80: =VLOOKUP($D$82,constantsHP!$A$4:$I$28,9)/100 -> 0.91 | N80: 575 | P80: Synchronous Belt | Q80: 6 | R80: 2 | S80: 2 | T80: 6 | W80: MZ-VAV | Z80: MERV 13-16
C81: Quantity of Motors | D81: 1 | N81: 208 | P81: Coupling | Q81: 8 | R81: 3 | S81: 3 | T81: 8 | Z81: MERV 13-16 Downstream
C82: Motor Namplate Horsepower | D82: =F48 -> 50 | E82: Motor Factors | F82: 2 POLE | H82: 4 POLE | J82: 6 & 8 POLE | R82: 4 | S82: 5
C83: Brake HP of 1 fan at design airflow | D83: =F49 -> 45.535948 | F83: a | G83: b | H83: a | I83: b | J83: a | K83: b | R83: 5 | S83: 7.5
C84: ODP or TEFC | D84: =F50 -> ODP | E84: With VFD | F84: =VLOOKUP($D$82,constantsHP!$K$4:$Q$28,2) -> 1.02261 | G84: =VLOOKUP($D$82,constantsHP!$K$4:$Q$28,3) -> 0.00485 | H84: =VLOOKUP($D$82,constantsHP!$K$4:$Q$28,4) -> 1.02185 | I84: =VLOOKUP($D$82,constantsHP!$K$4:$Q$28,5) -> 0.0037 | J84: =VLOOKUP($D$82,constantsHP!$K$4:$Q$28,6) -> 1.02106 | K84: =VLOOKUP($D$82,constantsHP!$K$4:$Q$28,7) -> 0.00384 | R84: 6 | S84: 10
E85: DOL | F85: =VLOOKUP($D$82,constantsHP!$Z$4:$AF$28,2) -> 1.06214 | G85: =VLOOKUP($D$82,constantsHP!$Z$4:$AF$28,3) -> 0.02769 | H85: =VLOOKUP($D$82,constantsHP!$Z$4:$AF$28,4) -> 1.04612 | I85: =VLOOKUP($D$82,constantsHP!$Z$4:$AF$28,5) -> 0.01621 | J85: =VLOOKUP($D$82,constantsHP!$Z$4:$AF$28,6) -> 1.04703 | K85: =VLOOKUP($D$82,constantsHP!$Z$4:$AF$28,7) -> 0.01732 | R85: 7 | S85: 15
C86: Number of Motor Poles | D86: =F51 -> 4 | R86: 8 | S86: 20
C87: Transmission | D87: =F10 -> Direct | F87: VFD Factors | R87: 9 | S87: 25
C88: Quantity of VFD's | D88: =IF(F9="no",0,1) -> 1 | F88: HP | G88: d | H88: e | I88: f | R88: 10 | S88: 30
C89: Size of VFD's | D89: =D82 -> 50 | E89: Below | F89: =VLOOKUP($D$89,constantsHP!$S$4:$X$28,3) -> 50 | G89: =VLOOKUP($D$89,constantsHP!$S$4:$X$28,4) -> 0.9879 | H89: =VLOOKUP($D$89,constantsHP!$S$4:$X$28,5) -> 0.0184 | I89: =VLOOKUP($D$89,constantsHP!$S$4:$X$28,6) -> -0.0017 | R89: 11 | S89: 40
E90: Above | F90: =VLOOKUP($D$89,constantsHP!$T$4:$X$28,2) -> 60 | G90: =VLOOKUP($D$89,constantsHP!$T$4:$X$28,3) -> 0.9719 | H90: =VLOOKUP($D$89,constantsHP!$T$4:$X$28,4) -> 0.0145 | I90: =VLOOKUP($D$89,constantsHP!$T$4:$X$28,5) -> 0.0118 | R90: 12 | S90: 50
E91: Linear interpol. | F91: =(D89-F89)/(F90-F89) -> 0 | G91: =ROUND($F91*(G90-G89)+G89,5) -> 0.9879 | H91: =ROUND($F91*(H90-H89)+H89,5) -> 0.0184 | I91: =ROUND($F91*(I90-I89)+I89,5) -> -0.0017 | R91: 13 | S91: 60
R92: 14 | S92: 75
R93: 15 | S93: 100
A94: BHP | B94: Belt Efficiency ηb | C94: Motor Shaft Power (HP) Hm | D94: ηR | E94: Lm | F94: a | G94: b | H94: c | I94: Motor Efficiency ηm | J94: Lc | K94: VFD effiiciency ηc | L94: VFD & Motor Efficiency ηmc | M94: Power Consumption kW | N94: VFD, Motor & Transmission Efficiency ηsystem | R94: 16 | S94: 125
A95: =D83 -> 45.535948 | B95: =IF($D$87="Direct",1,IF($D$87="V-Belt",0.96*(A95/(A95+2.2))^0.05,IF($D$87="Coupling",0.98,IF(AND($D$87="Synchronous Belt",A95<=1.34),0.94,IF(AND($D$87="Synchronous Belt",A95>1.34,A95<=6.7),0.00746*A95+0.93,0.98))))) -> 1 | C95: =A95/B95 -> 45.535948 | D95: =IF(AND($D$84="ODP",$D$86=2),$E$80,IF(AND($D$84="ODP",$D$86=4),$F$80,IF(AND($D$84="ODP",$D$86=6),$G$80,IF(AND($D$84="ODP",$D$86=8),$H$80,IF(AND($D$84="TEFC",$D$86=2),$I$80,IF(AND($D$84="TEFC",$D$86=4),$J$80,IF(AND($D$84="TEFC",$D$86=6),$K$80,IF(AND($D$84="TEFC",$D$86=8),$L$80)))))))) -> 0.945 | E95: =C95/$D$82 -> 0.91071895 | F95: =IF(AND($D$88>0,$D$86=2),F$84,IF(AND($D$88=0,$D$86=2),F$85,IF(AND($D$88>0,$D$86=4),H$84,IF(AND($D$88=0,$D$86=4),H$85,IF(AND($D$88>0,OR($D$86=6,$D$86=8)),J$84,IF(AND($D$88=0,OR($D$86=6,$D$86=8)),J$85)))))) -> 1.02185 | G95: =IF(AND($D$88>0,$D$86=2),G$84,IF(AND($D$88=0,$D$86=2),G$85,IF(AND($D$88>0,$D$86=4),I$84,IF(AND($D$88=0,$D$86=4),I$85,IF(AND($D$88>0,OR($D$86=6,$D$86=8)),K$84,IF(AND($D$88=0,OR($D$86=6,$D$86=8)),K$85)))))) -> 0.0037 | H95: =1-(F95/(1+G95)) -> -0.018083093 | I95: =D95*(((F95*E95)/(G95+E95))+H95*(E95^2)) -> 0.94756759 | J95: =IF($D$88=0,0,($D$81/$D$88)*C95/(I95*$D$89)) -> 0.9611124 | K95: =($G$91*J95/($H$91+J95))+(J95*$I$91) -> 0.96770855 | L95: =I95*K95 -> 0.91696925 | M95: =IF(J95=0,C95*0.7457/I95,C95*0.7457/L95) -> 37.030856 | N95: =IF(J95=0,B95*I95,B95*L95) -> 0.91696925 | R95: 17 | S95: 150
R96: 18 | S96: 200
R97: 19 | S97: 250
R98: 20 | S98: 300
R99: 21 | S99: 350
R100: 22 | S100: 400
R101: 23 | S101: 450
R102: 24 | S102: 500
R103: 25
R104: 26
R105: 37
R106: 38
R107: 39
R108: 40

Sheet Sup-Ret Fan Template
F3: System Attributes | J3: Key:
C4: Description: | G4: Supply and Return Fan | J4: Input
C5: CAV/SZ-VAV/MZ-VAV: | G5: CAV | J5: Calculation
C6: Calculation Method: | G6: Single-Cabinet Fan System | J6: Hard-coded value
G7: Supply | H7: Exhaust/Return | J7: Output
C8: Variable Speed Drive (Yes/No) | G8: Yes | H8: Yes
C9: Transmission (Direct/V-belt): | G9: V-Belt | H9: V-Belt
C10: Airflow (cfm): | G10: 7000 | H10: 7000
C11: Est return/exhaust/relief fan fraction of total bhp | G11: 0.35
G14: Airflow
G15: Supply | H15: Return/Exhaust
D16: S2. Filter: | E16: MERV 13-16 | G16: =G10 -> 7000
D17: S3. Cooling or Heat Pump Coil: | E17: Yes | G17: =IF(E17=$X$84,G$10,0) -> 7000
D18: S4. Heating Coil: | E18: No | G18: =IF(E18=$X$84,G$10,0) -> 0
D19: S4. Gas Furnace: | E19: Yes | G19: =IF(E19=$X$84,G$10,0) -> 7000
D20: S4. Electric Resistance Heat: | E20: No | G20: =IF(E20=$X$84,G$10,0) -> 0
D21: S6 and ER3. Energy Recovery Ventilator: | G21: 0 | H21: 0
D22: S5. Economizer Return Damper | G22: 7000
D23: S7. Hot Gas Reheat Coil | E23: No | G23: =IF(E23=$X$84,G$10,0) -> 0
D24: S8. 50% Turndown (Single-Zone VAV only) | E24: No | G24: =IF(E24=$X$84,G$10,0) -> 0
D25: ER2. Filter, any MERV value, in the return airstream | H25: 0
E26: Note: Grey cells contain airflow values that are automatically populated but can be overridden if necessary. Orange cells must be populated by the user.
B30: Results of Fan Power Limit Based on Method:
B32: 90.1-2019 Methods: | J32: Proposed Method:
B34: Motor Nameplate Method, max hp | F34: =IF(G5="MZ-VAV",G10*0.0015,G10*0.0011) -> 7.7
B35: Resulting maximum standard motor size, hp | F35: =SMALL($S$83:$S$107,COUNTIF($S$83:$S$107,"<="&F34)) -> 7.5
B37: Brake Horsepower Method | F37: Airflow (cfm) | G37: Additional Pressure Loss (in. wc) | H37: Allowed Brake Horsepower | J37: Calculation per the proposed Fan Power Limits | K37: Airflow | L37: Allowed w/cfm | M37: Fan Power Allowance (kW)
B38: Base Allowance: | F38: =G10 -> 7000 | G38: N/A | H38: =IF(G5="MZ-VAV",F38*0.0013,F38*0.00094) -> 6.58 | J38: S1. Supply Base Allowance: | K38: =G10 -> 7000 | L38: =IF(AND(G$5="MZ-VAV",G$10>10000),U42,IF(AND(G$5="MZ-VAV",G$10<=10000,G$10>5000),V42,IF(G$5="MZ-VAV",W42,IF(G$10>10000,X42,IF(AND(G$10<=10000,G$10>5000),Y42,Z42))))) -> 0.26699447 | M38: =K38*L38/1000 -> 1.8689613
B39: MERV 9-12 Filter: | F39: =IF(E16=Z84,G16,0) -> 0 | G39: 0.5 | H39: =G39*F39/4131 -> 0 | J39: S2. Up to MERV 12 Filter: | K39: =IF(OR(E16=Z83,E16=Z84),G10,0) -> 0 | L39: =IF(AND(G$5="MZ-VAV",G$10>10000),U43,IF(AND(G$5="MZ-VAV",G$10<=10000,G$10>5000),V43,IF(G$5="MZ-VAV",W43,IF(G$10>10000,X43,IF(AND(G$10<=10000,G$10>5000),Y43,Z43))))) -> 0.083644004 | M39: =K39*L39/1000 -> 0 | V39: Multi-Zone VAV System airflow (cfm) | Y39: Constant Volume/Single-zone VAV airflow (cfm)
B40: MERV 13 or greater filter: | F40: =IF(OR(E16=Z85,E16=Z86),G10,0) -> 7000 | G40: 0.9 | H40: =G40*F40/4131 -> 1.5250545 | J40: S2. MERV 13 to 16 Filter: | K40: =IF(E16=Z85,G10,0) -> 7000 | L40: =IF(AND(G$5="MZ-VAV",G$10>10000),U44,IF(AND(G$5="MZ-VAV",G$10<=10000,G$10>5000),V44,IF(G$5="MZ-VAV",W44,IF(G$10>10000,X44,IF(AND(G$10<=10000,G$10>5000),Y44,Z44))))) -> 0.18543501 | M40: =K40*L40/1000 -> 1.2980451 | T40: Air System Component | U40: >10,000 | V40: >5,000 and ≤10,000 | W40: ≤5,000 | X40: >10,000 | Y40: >5,000 and ≤10,000 | Z40: ≤5,000
B41: Energy Recovery Supply Airstream: | F41: =G21 -> 0 | G41: =2.2*0.625-0.5 -> 0.875 | H41: =G41*F41/4131 -> 0 | J41: S2. MERV 13-16 Filter Downstream of Cooling Coil: | K41: =IF($E16=$Z$86,$G$10,0) -> 0 | L41: =IF(AND(G$5="MZ-VAV",G$10>10000),U45,IF(AND(G$5="MZ-VAV",G$10<=10000,G$10>5000),V45,IF(G$5="MZ-VAV",W45,IF(G$10>10000,X45,IF(AND(G$10<=10000,G$10>5000),Y45,Z45))))) -> 0.20547667 | M41: =K41*L41/1000 -> 0
B42: Energy Recovery Exhaust Airstream: | F42: =H21 -> 0 | G42: 0.875 | H42: =G42*F42/4131 -> 0 | J42: S3. Cooling or Heat Pump Coil: | K42: =IF(E17=$X$84,G10,0) -> 7000 | L42: =IF(AND(G$5="MZ-VAV",G$10>10000),U46,IF(AND(G$5="MZ-VAV",G$10<=10000,G$10>5000),V46,IF(G$5="MZ-VAV",W46,IF(G$10>10000,X46,IF(AND(G$10<=10000,G$10>5000),Y46,Z46))))) -> 0.12469667 | M42: =K42*L42/1000 -> 0.87287672 | T42: Supply System Base Allowance for air handler serving floor ≤6 floors away. | U42: 0.48004219 | V42: 0.47247115 | W42: 0.41298195 | X42: 0.24829908 | Y42: 0.26699447 | Z42: 0.24303029
B43: Deduction for no Central Cooling Device: | F43: =IF(E17=X83,G10,0) -> 0 | G43: -0.6 | H43: =G43*F43/4131 -> 0 | J43: S4. Heating Coil: | K43: =IF(E18=$X$84,G10,0) -> 0 | L43: =IF(AND(G$5="MZ-VAV",G$10>10000),U47,IF(AND(G$5="MZ-VAV",G$10<=10000,G$10>5000),V47,IF(G$5="MZ-VAV",W47,IF(G$10>10000,X47,IF(AND(G$10<=10000,G$10>5000),Y47,Z47))))) -> 0.052530353 | M43: =K43*L43/1000 -> 0 | T43: Filter MERV 12 or less | U43: 0.073260688 | V43: 0.079265464 | W43: 0.093946594 | X43: 0.075394944 | Y43: 0.083644004 | Z43: 0.097212114
B44: Deduction for no Central Heating Device: | F44: =IF(AND(E18=X83,E19=X83,E20=X83),G10,0) -> 0 | G44: -0.3 | H44: =G44*F44/4131 -> 0 | J44: S4. Gas Furnace: | K44: =IF(E19=$X$84,G10,0) -> 7000 | L44: =IF(AND(G$5="MZ-VAV",G$10>10000),U48,IF(AND(G$5="MZ-VAV",G$10<=10000,G$10>5000),V48,IF(G$5="MZ-VAV",W48,IF(G$10>10000,X48,IF(AND(G$10<=10000,G$10>5000),Y48,Z48))))) -> 0.062933825 | M44: =K44*L44/1000 -> 0.44053677 | T44: MERV 13 to MERV 16 Filter (mid-life) | U44: 0.16544989 | V44: 0.17662576 | W44: 0.20986203 | X44: 0.16767207 | Y44: 0.18543501 | Z44: 0.21706459
B45: Deduction for Electric Resistance Heat: | F45: =IF(E20=X84,G10,0) -> 0 | G45: -0.2 | H45: =G45*F45/4131 -> 0 | J45: S4. Electric Resistance Heat: | K45: =IF(E20=$X$84,G10,0) -> 0 | L45: =IF(AND(G$5="MZ-VAV",G$10>10000),U49,IF(AND(G$5="MZ-VAV",G$10<=10000,G$10>5000),V49,IF(G$5="MZ-VAV",W49,IF(G$10>10000,X49,IF(AND(G$10<=10000,G$10>5000),Y49,Z49))))) -> 0.042093671 | M45: =K45*L45/1000 -> 0 | T45: MERV 13 to MERV 16 Final filter located downstream of thermal conditioning equipment. (mid-life) | U45: 0.18400785 | V45: 0.19590564 | W45: 0.23285256 | X45: 0.18599637 | Y45: 0.20547667 | Z45: 0.24051581
B46: TOTAL: | H46: =SUM(H38:H45) -> 8.1050545 | J46: S5. Economizer Return Damper: | K46: =G22 -> 7000 | L46: =IF(AND(G$5="MZ-VAV",G$10>10000),U50,IF(AND(G$5="MZ-VAV",G$10<=10000,G$10>5000),V50,IF(G$5="MZ-VAV",W50,IF(G$10>10000,X50,IF(AND(G$10<=10000,G$10>5000),Y50,Z50))))) -> 0.042093671 | M46: =K46*L46/1000 -> 0.2946557 | T46: Hydronic/DX cooling coil, or heat pump coil (wet) [Healthcare facilities can select twice] | U46: 0.11002795 | V46: 0.11841599 | W46: 0.14050917 | X46: 0.11248346 | Y46: 0.12469667 | Z46: 0.14581817
J47: S6. Energy Recovery (ERR=62.5%) | K47: =G21 -> 0 | L47: =IF(AND(G$5="MZ-VAV",G$10>10000),U51,IF(AND(G$5="MZ-VAV",G$10<=10000,G$10>5000),V51,IF(G$5="MZ-VAV",W51,IF(G$10>10000,X51,IF(AND(G$10<=10000,G$10>5000),Y51,Z51))))) -> 0.16933059 | M47: =K47*L47/1000 -> 0 | T47: Hydronic heating coil (central) | U47: 0.054919339 | V47: 0.049700486 | W47: 0.047112922 | X47: 0.056722001 | Y47: 0.052530353 | Z47: 0.048606057
J48: S7. Hot Gas Reheat Coil: | K48: =G23 -> 0 | L48: =IF(AND(G$5="MZ-VAV",K$38>10000),U52,IF(AND(G$5="MZ-VAV",K$38<=10000,K$38>5000),V52,IF(G$5="MZ-VAV",W52,IF(K$38>10000,X52,IF(AND(K$38<=10000,K$38>5000),Y52,Z52))))) -> 0.042093671 | M48: =K48*L48/1000 -> 0 | T48: Gas heat | U48: 0.073260688 | V48: 0.059575715 | W48: 0.07056415 | X48: 0.075394944 | Y48: 0.062933825 | Z48: 0.060757571
F49: Supply Fan | G49: Exhaust/ Return/ Relief Fan | J49: S8. 50% Turndown Single-Zone VAV: | K49: =G24 -> 0 | L49: =IF(AND(G$5="MZ-VAV",K$38>10000),U53,IF(AND(G$5="MZ-VAV",K$38<=10000,K$38>5000),V53,IF(G$5="MZ-VAV",W53,IF(K$38>10000,X53,IF(AND(K$38<=10000,K$38>5000),Y53,Z53))))) -> 0.10422981 | M49: =K49*L49/1000 -> 0 | T49: Electric heat | U49: 0.036599444 | V49: 0.039804339 | W49: 0.047112922 | X49: 0.037943123 | Y49: 0.042093671 | Z49: 0.048606057
L50: supply side power allowance (kW) | M50: =SUM(M38:M49) -> 4.7750756 | T50: Economizer return damper | U50: 0.036599444 | V50: 0.039804339 | W50: 0.047112922 | X50: 0.037943123 | Y50: 0.042093671 | Z50: 0.048606057
T51: Enthalpy Recovery Ratio ≥ 0.60 and <0.65) | U51: 0.15063497 | V51: 0.16115926 | W51: 0.19142435 | X51: 0.1529924 | Y51: 0.16933059 | Z51: 0.19825339
B52: Upsize Motor? | F52: Yes | G52: Yes | J52: ER1. Exhaust/Return/Relief Base Allowance: | K52: =H10 -> 7000 | L52: =IF(AND(G$5="MZ-VAV",K$52>10000),U56,IF(AND(G$5="MZ-VAV",K$52<=10000,K$52>5000),V56,IF(G$5="MZ-VAV",W56,IF(K$52>10000,X56,IF(AND(K$52<=10000,K$52>5000),Y56,Z56))))) -> 0.19187364 | M52: =K52*L52/1000 -> 1.3431155 | T52: Reheat coil for dehumidification | U52: 0.036599444 | V52: 0.039804339 | W52: 0.047112922 | X52: 0.037943123 | Y52: 0.042093671 | Z52: 0.048606057
B53: Assumed Motor Nameplate Size: | F53: {=INDEX($S$83:$S$107,MATCH(TRUE,$S$83:$S$107>=F54,0)+IF(F52=$X$84,1,IF(F52=X$85,2,0)))} -> 10 | G53: {=INDEX($S$83:$S$107,MATCH(TRUE,$S$83:$S$107>=G54,0)+IF(G52=$X$84,1,IF(G52=X$85,2,0)))} -> 5 | J53: ER2. Filter, any MERV value, in the return airstream: | K53: =H25 -> 0 | L53: =IF(AND(G$5="MZ-VAV",K$52>10000),U57,IF(AND(G$5="MZ-VAV",K$52<=10000,K$52>5000),V57,IF(G$5="MZ-VAV",W57,IF(K$52>10000,X57,IF(AND(K$52<=10000,K$52>5000),Y57,Z57))))) -> 0.043164662 | M53: =K53*L53/1000 -> 0 | T53: Low-turndown single-zone VAV fan systems meeting the requirements in note 4. | U53: 0 | V53: 0 | W53: 0 | X53: 0.093977336 | Y53: 0.10422981 | Z53: 0.072909086
B54: Brake horsepower: | F54: =H46-G11*H46 -> 5.2682854 | G54: =H46-F54 -> 2.8367691 | J54: ER3. Energy Recovery (ERR=62.5%): | K54: =H21 -> 0 | L54: =IF(AND(G$5="MZ-VAV",K$52>10000),U58,IF(AND(G$5="MZ-VAV",K$52<=10000,K$52>5000),V58,IF(G$5="MZ-VAV",W58,IF(K$52>10000,X58,IF(AND(K$52<=10000,K$52>5000),Y58,Z58))))) -> 0.17318764 | M54: =K54*L54/1000 -> 0 | O54: =11*0.7457/0.88 -> 9.32125
B55: ODP/TEFC | F55: TEFC | G55: TEFC | L55: return/exhaust side power allowance (kW) | M55: =SUM(M52:M54) -> 1.3431155 | O55: =O54*0.11 -> 1.0253375
B56: Number of Poles | F56: 4 | G56: 4 | O56: =O55/4 -> 0.25633438 | T56: Exhaust System Base Allowance | U56: 0.24829908 | V56: 0.25638049 | W56: 0.23087877 | X56: 0.19995071 | Y56: 0.19187364 | Z56: 0.19442423
B57: Wire-to-Shaft effciency per AMCA 207: | F57: =N100 -> 0.82355423 | G57: =IF(G53>1,N121,"N/A") -> 0.78665222 | J57: Proposed Method Total Supply and Exhaust/Return (kW): | M57: =M50+M55 -> 6.118191 | O57: =O56*4360 -> 1117.6179 | T57: Filter (any MERV value) | U57: 0.037943123 | V57: 0.042237028 | W57: 0.048606057 | X57: 0.038768919 | Y57: 0.043164662 | Z57: 0.048606057
B58: Fan electical power (kW): | F58: =M100 -> 4.770251 | G58: =IF(H10>1,M121,0) -> 2.6890901 | J58: Estimated allowance per current requirements (kW): | M58: =F58+G58 -> 7.4593411 | O58: =O57*12 -> 13411.414 | T58: Enthalpy Recovery Ratio ≥ 0.60 and <0.65) | U58: 0.1529924 | V58: 0.16984605 | W58: 0.19862498 | X58: 0.1552872 | Y58: 0.17318764 | Z58: 0.19928483
B59: Watts per cfm (W): | F59: =(F58*1000)/G10 -> 0.68146443 | G59: =IF(H10>1,(G58*1000)/H10,0) -> 0.38415573 | J59: Reduction from estimated current allowance: | M59: =1-(M57/M58) -> 0.17979471
M63: =M57/0.7457 -> 8.2046279
M64: =M63*0.879 -> 7.2118679
C81: Motor Efficiency Calculations | Q81: Lookups
E82: ηR | N82: Voltage | O82: Motor Type | P82: Tansmission | Q82: M Poles | R82: Qty | S82: Qty M/F | T82: Num MP | U82: VFD current or HP | V82: FEI Pressure Basis | W82: System Type | X82: Yes/No | Z82: MERV Value
E83: ODP | I83: TEFC | N83: 460 | O83: ODP | P83: Direct | Q83: 2 | R83: 0 | S83: 1 | T83: 2 | U83: HP | V83: Static | W83: CAV | X83: No | Z83: MERV 8 or less
D84: Fan System 1 | E84: 2 POLE | F84: 4 POLE | G84: 6 POLE | H84: 8 POLE | I84: 2 POLE | J84: 4 POLE | K84: 6 POLE | L84: 8 POLE | N84: 230 | O84: TEFC | P84: V-Belt | Q84: 4 | R84: 1 | S84: 1.5 | T84: 4 | U84: Current (A) | V84: Total | W84: SZ-VAV | X84: Yes | Z84: MERV 9-12
E85: =VLOOKUP($D$87,constantsHP!$A$4:$I$28,2)/100 -> 0.895 | F85: =VLOOKUP($D$87,constantsHP!$A$4:$I$28,3)/100 -> 0.917 | G85: =VLOOKUP($D$87,constantsHP!$A$4:$I$28,4)/100 -> 0.917 | H85: =VLOOKUP($D$87,constantsHP!$A$4:$I$28,5)/100 -> 0.902 | I85: =VLOOKUP($D$87,constantsHP!$A$4:$I$28,6)/100 -> 0.902 | J85: =VLOOKUP($D$87,constantsHP!$A$4:$I$28,7)/100 -> 0.917 | K85: =VLOOKUP($D$87,constantsHP!$A$4:$I$28,8)/100 -> 0.91 | L85: =VLOOKUP($D$87,constantsHP!$A$4:$I$28,9)/100 -> 0.875 | N85: 575 | P85: Synchronous Belt | Q85: 6 | R85: 2 | S85: 2 | T85: 6 | W85: MZ-VAV | X85: Yes - twice | Z85: MERV 13-16
C86: Quantity of Motors | D86: 1 | N86: 208 | P86: Coupling | Q86: 8 | R86: 3 | S86: 3 | T86: 8 | Z86: MERV 13-16 Downstream
C87: Motor Namplate Horsepower | D87: =F53 -> 10 | E87: Motor Factors | F87: 2 POLE | H87: 4 POLE | J87: 6 & 8 POLE | R87: 4 | S87: 5
C88: Brake HP of 1 fan at design airflow | D88: =F54 -> 5.2682854 | F88: a | G88: b | H88: a | I88: b | J88: a | K88: b | R88: 5 | S88: 7.5
C89: ODP or TEFC | D89: =F55 -> TEFC | E89: With VFD | F89: =VLOOKUP($D$87,constantsHP!$K$4:$Q$28,2) -> 1.03338 | G89: =VLOOKUP($D$87,constantsHP!$K$4:$Q$28,3) -> 0.00808 | H89: =VLOOKUP($D$87,constantsHP!$K$4:$Q$28,4) -> 1.03866 | I89: =VLOOKUP($D$87,constantsHP!$K$4:$Q$28,5) -> 0.01296 | J89: =VLOOKUP($D$87,constantsHP!$K$4:$Q$28,6) -> 1.04025 | K89: =VLOOKUP($D$87,constantsHP!$K$4:$Q$28,7) -> 0.01572 | R89: 6 | S89: 10
E90: DOL | F90: =VLOOKUP($D$87,constantsHP!$Z$4:$AF$28,2) -> 1.08526 | G90: =VLOOKUP($D$87,constantsHP!$Z$4:$AF$28,3) -> 0.03783 | H90: =VLOOKUP($D$87,constantsHP!$Z$4:$AF$28,4) -> 1.07936 | I90: =VLOOKUP($D$87,constantsHP!$Z$4:$AF$28,5) -> 0.03481 | J90: =VLOOKUP($D$87,constantsHP!$Z$4:$AF$28,6) -> 1.08107 | K90: =VLOOKUP($D$87,constantsHP!$Z$4:$AF$28,7) -> 0.03846 | R90: 7 | S90: 15
C91: Number of Motor Poles | D91: =F56 -> 4 | R91: 8 | S91: 20
C92: Transmission | D92: =G9 -> V-Belt | F92: VFD Factors | R92: 9 | S92: 25
C93: Quantity of VFD's | D93: =IF(G8="no",0,1) -> 1 | F93: HP | G93: d | H93: e | I93: f | R93: 10 | S93: 30
C94: Size of VFD's | D94: =D87 -> 10 | E94: Below | F94: =VLOOKUP($D$94,constantsHP!$S$4:$X$28,3) -> 10 | G94: =VLOOKUP($D$94,constantsHP!$S$4:$X$28,4) -> 0.9787 | H94: =VLOOKUP($D$94,constantsHP!$S$4:$X$28,5) -> 0.0222 | I94: =VLOOKUP($D$94,constantsHP!$S$4:$X$28,6) -> 0.0019 | R94: 11 | S94: 40
E95: Above | F95: =VLOOKUP($D$94,constantsHP!$T$4:$X$28,2) -> 15 | G95: =VLOOKUP($D$94,constantsHP!$T$4:$X$28,3) -> 0.98185 | H95: =VLOOKUP($D$94,constantsHP!$T$4:$X$28,4) -> 0.01985 | I95: =VLOOKUP($D$94,constantsHP!$T$4:$X$28,5) -> 0.0007 | R95: 12 | S95: 50
E96: Linear interpol. | F96: =(D94-F94)/(F95-F94) -> 0 | G96: =ROUND($F96*(G95-G94)+G94,5) -> 0.9787 | H96: =ROUND($F96*(H95-H94)+H94,5) -> 0.0222 | I96: =ROUND($F96*(I95-I94)+I94,5) -> 0.0019 | R96: 13 | S96: 60
R97: 14 | S97: 75
R98: 15 | S98: 100
A99: BHP | B99: Belt Efficiency ηb | C99: Motor Shaft Power (HP) Hm | D99: ηR | E99: Lm | F99: a | G99: b | H99: c | I99: Motor Efficiency ηm | J99: Lc | K99: VFD effiiciency ηc | L99: VFD & Motor Efficiency ηmc | M99: Power Consumption kW | N99: VFD, Motor & Transmission Efficiency ηsystem | R99: 16 | S99: 125
A100: =D88 -> 5.2682854 | B100: =IF($D$92="Direct",1,IF($D$92="V-Belt",0.96*(A100/(A100+2.2))^0.05,IF($D$92="Coupling",0.98,IF(AND($D$92="Synchronous Belt",A100<=1.34),0.94,IF(AND($D$92="Synchronous Belt",A100>1.34,A100<=6.7),0.00746*A100+0.93,0.98))))) -> 0.94339518 | C100: =A100/B100 -> 5.5843887 | D100: =IF(AND($D$89="ODP",$D$91=2),$E$85,IF(AND($D$89="ODP",$D$91=4),$F$85,IF(AND($D$89="ODP",$D$91=6),$G$85,IF(AND($D$89="ODP",$D$91=8),$H$85,IF(AND($D$89="TEFC",$D$91=2),$I$85,IF(AND($D$89="TEFC",$D$91=4),$J$85,IF(AND($D$89="TEFC",$D$91=6),$K$85,IF(AND($D$89="TEFC",$D$91=8),$L$85)))))))) -> 0.917 | E100: =C100/$D$87 -> 0.55843887 | F100: =IF(AND($D$93>0,$D$91=2),F$89,IF(AND($D$93=0,$D$91=2),F$90,IF(AND($D$93>0,$D$91=4),H$89,IF(AND($D$93=0,$D$91=4),H$90,IF(AND($D$93>0,OR($D$91=6,$D$91=8)),J$89,IF(AND($D$93=0,OR($D$91=6,$D$91=8)),J$90)))))) -> 1.03866 | G100: =IF(AND($D$93>0,$D$91=2),G$89,IF(AND($D$93=0,$D$91=2),G$90,IF(AND($D$93>0,$D$91=4),I$89,IF(AND($D$93=0,$D$91=4),I$90,IF(AND($D$93>0,OR($D$91=6,$D$91=8)),K$89,IF(AND($D$93=0,OR($D$91=6,$D$91=8)),K$90)))))) -> 0.01296 | H100: =1-(F100/(1+G100)) -> -0.025371189 | I100: =D100*(((F100*E100)/(G100+E100))+H100*(E100^2)) -> 0.9235931 | J100: =IF($D$93=0,0,($D$86/$D$93)*C100/(I100*$D$94)) -> 0.60463734 | K100: =($G$96*J100/($H$96+J100))+(J100*$I$96) -> 0.94518728 | L100: =I100*K100 -> 0.87296845 | M100: =IF(J100=0,C100*0.7457/I100,C100*0.7457/L100) -> 4.770251 | N100: =IF(J100=0,B100*I100,B100*L100) -> 0.82355423 | R100: 17 | S100: 150
R101: 18 | S101: 200
R102: 19 | S102: 250
E103: ηR | R103: 20 | S103: 300
E104: ODP | I104: TEFC | R104: 21 | S104: 350
D105: Fan System 2 | E105: 2 POLE | F105: 4 POLE | G105: 6 POLE | H105: 8 POLE | I105: 2 POLE | J105: 4 POLE | K105: 6 POLE | L105: 8 POLE | R105: 22 | S105: 400
E106: =VLOOKUP($D$108,constantsHP!$A$4:$I$28,2)/100 -> 0.865 | F106: =VLOOKUP($D$108,constantsHP!$A$4:$I$28,3)/100 -> 0.895 | G106: =VLOOKUP($D$108,constantsHP!$A$4:$I$28,4)/100 -> 0.895 | H106: =VLOOKUP($D$108,constantsHP!$A$4:$I$28,5)/100 -> 0.885 | I106: =VLOOKUP($D$108,constantsHP!$A$4:$I$28,6)/100 -> 0.885 | J106: =VLOOKUP($D$108,constantsHP!$A$4:$I$28,7)/100 -> 0.895 | K106: =VLOOKUP($D$108,constantsHP!$A$4:$I$28,8)/100 -> 0.895 | L106: =VLOOKUP($D$108,constantsHP!$A$4:$I$28,9)/100 -> 0.84 | R106: 23 | S106: 450
C107: Quantity of Motors | D107: 1 | R107: 24 | S107: 500
C108: Motor Namplate Horsepower | D108: =G53 -> 5 | E108: Motor Factors | F108: 2 POLE | H108: 4 POLE | J108: 6 & 8 POLE | R108: 25
C109: Brake HP of 1 fan at design airflow | D109: =G54 -> 2.8367691 | F109: a | G109: b | H109: a | I109: b | J109: a | K109: b | R109: 26
C110: ODP or TEFC | D110: =G55 -> TEFC | E110: With VFD | F110: =VLOOKUP($D$108,constantsHP!$K$4:$Q$28,2) -> 1.03641 | G110: =VLOOKUP($D$108,constantsHP!$K$4:$Q$28,3) -> 0.00975 | H110: =VLOOKUP($D$108,constantsHP!$K$4:$Q$28,4) -> 1.04288 | I110: =VLOOKUP($D$108,constantsHP!$K$4:$Q$28,5) -> 0.01596 | J110: =VLOOKUP($D$108,constantsHP!$K$4:$Q$28,6) -> 1.04461 | K110: =VLOOKUP($D$108,constantsHP!$K$4:$Q$28,7) -> 0.02024 | R110: 37
E111: DOL | F111: =VLOOKUP($D$108,constantsHP!$Z$4:$AF$28,2) -> 1.09241 | G111: =VLOOKUP($D$108,constantsHP!$Z$4:$AF$28,3) -> 0.04197 | H111: =VLOOKUP($D$108,constantsHP!$Z$4:$AF$28,4) -> 1.08745 | I111: =VLOOKUP($D$108,constantsHP!$Z$4:$AF$28,5) -> 0.04009 | J111: =VLOOKUP($D$108,constantsHP!$Z$4:$AF$28,6) -> 1.09051 | K111: =VLOOKUP($D$108,constantsHP!$Z$4:$AF$28,7) -> 0.04588 | R111: 38
C112: Number of Motor Poles | D112: =G56 -> 4 | R112: 39
C113: Transmission | D113: =H9 -> V-Belt | F113: VFD Factors | R113: 40
C114: Quantity of VFD's | D114: =IF(H8="no",0,1) -> 1 | F114: HP | G114: d | H114: e | I114: f
C115: Size of VFD's | D115: =D108 -> 5 | E115: Below | F115: =VLOOKUP($D$115,constantsHP!$S$4:$X$28,3) -> 5 | G115: =VLOOKUP($D$115,constantsHP!$S$4:$X$28,4) -> 0.9775 | H115: =VLOOKUP($D$115,constantsHP!$S$4:$X$28,5) -> 0.0284 | I115: =VLOOKUP($D$115,constantsHP!$S$4:$X$28,6) -> -0.0027
E116: Above | F116: =VLOOKUP($D$115,constantsHP!$T$4:$X$28,2) -> 7.5 | G116: =VLOOKUP($D$115,constantsHP!$T$4:$X$28,3) -> 0.9781 | H116: =VLOOKUP($D$115,constantsHP!$T$4:$X$28,4) -> 0.0253 | I116: =VLOOKUP($D$115,constantsHP!$T$4:$X$28,5) -> -0.0004
E117: Linear interpol. | F117: =(D115-F115)/(F116-F115) -> 0 | G117: =ROUND($F117*(G116-G115)+G115,5) -> 0.9775 | H117: =ROUND($F117*(H116-H115)+H115,5) -> 0.0284 | I117: =ROUND($F117*(I116-I115)+I115,5) -> -0.0027
A120: BHP | B120: Belt Efficiency ηb | C120: Motor Shaft Power (HP) Hm | D120: ηR | E120: Lm | F120: a | G120: b | H120: c | I120: Motor Efficiency ηm | J120: Lc | K120: VFD effiiciency ηc | L120: VFD & Motor Efficiency ηmc | M120: Power Consumption kW | N120: VFD, Motor & Transmission Efficiency ηsystem
A121: =D109 -> 2.8367691 | B121: =IF($D$113="Direct",1,IF($D$113="V-Belt",0.96*(A121/(A121+2.2))^0.05,IF($D$113="Coupling",0.98,IF(AND($D$113="Synchronous Belt",A121<=1.34),0.94,IF(AND($D$113="Synchronous Belt",A121>1.34,A121<=6.7),0.00746*A121+0.93,0.98))))) -> 0.932835 | C121: =A121/B121 -> 3.0410191 | D121: =IF(AND($D$110="ODP",$D$112=2),$E$106,IF(AND($D$110="ODP",$D$112=4),$F$106,IF(AND($D$110="ODP",$D$112=6),$G$106,IF(AND($D$110="ODP",$D$112=8),$H$106,IF(AND($D$110="TEFC",$D$112=2),$I$106,IF(AND($D$110="TEFC",$D$112=4),$J$106,IF(AND($D$110="TEFC",$D$112=6),$K$106,IF(AND($D$110="TEFC",$D$112=8),$L$106)))))))) -> 0.895 | E121: =C121/$D$108 -> 0.60820383 | F121: =IF(AND($D$114>0,$D$112=2),F$110,IF(AND($D$114=0,$D$112=2),F$111,IF(AND($D$114>0,$D$112=4),H$110,IF(AND($D$114=0,$D$112=4),H$111,IF(AND($D$114>0,OR($D$112=6,$D$112=8)),J$110,IF(AND($D$114=0,OR($D$112=6,$D$112=8)),J$111)))))) -> 1.04288 | G121: =IF(AND($D$114>0,$D$112=2),G$110,IF(AND($D$114=0,$D$112=2),G$111,IF(AND($D$114>0,$D$112=4),I$110,IF(AND($D$114=0,$D$112=4),I$111,IF(AND($D$114>0,OR($D$112=6,$D$112=8)),K$110,IF(AND($D$114=0,OR($D$112=6,$D$112=8)),K$111)))))) -> 0.01596 | H121: =1-(F121/(1+G121)) -> -0.026497106 | I121: =D121*(((F121*E121)/(G121+E121))+H121*(E121^2)) -> 0.90073851 | J121: =IF($D$114=0,0,($D$107/$D$114)*C121/(I121*$D$115)) -> 0.67522796 | K121: =($G$117*J121/($H$117+J121))+(J121*$I$117) -> 0.9362228 | L121: =I121*K121 -> 0.84329193 | M121: =IF(J121=0,C121*0.7457/I121,C121*0.7457/L121) -> 2.6890901 | N121: =IF(J121=0,B121*I121,B121*L121) -> 0.78665222

Sheet Complex System Template
G3: System Attributes | K3: Key:
D4: Description: | H4: Single fan, recirculating | K4: Input
D5: CAV/SZ-VAV/MZ-VAV: | H5: MZ-VAV | K5: Calculation
D6: Calculation Method: | H6: Complex Fan System | K6: Hard-coded value
H7: Supply | I7: Exhaust/Return | K7: Output
D8: Variable Speed Drive (Yes/No) | H8: Yes | I8: Yes
D9: Transmission (Direct/V-belt): | H9: Direct | I9: Direct
D10: Airflow (cfm): | H10: 8000 | I10: 7600
D11: Est return/exhaust/relief fan fraction of total bhp | H11: 0.2
H14: Airflow
H15: Supply | I15: Return/Exhaust
E16: S2. Filter: | F16: MERV 13-16 Downstream | H16: 3000 | J16: =IF(H16>$H$10,"Warning - value exceeds entered supply airflow!","")
E17: S3. Cooling or Heat Pump Coil: | F17: Yes | H17: =IF(F17=$X$84,H10,0) -> 8000
E18: S4. Heating Coil: | F18: No | H18: =IF(F18=$X$84,H10,0) -> 0
E19: S4. Gas Furnace: | F19: Yes | H19: =IF(F19=$X$84,H10,0) -> 8000
E20: S4. Electric Resistance Heat: | F20: No | H20: =IF(F20=$X$84,H10,0) -> 0
E21: S6 and ER3. Energy Recovery Ventilator: | H21: 3000 | I21: 2600 | J21: =IF(AND(H21>$H$10, I21>$I$10),"Warning - values exceed both entered supply and exhaust/return airflows!",IF(H21>H10,"Warning - value exceeds entered supply airflow!",IF(I21>$I$10,"Warning - value exceeds entered exhaust/return airflow!","")))
E22: S5. Economizer Return Damper | H22: 5000 | J22: =IF(H22>$H$10,"Warning - value exceeds entered supply airflow!","")
E23: S7. Hot Gas Reheat Coil | F23: No | H23: =IF(F23=$X$84,H10,0) -> 0
E24: S8. 50% Turndown (Single-Zone VAV only) | F24: No | H24: =IF(F24=$X$84,H10,0) -> 0
E25: ER2. Filter, any MERV value, in the return airstream | I25: 7600 | J25: =IF(I25>$I$10,"Warning - value exceeds entered exhaust/return airflow!","")
F26: Note: Grey cells contain airflow values that are automatically populated but can be overridden if necessary. Orange cells must be populated by the user.
B30: Results of Fan Power Limit Based on Method:
B32: 90.1-2019 Methods: | J32: Proposed Method:
B34: Motor Nameplate Method, max hp | F34: =IF(H5="MZ-VAV",H10*0.0015,H10*0.0011) -> 12
B35: Resulting maximum standard motor size, hp | F35: =SMALL($S$83:$S$107,COUNTIF($S$83:$S$107,"<="&F34)) -> 10
B37: Brake Horsepower Method | F37: Airflow (cfm) | G37: Additional Pressure Loss (in. wc) | H37: Allowed Brake Horsepower | J37: Calculation per the proposed Fan Power Limits | O37: Airflow | P37: Allowed w/cfm | Q37: Fan Power Allowance (kW)
B38: Base Allowance: | F38: =H10 -> 8000 | G38: N/A | H38: =IF(H5="MZ-VAV",F38*0.0013,F38*0.00094) -> 10.4 | J38: S1. Supply Base Allowance: | O38: =H10 -> 8000 | P38: =IF(AND(H$5="MZ-VAV",H$10>10000),Y42,IF(AND(H$5="MZ-VAV",H$10<=10000,H$10>5000),Z42,IF(H$5="MZ-VAV",AA42,IF(H$10>10000,AB42,IF(AND(H$10<=10000,H$10>5000),AC42,AD42))))) -> 0.47247115 | Q38: =O38*P38/1000 -> 3.7797692
B39: MERV 9-12 Filter: | F39: =IF(F16=Y84,H16,0) -> 0 | G39: 0.5 | H39: =G39*F39/4131 -> 0 | J39: S2. Up to MERV 12 Filter: | O39: =IF(OR(F16=Y83,F16=Y84),H16,0) -> 0 | P39: =IF(AND(H$5="MZ-VAV",H$10>10000),Y43,IF(AND(H$5="MZ-VAV",H$10<=10000,H$10>5000),Z43,IF(H$5="MZ-VAV",AA43,IF(H$10>10000,AB43,IF(AND(H$10<=10000,H$10>5000),AC43,AD43))))) -> 0.079265464 | Q39: =O39*P39/1000 -> 0 | Z39: Multi-Zone VAV System airflow (cfm) | AC39: Constant Volume/Single-zone VAV airflow (cfm)
B40: MERV 13 or greater filter: | F40: =IF(OR(F16=Y85,F16=Y86),H16,0) -> 3000 | G40: 0.9 | H40: =G40*F40/4131 -> 0.65359477 | J40: S2. MERV 13 to 16 Filter: | O40: =IF(F16=Y85,H16,0) -> 0 | P40: =IF(AND(H$5="MZ-VAV",H$10>10000),Y44,IF(AND(H$5="MZ-VAV",H$10<=10000,H$10>5000),Z44,IF(H$5="MZ-VAV",AA44,IF(H$10>10000,AB44,IF(AND(H$10<=10000,H$10>5000),AC44,AD44))))) -> 0.17662576 | Q40: =O40*P40/1000 -> 0 | X40: Air System Component | Y40: >10,000 | Z40: >5,000 and ≤10,000 | AA40: ≤5,000 | AB40: >10,000 | AC40: >5,000 and ≤10,000 | AD40: ≤5,000
B41: Energy Recovery Supply Airstream: | F41: =H21 -> 3000 | G41: =2.2*0.625-0.5 -> 0.875 | H41: =G41*F41/4131 -> 0.63543936 | J41: S2. MERV 13-16 Filter Downstream of Cooling Coil: | O41: =IF(F16=Y86,H16,0) -> 3000 | P41: =IF(AND(H$5="MZ-VAV",H$10>10000),Y45,IF(AND(H$5="MZ-VAV",H$10<=10000,H$10>5000),Z45,IF(H$5="MZ-VAV",AA45,IF(H$10>10000,AB45,IF(AND(H$10<=10000,H$10>5000),AC45,AD45))))) -> 0.19590564 | Q41: =O41*P41/1000 -> 0.58771691
B42: Energy Recovery Exhaust Airstream: | F42: =I21 -> 2600 | G42: 0.875 | H42: =G42*F42/4131 -> 0.55071411 | J42: S3. Cooling or Heat Pump Coil: | O42: =H17 -> 8000 | P42: =IF(AND(H$5="MZ-VAV",H$10>10000),Y46,IF(AND(H$5="MZ-VAV",H$10<=10000,H$10>5000),Z46,IF(H$5="MZ-VAV",AA46,IF(H$10>10000,AB46,IF(AND(H$10<=10000,H$10>5000),AC46,AD46))))) -> 0.11841599 | Q42: =O42*P42/1000 -> 0.94732793 | X42: Supply System Base Allowance for air handler serving floor ≤6 floors away. | Y42: 0.48004219 | Z42: 0.47247115 | AA42: 0.41298195 | AB42: 0.24829908 | AC42: 0.26699447 | AD42: 0.24303029
B43: Deduction for no Central Cooling Device: | F43: =IF(F17=X83,H10,0) -> 0 | G43: -0.6 | H43: =G43*F43/4131 -> 0 | J43: S4. Heating Coil: | O43: =H18 -> 0 | P43: =IF(AND(H$5="MZ-VAV",H$10>10000),Y47,IF(AND(H$5="MZ-VAV",H$10<=10000,H$10>5000),Z47,IF(H$5="MZ-VAV",AA47,IF(H$10>10000,AB47,IF(AND(H$10<=10000,H$10>5000),AC47,AD47))))) -> 0.049700486 | Q43: =O43*P43/1000 -> 0 | X43: Filter MERV 12 or less | Y43: 0.073260688 | Z43: 0.079265464 | AA43: 0.093946594 | AB43: 0.075394944 | AC43: 0.083644004 | AD43: 0.097212114
B44: Deduction for no Central Heating Device: | F44: =IF(AND(F18=X83,F19=X83,F20=X83),H10,0) -> 0 | G44: -0.3 | H44: =G44*F44/4131 -> 0 | J44: S4. Gas Furnace: | O44: =H19 -> 8000 | P44: =IF(AND(H$5="MZ-VAV",H$10>10000),Y48,IF(AND(H$5="MZ-VAV",H$10<=10000,H$10>5000),Z48,IF(H$5="MZ-VAV",AA48,IF(H$10>10000,AB48,IF(AND(H$10<=10000,H$10>5000),AC48,AD48))))) -> 0.059575715 | Q44: =O44*P44/1000 -> 0.47660572 | X44: MERV 13 to MERV 16 Filter (mid-life) | Y44: 0.16544989 | Z44: 0.17662576 | AA44: 0.20986203 | AB44: 0.16767207 | AC44: 0.18543501 | AD44: 0.21706459
B45: Deduction for Electric Resistance Heat: | F45: =H20 -> 0 | G45: -0.2 | H45: =G45*F45/4131 -> 0 | J45: S4. Electric Resistance Heat: | O45: =H20 -> 0 | P45: =IF(AND(H$5="MZ-VAV",H$10>10000),Y49,IF(AND(H$5="MZ-VAV",H$10<=10000,H$10>5000),Z49,IF(H$5="MZ-VAV",AA49,IF(H$10>10000,AB49,IF(AND(H$10<=10000,H$10>5000),AC49,AD49))))) -> 0.039804339 | Q45: =O45*P45/1000 -> 0 | X45: MERV 13 to MERV 16 Final filter located downstream of thermal conditioning equipment. (mid-life) | Y45: 0.18400785 | Z45: 0.19590564 | AA45: 0.23285256 | AB45: 0.18599637 | AC45: 0.20547667 | AD45: 0.24051581
B46: TOTAL: | H46: =SUM(H38:H45) -> 12.239748 | J46: S5. Economizer Return Damper: | O46: =H22 -> 5000 | P46: =IF(AND(H$5="MZ-VAV",H$10>10000),Y50,IF(AND(H$5="MZ-VAV",H$10<=10000,H$10>5000),Z50,IF(H$5="MZ-VAV",AA50,IF(H$10>10000,AB50,IF(AND(H$10<=10000,H$10>5000),AC50,AD50))))) -> 0.039804339 | Q46: =O46*P46/1000 -> 0.19902169 | X46: Hydronic/DX cooling coil, or heat pump coil (wet) [Healthcare facilities can select twice] | Y46: 0.11002795 | Z46: 0.11841599 | AA46: 0.14050917 | AB46: 0.11248346 | AC46: 0.12469667 | AD46: 0.14581817
J47: S6. Energy Recovery (ERR=62.5%) | O47: =H21 -> 3000 | P47: =IF(AND(H$5="MZ-VAV",H$10>10000),Y51,IF(AND(H$5="MZ-VAV",H$10<=10000,H$10>5000),Z51,IF(H$5="MZ-VAV",AA51,IF(H$10>10000,AB51,IF(AND(H$10<=10000,H$10>5000),AC51,AD51))))) -> 0.16115926 | Q47: =O47*P47/1000 -> 0.48347778 | X47: Hydronic heating coil (central) | Y47: 0.054919339 | Z47: 0.049700486 | AA47: 0.047112922 | AB47: 0.056722001 | AC47: 0.052530353 | AD47: 0.048606057
J48: S7. Hot Gas Reheat Coil: | O48: =H23 -> 0 | P48: =IF(AND(H$5="MZ-VAV",O$38>10000),Y52,IF(AND(H$5="MZ-VAV",O$38<=10000,O$38>5000),Z52,IF(H$5="MZ-VAV",AA52,IF(O$38>10000,AB52,IF(AND(O$38<=10000,O$38>5000),AC52,AD52))))) -> 0.039804339 | Q48: =O48*P48/1000 -> 0 | X48: Gas heat | Y48: 0.073260688 | Z48: 0.059575715 | AA48: 0.07056415 | AB48: 0.075394944 | AC48: 0.062933825 | AD48: 0.060757571
F49: Supply Fan | G49: Exhaust/ Return/ Relief Fan | J49: S8. 50% Turndown Single-Zone VAV: | O49: =H24 -> 0 | P49: =IF(AND(H$5="MZ-VAV",O$38>10000),Y53,IF(AND(H$5="MZ-VAV",O$38<=10000,O$38>5000),Z53,IF(H$5="MZ-VAV",AA53,IF(O$38>10000,AB53,IF(AND(O$38<=10000,O$38>5000),AC53,AD53))))) -> 0 | Q49: =O49*P49/1000 -> 0 | X49: Electric heat | Y49: 0.036599444 | Z49: 0.039804339 | AA49: 0.047112922 | AB49: 0.037943123 | AC49: 0.042093671 | AD49: 0.048606057
B50: Motor Calculations: | P50: supply side power allowance (kW) | Q50: =SUM(Q38:Q49) -> 6.4739192 | X50: Economizer return damper | Y50: 0.036599444 | Z50: 0.039804339 | AA50: 0.047112922 | AB50: 0.037943123 | AC50: 0.042093671 | AD50: 0.048606057
X51: Enthalpy Recovery Ratio ≥ 0.60 and <0.65) | Y51: 0.15063497 | Z51: 0.16115926 | AA51: 0.19142435 | AB51: 0.1529924 | AC51: 0.16933059 | AD51: 0.19825339
B52: Upsize Motor? | F52: Yes | G52: No | J52: ER1. Exhaust/Return/Relief Base Allowance: | O52: =I10 -> 7600 | P52: =IF(AND(H$5="MZ-VAV",O$52>10000),Y56,IF(AND(H$5="MZ-VAV",O$52<=10000,O$52>5000),Z56,IF(H$5="MZ-VAV",AA56,IF(O$52>10000,AB56,IF(AND(O$52<=10000,O$52>5000),AC56,AD56))))) -> 0.25638049 | Q52: =O52*P52/1000 -> 1.9484917 | X52: Reheat coil for dehumidification | Y52: 0.036599444 | Z52: 0.039804339 | AA52: 0.047112922 | AB52: 0.037943123 | AC52: 0.042093671 | AD52: 0.048606057
B53: Assumed Motor Nameplate Size: | F53: {=INDEX($S$83:$S$107,MATCH(TRUE,$S$83:$S$107>=F54,0)+IF(F52=$X$84,1,IF(F52=X$85,2,0)))} -> 15 | G53: {=INDEX($S$83:$S$107,MATCH(TRUE,$S$83:$S$107>=G54,0)+IF(G52=$X$84,1,IF(G52=X$85,2,0)))} -> 3 | J53: ER2. Filter, any MERV value, in the return airstream: | O53: =I25 -> 7600 | P53: =IF(AND(H$5="MZ-VAV",O$52>10000),Y57,IF(AND(H$5="MZ-VAV",O$52<=10000,O$52>5000),Z57,IF(H$5="MZ-VAV",AA57,IF(O$52>10000,AB57,IF(AND(O$52<=10000,O$52>5000),AC57,AD57))))) -> 0.042237028 | Q53: =O53*P53/1000 -> 0.32100142 | X53: Low-turndown single-zone VAV fan systems meeting the requirements in note 4. | Y53: 0 | Z53: 0 | AA53: 0 | AB53: 0.093977336 | AC53: 0.10422981 | AD53: 0.072909086
B54: Brake horsepower: | F54: =H46-H11*H46 -> 9.7917986 | G54: =H46-F54 -> 2.4479496 | J54: ER3. Energy Recovery (ERR=62.5%): | O54: =I21 -> 2600 | P54: =IF(AND(H$5="MZ-VAV",O$52>10000),Y58,IF(AND(H$5="MZ-VAV",O$52<=10000,O$52>5000),Z58,IF(H$5="MZ-VAV",AA58,IF(O$52>10000,AB58,IF(AND(O$52<=10000,O$52>5000),AC58,AD58))))) -> 0.16984605 | Q54: =O54*P54/1000 -> 0.44159973
B55: ODP/TEFC | F55: ODP | G55: ODP | P55: return/exhaust side power allowance (kW) | Q55: =SUM(Q52:Q54) -> 2.7110929
B56: Number of Poles | F56: 4 | G56: 4 | X56: Exhaust System Base Allowance | Y56: 0.24829908 | Z56: 0.25638049 | AA56: 0.23087877 | AB56: 0.19995071 | AC56: 0.19187364 | AD56: 0.19442423
B57: Wire-to-Shaft effciency per AMCA 207: | F57: =N100 -> 0.89585523 | G57: =IF(G53>1,N121,"N/A") -> 0.81398304 | J57: Proposed Method Total Supply and Exhaust/Return (kW): | Q57: =Q50+Q55 -> 9.1850121 | X57: Filter (any MERV value) | Y57: 0.037943123 | Z57: 0.042237028 | AA57: 0.048606057 | AB57: 0.038768919 | AC57: 0.043164662 | AD57: 0.048606057
B58: Fan electical power (kW): | F58: =M100 -> 8.150585 | G58: =IF(I10>1,M121,0) -> 2.2425972 | J58: Estimated allowance per current requirements (kW): | Q58: =F58+G58 -> 10.393182 | X58: Enthalpy Recovery Ratio ≥ 0.60 and <0.65) | Y58: 0.1529924 | Z58: 0.16984605 | AA58: 0.19862498 | AB58: 0.1552872 | AC58: 0.17318764 | AD58: 0.19928483
B59: Watts per cfm (W): | F59: =(F58*1000)/H10 -> 1.0188231 | G59: =IF(I10>1,(G58*1000)/I10,0) -> 0.29507857 | J59: Reduction from estimated current allowance: | Q59: =1-(Q57/Q58) -> 0.1162464
C81: Motor Efficiency Calculations | U81: Lookups
E82: ηR | N82: Voltage | O82: Motor Type | P82: Tansmission | Q82: M Poles | R82: Qty | S82: Qty M/F | T82: Num MP | U82: VFD current or HP | V82: FEI Pressure Basis | W82: System Type | X82: Yes/No | Y82: MERV Value
E83: ODP | I83: TEFC | N83: 460 | O83: ODP | P83: Direct | Q83: 2 | R83: 0 | S83: 1 | T83: 2 | U83: HP | V83: Static | W83: CAV | X83: No | Y83: MERV 8 or less
D84: Fan System 1 | E84: 2 POLE | F84: 4 POLE | G84: 6 POLE | H84: 8 POLE | I84: 2 POLE | J84: 4 POLE | K84: 6 POLE | L84: 8 POLE | N84: 230 | O84: TEFC | P84: V-Belt | Q84: 4 | R84: 1 | S84: 1.5 | T84: 4 | U84: Current (A) | V84: Total | W84: SZ-VAV | X84: Yes | Y84: MERV 9-12
E85: =VLOOKUP($D$87,constantsHP!$A$4:$I$28,2)/100 -> 0.902 | F85: =VLOOKUP($D$87,constantsHP!$A$4:$I$28,3)/100 -> 0.93 | G85: =VLOOKUP($D$87,constantsHP!$A$4:$I$28,4)/100 -> 0.917 | H85: =VLOOKUP($D$87,constantsHP!$A$4:$I$28,5)/100 -> 0.902 | I85: =VLOOKUP($D$87,constantsHP!$A$4:$I$28,6)/100 -> 0.91 | J85: =VLOOKUP($D$87,constantsHP!$A$4:$I$28,7)/100 -> 0.924 | K85: =VLOOKUP($D$87,constantsHP!$A$4:$I$28,8)/100 -> 0.917 | L85: =VLOOKUP($D$87,constantsHP!$A$4:$I$28,9)/100 -> 0.875 | N85: 575 | P85: Synchronous Belt | Q85: 6 | R85: 2 | S85: 2 | T85: 6 | W85: MZ-VAV | X85: Yes - twice | Y85: MERV 13-16
C86: Quantity of Motors | D86: 1 | N86: 208 | P86: Coupling | Q86: 8 | R86: 3 | S86: 3 | T86: 8 | Y86: MERV 13-16 Downstream
C87: Motor Namplate Horsepower | D87: =F53 -> 15 | E87: Motor Factors | F87: 2 POLE | H87: 4 POLE | J87: 6 & 8 POLE | R87: 4 | S87: 5
C88: Brake HP of 1 fan at design airflow | D88: =F54 -> 9.7917986 | F88: a | G88: b | H88: a | I88: b | J88: a | K88: b | R88: 5 | S88: 7.5
C89: ODP or TEFC | D89: =F55 -> ODP | E89: With VFD | F89: =VLOOKUP($D$87,constantsHP!$K$4:$Q$28,2) -> 1.03035 | G89: =VLOOKUP($D$87,constantsHP!$K$4:$Q$28,3) -> 0.00641 | H89: =VLOOKUP($D$87,constantsHP!$K$4:$Q$28,4) -> 1.03443 | I89: =VLOOKUP($D$87,constantsHP!$K$4:$Q$28,5) -> 0.00996 | J89: =VLOOKUP($D$87,constantsHP!$K$4:$Q$28,6) -> 1.03588 | K89: =VLOOKUP($D$87,constantsHP!$K$4:$Q$28,7) -> 0.01121 | R89: 6 | S89: 10
E90: DOL | F90: =VLOOKUP($D$87,constantsHP!$Z$4:$AF$28,2) -> 1.07811 | G90: =VLOOKUP($D$87,constantsHP!$Z$4:$AF$28,3) -> 0.03368 | H90: =VLOOKUP($D$87,constantsHP!$Z$4:$AF$28,4) -> 1.07127 | I90: =VLOOKUP($D$87,constantsHP!$Z$4:$AF$28,5) -> 0.02953 | J90: =VLOOKUP($D$87,constantsHP!$Z$4:$AF$28,6) -> 1.07163 | K90: =VLOOKUP($D$87,constantsHP!$Z$4:$AF$28,7) -> 0.03104 | R90: 7 | S90: 15
C91: Number of Motor Poles | D91: =F56 -> 4 | R91: 8 | S91: 20
C92: Transmission | D92: =H9 -> Direct | F92: VFD Factors | R92: 9 | S92: 25
C93: Quantity of VFD's | D93: =IF(H8="no",0,1) -> 1 | F93: HP | G93: d | H93: e | I93: f | R93: 10 | S93: 30
C94: Size of VFD's | D94: =D87 -> 15 | E94: Below | F94: =VLOOKUP($D$94,constantsHP!$S$4:$X$28,3) -> 15 | G94: =VLOOKUP($D$94,constantsHP!$S$4:$X$28,4) -> 0.98185 | H94: =VLOOKUP($D$94,constantsHP!$S$4:$X$28,5) -> 0.01985 | I94: =VLOOKUP($D$94,constantsHP!$S$4:$X$28,6) -> 0.0007 | R94: 11 | S94: 40
E95: Above | F95: =VLOOKUP($D$94,constantsHP!$T$4:$X$28,2) -> 20 | G95: =VLOOKUP($D$94,constantsHP!$T$4:$X$28,3) -> 0.985 | H95: =VLOOKUP($D$94,constantsHP!$T$4:$X$28,4) -> 0.0175 | I95: =VLOOKUP($D$94,constantsHP!$T$4:$X$28,5) -> -0.0005 | R95: 12 | S95: 50
E96: Linear interpol. | F96: =(D94-F94)/(F95-F94) -> 0 | G96: =ROUND($F96*(G95-G94)+G94,5) -> 0.98185 | H96: =ROUND($F96*(H95-H94)+H94,5) -> 0.01985 | I96: =ROUND($F96*(I95-I94)+I94,5) -> 0.0007 | R96: 13 | S96: 60
R97: 14 | S97: 75
R98: 15 | S98: 100
A99: BHP | B99: Belt Efficiency ηb | C99: Motor Shaft Power (HP) Hm | D99: ηR | E99: Lm | F99: a | G99: b | H99: c | I99: Motor Efficiency ηm | J99: Lc | K99: VFD effiiciency ηc | L99: VFD & Motor Efficiency ηmc | M99: Power Consumption kW | N99: VFD, Motor & Transmission Efficiency ηsystem | R99: 16 | S99: 125
A100: =D88 -> 9.7917986 | B100: =IF($D$92="Direct",1,IF($D$92="V-Belt",0.96*(A100/(A100+2.2))^0.05,IF($D$92="Coupling",0.98,IF(AND($D$92="Synchronous Belt",A100<=1.34),0.94,IF(AND($D$92="Synchronous Belt",A100>1.34,A100<=6.7),0.00746*A100+0.93,0.98))))) -> 1 | C100: =A100/B100 -> 9.7917986 | D100: =IF(AND($D$89="ODP",$D$91=2),$E$85,IF(AND($D$89="ODP",$D$91=4),$F$85,IF(AND($D$89="ODP",$D$91=6),$G$85,IF(AND($D$89="ODP",$D$91=8),$H$85,IF(AND($D$89="TEFC",$D$91=2),$I$85,IF(AND($D$89="TEFC",$D$91=4),$J$85,IF(AND($D$89="TEFC",$D$91=6),$K$85,IF(AND($D$89="TEFC",$D$91=8),$L$85)))))))) -> 0.93 | E100: =C100/$D$87 -> 0.65278657 | F100: =IF(AND($D$93>0,$D$91=2),F$89,IF(AND($D$93=0,$D$91=2),F$90,IF(AND($D$93>0,$D$91=4),H$89,IF(AND($D$93=0,$D$91=4),H$90,IF(AND($D$93>0,OR($D$91=6,$D$91=8)),J$89,IF(AND($D$93=0,OR($D$91=6,$D$91=8)),J$90)))))) -> 1.03443 | G100: =IF(AND($D$93>0,$D$91=2),G$89,IF(AND($D$93=0,$D$91=2),G$90,IF(AND($D$93>0,$D$91=4),I$89,IF(AND($D$93=0,$D$91=4),I$90,IF(AND($D$93>0,OR($D$91=6,$D$91=8)),K$89,IF(AND($D$93=0,OR($D$91=6,$D$91=8)),K$90)))))) -> 0.00996 | H100: =1-(F100/(1+G100)) -> -0.024228682 | I100: =D100*(((F100*E100)/(G100+E100))+H100*(E100^2)) -> 0.93796045 | J100: =IF($D$93=0,0,($D$86/$D$93)*C100/(I100*$D$94)) -> 0.69596385 | K100: =($G$96*J100/($H$96+J100))+(J100*$I$96) -> 0.95510981 | L100: =I100*K100 -> 0.89585523 | M100: =IF(J100=0,C100*0.7457/I100,C100*0.7457/L100) -> 8.150585 | N100: =IF(J100=0,B100*I100,B100*L100) -> 0.89585523 | R100: 17 | S100: 150
R101: 18 | S101: 200
R102: 19 | S102: 250
E103: ηR | R103: 20 | S103: 300
E104: ODP | I104: TEFC | R104: 21 | S104: 350
D105: Fan System 2 | E105: 2 POLE | F105: 4 POLE | G105: 6 POLE | H105: 8 POLE | I105: 2 POLE | J105: 4 POLE | K105: 6 POLE | L105: 8 POLE | R105: 22 | S105: 400
E106: =VLOOKUP($D$108,constantsHP!$A$4:$I$28,2)/100 -> 0.855 | F106: =VLOOKUP($D$108,constantsHP!$A$4:$I$28,3)/100 -> 0.869 | G106: =VLOOKUP($D$108,constantsHP!$A$4:$I$28,4)/100 -> 0.885 | H106: =VLOOKUP($D$108,constantsHP!$A$4:$I$28,5)/100 -> 0.875 | I106: =VLOOKUP($D$108,constantsHP!$A$4:$I$28,6)/100 -> 0.865 | J106: =VLOOKUP($D$108,constantsHP!$A$4:$I$28,7)/100 -> 0.895 | K106: =VLOOKUP($D$108,constantsHP!$A$4:$I$28,8)/100 -> 0.895 | L106: =VLOOKUP($D$108,constantsHP!$A$4:$I$28,9)/100 -> 0.825 | R106: 23 | S106: 450
C107: Quantity of Motors | D107: 1 | R107: 24 | S107: 500
C108: Motor Namplate Horsepower | D108: =G53 -> 3 | E108: Motor Factors | F108: 2 POLE | H108: 4 POLE | J108: 6 & 8 POLE | R108: 25
C109: Brake HP of 1 fan at design airflow | D109: =G54 -> 2.4479496 | F109: a | G109: b | H109: a | I109: b | J109: a | K109: b | R109: 26
C110: ODP or TEFC | D110: =G55 -> ODP | E110: With VFD | F110: =VLOOKUP($D$108,constantsHP!$K$4:$Q$28,2) -> 1.03273 | G110: =VLOOKUP($D$108,constantsHP!$K$4:$Q$28,3) -> 0.01338 | H110: =VLOOKUP($D$108,constantsHP!$K$4:$Q$28,4) -> 1.04016 | I110: =VLOOKUP($D$108,constantsHP!$K$4:$Q$28,5) -> 0.02467 | J110: =VLOOKUP($D$108,constantsHP!$K$4:$Q$28,6) -> 1.0676 | K110: =VLOOKUP($D$108,constantsHP!$K$4:$Q$28,7) -> 0.0424 | R110: 37
E111: DOL | F111: =VLOOKUP($D$108,constantsHP!$Z$4:$AF$28,2) -> 1.1135 | G111: =VLOOKUP($D$108,constantsHP!$Z$4:$AF$28,3) -> 0.06436 | H111: =VLOOKUP($D$108,constantsHP!$Z$4:$AF$28,4) -> 1.10643 | I111: =VLOOKUP($D$108,constantsHP!$Z$4:$AF$28,5) -> 0.06571 | J111: =VLOOKUP($D$108,constantsHP!$Z$4:$AF$28,6) -> 1.12962 | K111: =VLOOKUP($D$108,constantsHP!$Z$4:$AF$28,7) -> 0.08027 | R111: 38
C112: Number of Motor Poles | D112: =G56 -> 4 | R112: 39
C113: Transmission | D113: =I9 -> Direct | F113: VFD Factors | R113: 40
C114: Quantity of VFD's | D114: =IF(I8="no",0,1) -> 1 | F114: HP | G114: d | H114: e | I114: f
C115: Size of VFD's | D115: =D108 -> 3 | E115: Below | F115: =VLOOKUP($D$115,constantsHP!$S$4:$X$28,3) -> 3 | G115: =VLOOKUP($D$115,constantsHP!$S$4:$X$28,4) -> 0.9789 | H115: =VLOOKUP($D$115,constantsHP!$S$4:$X$28,5) -> 0.0342 | I115: =VLOOKUP($D$115,constantsHP!$S$4:$X$28,6) -> -0.0079
E116: Above | F116: =VLOOKUP($D$115,constantsHP!$T$4:$X$28,2) -> 5 | G116: =VLOOKUP($D$115,constantsHP!$T$4:$X$28,3) -> 0.9775 | H116: =VLOOKUP($D$115,constantsHP!$T$4:$X$28,4) -> 0.0284 | I116: =VLOOKUP($D$115,constantsHP!$T$4:$X$28,5) -> -0.0027
E117: Linear interpol. | F117: =(D115-F115)/(F116-F115) -> 0 | G117: =ROUND($F117*(G116-G115)+G115,5) -> 0.9789 | H117: =ROUND($F117*(H116-H115)+H115,5) -> 0.0342 | I117: =ROUND($F117*(I116-I115)+I115,5) -> -0.0079
A120: BHP | B120: Belt Efficiency ηb | C120: Motor Shaft Power (HP) Hm | D120: ηR | E120: Lm | F120: a | G120: b | H120: c | I120: Motor Efficiency ηm | J120: Lc | K120: VFD effiiciency ηc | L120: VFD & Motor Efficiency ηmc | M120: Power Consumption kW | N120: VFD, Motor & Transmission Efficiency ηsystem
A121: =D109 -> 2.4479496 | B121: =IF($D$113="Direct",1,IF($D$113="V-Belt",0.96*(A121/(A121+2.2))^0.05,IF($D$113="Coupling",0.98,IF(AND($D$113="Synchronous Belt",A121<=1.34),0.94,IF(AND($D$113="Synchronous Belt",A121>1.34,A121<=6.7),0.00746*A121+0.93,0.98))))) -> 1 | C121: =A121/B121 -> 2.4479496 | D121: =IF(AND($D$110="ODP",$D$112=2),$E$106,IF(AND($D$110="ODP",$D$112=4),$F$106,IF(AND($D$110="ODP",$D$112=6),$G$106,IF(AND($D$110="ODP",$D$112=8),$H$106,IF(AND($D$110="TEFC",$D$112=2),$I$106,IF(AND($D$110="TEFC",$D$112=4),$J$106,IF(AND($D$110="TEFC",$D$112=6),$K$106,IF(AND($D$110="TEFC",$D$112=8),$L$106)))))))) -> 0.869 | E121: =C121/$D$108 -> 0.81598322 | F121: =IF(AND($D$114>0,$D$112=2),F$110,IF(AND($D$114=0,$D$112=2),F$111,IF(AND($D$114>0,$D$112=4),H$110,IF(AND($D$114=0,$D$112=4),H$111,IF(AND($D$114>0,OR($D$112=6,$D$112=8)),J$110,IF(AND($D$114=0,OR($D$112=6,$D$112=8)),J$111)))))) -> 1.04016 | G121: =IF(AND($D$114>0,$D$112=2),G$110,IF(AND($D$114=0,$D$112=2),G$111,IF(AND($D$114>0,$D$112=4),I$110,IF(AND($D$114=0,$D$112=4),I$111,IF(AND($D$114>0,OR($D$112=6,$D$112=8)),K$110,IF(AND($D$114=0,OR($D$112=6,$D$112=8)),K$111)))))) -> 0.02467 | H121: =1-(F121/(1+G121)) -> -0.015117062 | I121: =D121*(((F121*E121)/(G121+E121))+H121*(E121^2)) -> 0.86862621 | J121: =IF($D$114=0,0,($D$107/$D$114)*C121/(I121*$D$115)) -> 0.93939512 | K121: =($G$117*J121/($H$117+J121))+(J121*$I$117) -> 0.93709243 | L121: =I121*K121 -> 0.81398304 | M121: =IF(J121=0,C121*0.7457/I121,C121*0.7457/L121) -> 2.2425972 | N121: =IF(J121=0,B121*I121,B121*L121) -> 0.81398304

Sheet Complex System Template (2)
G3: System Attributes | K3: Key:
D4: Description: | H4: Single fan, recirculating | K4: Input
D5: CAV/SZ-VAV/MZ-VAV: | H5: MZ-VAV | K5: Calculation
D6: Calculation Method: | H6: Complex Fan System | K6: Hard-coded value
H7: Supply | I7: Exhaust/Return | K7: Output
D8: Variable Speed Drive (Yes/No) | H8: Yes | I8: Yes
D9: Transmission (Direct/V-belt): | H9: Direct | I9: Direct
D10: Airflow (cfm): | H10: 8000 | I10: 7600
D11: Est return/exhaust/relief fan fraction of total bhp | H11: 0.2
H14: Airflow
H15: Supply | I15: Return/Exhaust
E16: S2. Filter: | F16: MERV 13-16 | H16: 3000 | J16: =IF(H16>$H$10,"Warning - value exceeds entered supply airflow!","")
E17: S3. Cooling or Heat Pump Coil: | F17: Yes | H17: =IF(F17=$X$84,H10,0) -> 8000
E18: S4. Heating Coil: | F18: No | H18: =IF(F18=$X$84,H10,0) -> 0
E19: S4. Gas Furnace: | F19: Yes | H19: =IF(F19=$X$84,H10,0) -> 8000
E20: S4. Electric Resistance Heat: | F20: No | H20: =IF(F20=$X$84,H10,0) -> 0
E21: S6 and ER3. Energy Recovery Ventilator: | H21: 3000 | I21: 2600 | J21: =IF(AND(H21>$H$10, I21>$I$10),"Warning - values exceed both entered supply and exhaust/return airflows!",IF(H21>H10,"Warning - value exceeds entered supply airflow!",IF(I21>$I$10,"Warning - value exceeds entered exhaust/return airflow!","")))
E22: S5. Economizer Return Damper | H22: 5000 | J22: =IF(H22>$H$10,"Warning - value exceeds entered supply airflow!","")
E23: S7. Hot Gas Reheat Coil | F23: No | H23: =IF(F23=$X$84,H10,0) -> 0
E24: S8. 50% Turndown (Single-Zone VAV only) | F24: No | H24: =IF(F24=$X$84,H10,0) -> 0
E25: ER2. Filter, any MERV value, in the return airstream | I25: 7600 | J25: =IF(I25>$I$10,"Warning - value exceeds entered exhaust/return airflow!","")
F26: Note: Grey cells contain airflow values that are automatically populated but can be overridden if necessary. Orange cells must be populated by the user.
B30: Results of Fan Power Limit Based on Method:
B32: 90.1-2019 Methods: | J32: Proposed Method:
B34: Motor Nameplate Method, max hp | F34: =IF(H5="MZ-VAV",H10*0.0015,H10*0.0011) -> 12
B35: Resulting maximum standard motor size, hp | F35: =SMALL($S$83:$S$107,COUNTIF($S$83:$S$107,"<="&F34)) -> 10
B37: Brake Horsepower Method | F37: Airflow (cfm) | G37: Additional Pressure Loss (in. wc) | H37: Allowed Brake Horsepower | J37: Calculation per the proposed Fan Power Limits | O37: Airflow | P37: Allowed w/cfm | Q37: Fan Power Allowance (kW)
B38: Base Allowance: | F38: =H10 -> 8000 | G38: N/A | H38: =IF(H5="MZ-VAV",F38*0.0013,F38*0.00094) -> 10.4 | J38: S1. Supply Base Allowance: | O38: =H10 -> 8000 | P38: =IF(AND(H$5="MZ-VAV",H$10>10000),Y42,IF(AND(H$5="MZ-VAV",H$10<=10000,H$10>5000),Z42,IF(H$5="MZ-VAV",AA42,IF(H$10>10000,AB42,IF(AND(H$10<=10000,H$10>5000),AC42,AD42))))) -> 0.47247115 | Q38: =O38*P38/1000 -> 3.7797692
B39: MERV 9-12 Filter: | F39: =IF(F16=Y84,H16,0) -> 0 | G39: 0.5 | H39: =G39*F39/4131 -> 0 | J39: S2. Up to MERV 12 Filter: | O39: =IF(OR(F16=Y83,F16=Y84),H16,0) -> 0 | P39: =IF(AND(H$5="MZ-VAV",H$10>10000),Y43,IF(AND(H$5="MZ-VAV",H$10<=10000,H$10>5000),Z43,IF(H$5="MZ-VAV",AA43,IF(H$10>10000,AB43,IF(AND(H$10<=10000,H$10>5000),AC43,AD43))))) -> 0.079265464 | Q39: =O39*P39/1000 -> 0 | Z39: Multi-Zone VAV System airflow (cfm) | AC39: Constant Volume/Single-zone VAV airflow (cfm)
B40: MERV 13 or greater filter: | F40: =IF(OR(F16=Y85,F16=Y86),H16,0) -> 3000 | G40: 0.9 | H40: =G40*F40/4131 -> 0.65359477 | J40: S2. MERV 13 to 16 Filter: | O40: =IF(F16=Y85,H16,0) -> 3000 | P40: =IF(AND(H$5="MZ-VAV",H$10>10000),Y44,IF(AND(H$5="MZ-VAV",H$10<=10000,H$10>5000),Z44,IF(H$5="MZ-VAV",AA44,IF(H$10>10000,AB44,IF(AND(H$10<=10000,H$10>5000),AC44,AD44))))) -> 0.17662576 | Q40: =O40*P40/1000 -> 0.52987729 | X40: Air System Component | Y40: >10,000 | Z40: >5,000 and ≤10,000 | AA40: ≤5,000 | AB40: >10,000 | AC40: >5,000 and ≤10,000 | AD40: ≤5,000
B41: Energy Recovery Supply Airstream: | F41: =H21 -> 3000 | G41: =2.2*0.625-0.5 -> 0.875 | H41: =G41*F41/4131 -> 0.63543936 | J41: S2. MERV 13-16 Filter Downstream of Cooling Coil: | O41: =IF(F16=Y86,H16,0) -> 0 | P41: =IF(AND(H$5="MZ-VAV",H$10>10000),Y45,IF(AND(H$5="MZ-VAV",H$10<=10000,H$10>5000),Z45,IF(H$5="MZ-VAV",AA45,IF(H$10>10000,AB45,IF(AND(H$10<=10000,H$10>5000),AC45,AD45))))) -> 0.19590564 | Q41: =O41*P41/1000 -> 0
B42: Energy Recovery Exhaust Airstream: | F42: =I21 -> 2600 | G42: 0.875 | H42: =G42*F42/4131 -> 0.55071411 | J42: S3. Cooling or Heat Pump Coil: | O42: =H17 -> 8000 | P42: =IF(AND(H$5="MZ-VAV",H$10>10000),Y46,IF(AND(H$5="MZ-VAV",H$10<=10000,H$10>5000),Z46,IF(H$5="MZ-VAV",AA46,IF(H$10>10000,AB46,IF(AND(H$10<=10000,H$10>5000),AC46,AD46))))) -> 0.11841599 | Q42: =O42*P42/1000 -> 0.94732793 | X42: Supply System Base Allowance for air handler serving floor ≤6 floors away. | Y42: 0.48004219 | Z42: 0.47247115 | AA42: 0.41298195 | AB42: 0.24829908 | AC42: 0.26699447 | AD42: 0.24303029
B43: Deduction for no Central Cooling Device: | F43: =IF(F17=X83,H10,0) -> 0 | G43: -0.6 | H43: =G43*F43/4131 -> 0 | J43: S4. Heating Coil: | O43: =H18 -> 0 | P43: =IF(AND(H$5="MZ-VAV",H$10>10000),Y47,IF(AND(H$5="MZ-VAV",H$10<=10000,H$10>5000),Z47,IF(H$5="MZ-VAV",AA47,IF(H$10>10000,AB47,IF(AND(H$10<=10000,H$10>5000),AC47,AD47))))) -> 0.049700486 | Q43: =O43*P43/1000 -> 0 | X43: Filter MERV 12 or less | Y43: 0.073260688 | Z43: 0.079265464 | AA43: 0.093946594 | AB43: 0.075394944 | AC43: 0.083644004 | AD43: 0.097212114
B44: Deduction for no Central Heating Device: | F44: =IF(AND(F18=X83,F19=X83,F20=X83),H10,0) -> 0 | G44: -0.3 | H44: =G44*F44/4131 -> 0 | J44: S4. Gas Furnace: | O44: =H19 -> 8000 | P44: =IF(AND(H$5="MZ-VAV",H$10>10000),Y48,IF(AND(H$5="MZ-VAV",H$10<=10000,H$10>5000),Z48,IF(H$5="MZ-VAV",AA48,IF(H$10>10000,AB48,IF(AND(H$10<=10000,H$10>5000),AC48,AD48))))) -> 0.059575715 | Q44: =O44*P44/1000 -> 0.47660572 | X44: MERV 13 to MERV 16 Filter (mid-life) | Y44: 0.16544989 | Z44: 0.17662576 | AA44: 0.20986203 | AB44: 0.16767207 | AC44: 0.18543501 | AD44: 0.21706459
B45: Deduction for Electric Resistance Heat: | F45: =H20 -> 0 | G45: -0.2 | H45: =G45*F45/4131 -> 0 | J45: S4. Electric Resistance Heat: | O45: =H20 -> 0 | P45: =IF(AND(H$5="MZ-VAV",H$10>10000),Y49,IF(AND(H$5="MZ-VAV",H$10<=10000,H$10>5000),Z49,IF(H$5="MZ-VAV",AA49,IF(H$10>10000,AB49,IF(AND(H$10<=10000,H$10>5000),AC49,AD49))))) -> 0.039804339 | Q45: =O45*P45/1000 -> 0 | X45: MERV 13 to MERV 16 Final filter located downstream of thermal conditioning equipment. (mid-life) | Y45: 0.18400785 | Z45: 0.19590564 | AA45: 0.23285256 | AB45: 0.18599637 | AC45: 0.20547667 | AD45: 0.24051581
B46: TOTAL: | H46: =SUM(H38:H45) -> 12.239748 | J46: S5. Economizer Return Damper: | O46: =H22 -> 5000 | P46: =IF(AND(H$5="MZ-VAV",H$10>10000),Y50,IF(AND(H$5="MZ-VAV",H$10<=10000,H$10>5000),Z50,IF(H$5="MZ-VAV",AA50,IF(H$10>10000,AB50,IF(AND(H$10<=10000,H$10>5000),AC50,AD50))))) -> 0.039804339 | Q46: =O46*P46/1000 -> 0.19902169 | X46: Hydronic/DX cooling coil, or heat pump coil (wet) [Healthcare facilities can select twice] | Y46: 0.11002795 | Z46: 0.11841599 | AA46: 0.14050917 | AB46: 0.11248346 | AC46: 0.12469667 | AD46: 0.14581817
J47: S6. Energy Recovery (ERR=62.5%) | O47: =H21 -> 3000 | P47: =IF(AND(H$5="MZ-VAV",H$10>10000),Y51,IF(AND(H$5="MZ-VAV",H$10<=10000,H$10>5000),Z51,IF(H$5="MZ-VAV",AA51,IF(H$10>10000,AB51,IF(AND(H$10<=10000,H$10>5000),AC51,AD51))))) -> 0.16115926 | Q47: =O47*P47/1000 -> 0.48347778 | X47: Hydronic heating coil (central) | Y47: 0.054919339 | Z47: 0.049700486 | AA47: 0.047112922 | AB47: 0.056722001 | AC47: 0.052530353 | AD47: 0.048606057
J48: S7. Hot Gas Reheat Coil: | O48: =H23 -> 0 | P48: =IF(AND(H$5="MZ-VAV",O$38>10000),Y52,IF(AND(H$5="MZ-VAV",O$38<=10000,O$38>5000),Z52,IF(H$5="MZ-VAV",AA52,IF(O$38>10000,AB52,IF(AND(O$38<=10000,O$38>5000),AC52,AD52))))) -> 0.039804339 | Q48: =O48*P48/1000 -> 0 | X48: Gas heat | Y48: 0.073260688 | Z48: 0.059575715 | AA48: 0.07056415 | AB48: 0.075394944 | AC48: 0.062933825 | AD48: 0.060757571
F49: Supply Fan | G49: Exhaust/ Return/ Relief Fan | J49: S8. 50% Turndown Single-Zone VAV: | O49: =H24 -> 0 | P49: =IF(AND(H$5="MZ-VAV",O$38>10000),Y53,IF(AND(H$5="MZ-VAV",O$38<=10000,O$38>5000),Z53,IF(H$5="MZ-VAV",AA53,IF(O$38>10000,AB53,IF(AND(O$38<=10000,O$38>5000),AC53,AD53))))) -> 0 | Q49: =O49*P49/1000 -> 0 | X49: Electric heat | Y49: 0.036599444 | Z49: 0.039804339 | AA49: 0.047112922 | AB49: 0.037943123 | AC49: 0.042093671 | AD49: 0.048606057
B50: Motor Calculations: | P50: supply side power allowance (kW) | Q50: =SUM(Q38:Q49) -> 6.4160796 | X50: Economizer return damper | Y50: 0.036599444 | Z50: 0.039804339 | AA50: 0.047112922 | AB50: 0.037943123 | AC50: 0.042093671 | AD50: 0.048606057
X51: Enthalpy Recovery Ratio ≥ 0.60 and <0.65) | Y51: 0.15063497 | Z51: 0.16115926 | AA51: 0.19142435 | AB51: 0.1529924 | AC51: 0.16933059 | AD51: 0.19825339
B52: Upsize Motor? | F52: Yes | G52: No | J52: ER1. Exhaust/Return/Relief Base Allowance: | O52: =I10 -> 7600 | P52: =IF(AND(H$5="MZ-VAV",O$52>10000),Y56,IF(AND(H$5="MZ-VAV",O$52<=10000,O$52>5000),Z56,IF(H$5="MZ-VAV",AA56,IF(O$52>10000,AB56,IF(AND(O$52<=10000,O$52>5000),AC56,AD56))))) -> 0.25638049 | Q52: =O52*P52/1000 -> 1.9484917 | X52: Reheat coil for dehumidification | Y52: 0.036599444 | Z52: 0.039804339 | AA52: 0.047112922 | AB52: 0.037943123 | AC52: 0.042093671 | AD52: 0.048606057
B53: Assumed Motor Nameplate Size: | F53: {=INDEX($S$83:$S$107,MATCH(TRUE,$S$83:$S$107>=F54,0)+IF(F52=$X$84,1,IF(F52=X$85,2,0)))} -> 15 | G53: {=INDEX($S$83:$S$107,MATCH(TRUE,$S$83:$S$107>=G54,0)+IF(G52=$X$84,1,IF(G52=X$85,2,0)))} -> 3 | J53: ER2. Filter, any MERV value, in the return airstream: | O53: =I25 -> 7600 | P53: =IF(AND(H$5="MZ-VAV",O$52>10000),Y57,IF(AND(H$5="MZ-VAV",O$52<=10000,O$52>5000),Z57,IF(H$5="MZ-VAV",AA57,IF(O$52>10000,AB57,IF(AND(O$52<=10000,O$52>5000),AC57,AD57))))) -> 0.042237028 | Q53: =O53*P53/1000 -> 0.32100142 | X53: Low-turndown single-zone VAV fan systems meeting the requirements in note 4. | Y53: 0 | Z53: 0 | AA53: 0 | AB53: 0.093977336 | AC53: 0.10422981 | AD53: 0.072909086
B54: Brake horsepower: | F54: =H46-H11*H46 -> 9.7917986 | G54: =H46-F54 -> 2.4479496 | J54: ER3. Energy Recovery (ERR=62.5%): | O54: =I21 -> 2600 | P54: =IF(AND(H$5="MZ-VAV",O$52>10000),Y58,IF(AND(H$5="MZ-VAV",O$52<=10000,O$52>5000),Z58,IF(H$5="MZ-VAV",AA58,IF(O$52>10000,AB58,IF(AND(O$52<=10000,O$52>5000),AC58,AD58))))) -> 0.16984605 | Q54: =O54*P54/1000 -> 0.44159973
B55: ODP/TEFC | F55: ODP | G55: ODP | P55: return/exhaust side power allowance (kW) | Q55: =SUM(Q52:Q54) -> 2.7110929
B56: Number of Poles | F56: 4 | G56: 4 | X56: Exhaust System Base Allowance | Y56: 0.24829908 | Z56: 0.25638049 | AA56: 0.23087877 | AB56: 0.19995071 | AC56: 0.19187364 | AD56: 0.19442423
B57: Wire-to-Shaft effciency per AMCA 207: | F57: =N100 -> 0.89585523 | G57: =IF(G53>1,N121,"N/A") -> 0.81398304 | J57: Proposed Method Total Supply and Exhaust/Return (kW): | Q57: =Q50+Q55 -> 9.1271725 | X57: Filter (any MERV value) | Y57: 0.037943123 | Z57: 0.042237028 | AA57: 0.048606057 | AB57: 0.038768919 | AC57: 0.043164662 | AD57: 0.048606057
B58: Fan electical power (kW): | F58: =M100 -> 8.150585 | G58: =IF(I10>1,M121,0) -> 2.2425972 | J58: Estimated allowance per current requirements (kW): | Q58: =F58+G58 -> 10.393182 | X58: Enthalpy Recovery Ratio ≥ 0.60 and <0.65) | Y58: 0.1529924 | Z58: 0.16984605 | AA58: 0.19862498 | AB58: 0.1552872 | AC58: 0.17318764 | AD58: 0.19928483
B59: Watts per cfm (W): | F59: =(F58*1000)/H10 -> 1.0188231 | G59: =IF(I10>1,(G58*1000)/I10,0) -> 0.29507857 | J59: Reduction from estimated current allowance: | Q59: =1-(Q57/Q58) -> 0.12181155
C81: Motor Efficiency Calculations | U81: Lookups
E82: ηR | N82: Voltage | O82: Motor Type | P82: Tansmission | Q82: M Poles | R82: Qty | S82: Qty M/F | T82: Num MP | U82: VFD current or HP | V82: FEI Pressure Basis | W82: System Type | X82: Yes/No | Y82: MERV Value
E83: ODP | I83: TEFC | N83: 460 | O83: ODP | P83: Direct | Q83: 2 | R83: 0 | S83: 1 | T83: 2 | U83: HP | V83: Static | W83: CAV | X83: No | Y83: MERV 8 or less
D84: Fan System 1 | E84: 2 POLE | F84: 4 POLE | G84: 6 POLE | H84: 8 POLE | I84: 2 POLE | J84: 4 POLE | K84: 6 POLE | L84: 8 POLE | N84: 230 | O84: TEFC | P84: V-Belt | Q84: 4 | R84: 1 | S84: 1.5 | T84: 4 | U84: Current (A) | V84: Total | W84: SZ-VAV | X84: Yes | Y84: MERV 9-12
E85: =VLOOKUP($D$87,constantsHP!$A$4:$I$28,2)/100 -> 0.902 | F85: =VLOOKUP($D$87,constantsHP!$A$4:$I$28,3)/100 -> 0.93 | G85: =VLOOKUP($D$87,constantsHP!$A$4:$I$28,4)/100 -> 0.917 | H85: =VLOOKUP($D$87,constantsHP!$A$4:$I$28,5)/100 -> 0.902 | I85: =VLOOKUP($D$87,constantsHP!$A$4:$I$28,6)/100 -> 0.91 | J85: =VLOOKUP($D$87,constantsHP!$A$4:$I$28,7)/100 -> 0.924 | K85: =VLOOKUP($D$87,constantsHP!$A$4:$I$28,8)/100 -> 0.917 | L85: =VLOOKUP($D$87,constantsHP!$A$4:$I$28,9)/100 -> 0.875 | N85: 575 | P85: Synchronous Belt | Q85: 6 | R85: 2 | S85: 2 | T85: 6 | W85: MZ-VAV | X85: Yes - twice | Y85: MERV 13-16
C86: Quantity of Motors | D86: 1 | N86: 208 | P86: Coupling | Q86: 8 | R86: 3 | S86: 3 | T86: 8 | Y86: MERV 13-16 Downstream
C87: Motor Namplate Horsepower | D87: =F53 -> 15 | E87: Motor Factors | F87: 2 POLE | H87: 4 POLE | J87: 6 & 8 POLE | R87: 4 | S87: 5
C88: Brake HP of 1 fan at design airflow | D88: =F54 -> 9.7917986 | F88: a | G88: b | H88: a | I88: b | J88: a | K88: b | R88: 5 | S88: 7.5
C89: ODP or TEFC | D89: =F55 -> ODP | E89: With VFD | F89: =VLOOKUP($D$87,constantsHP!$K$4:$Q$28,2) -> 1.03035 | G89: =VLOOKUP($D$87,constantsHP!$K$4:$Q$28,3) -> 0.00641 | H89: =VLOOKUP($D$87,constantsHP!$K$4:$Q$28,4) -> 1.03443 | I89: =VLOOKUP($D$87,constantsHP!$K$4:$Q$28,5) -> 0.00996 | J89: =VLOOKUP($D$87,constantsHP!$K$4:$Q$28,6) -> 1.03588 | K89: =VLOOKUP($D$87,constantsHP!$K$4:$Q$28,7) -> 0.01121 | R89: 6 | S89: 10
E90: DOL | F90: =VLOOKUP($D$87,constantsHP!$Z$4:$AF$28,2) -> 1.07811 | G90: =VLOOKUP($D$87,constantsHP!$Z$4:$AF$28,3) -> 0.03368 | H90: =VLOOKUP($D$87,constantsHP!$Z$4:$AF$28,4) -> 1.07127 | I90: =VLOOKUP($D$87,constantsHP!$Z$4:$AF$28,5) -> 0.02953 | J90: =VLOOKUP($D$87,constantsHP!$Z$4:$AF$28,6) -> 1.07163 | K90: =VLOOKUP($D$87,constantsHP!$Z$4:$AF$28,7) -> 0.03104 | R90: 7 | S90: 15
C91: Number of Motor Poles | D91: =F56 -> 4 | R91: 8 | S91: 20
C92: Transmission | D92: =H9 -> Direct | F92: VFD Factors | R92: 9 | S92: 25
C93: Quantity of VFD's | D93: =IF(H8="no",0,1) -> 1 | F93: HP | G93: d | H93: e | I93: f | R93: 10 | S93: 30
C94: Size of VFD's | D94: =D87 -> 15 | E94: Below | F94: =VLOOKUP($D$94,constantsHP!$S$4:$X$28,3) -> 15 | G94: =VLOOKUP($D$94,constantsHP!$S$4:$X$28,4) -> 0.98185 | H94: =VLOOKUP($D$94,constantsHP!$S$4:$X$28,5) -> 0.01985 | I94: =VLOOKUP($D$94,constantsHP!$S$4:$X$28,6) -> 0.0007 | R94: 11 | S94: 40
E95: Above | F95: =VLOOKUP($D$94,constantsHP!$T$4:$X$28,2) -> 20 | G95: =VLOOKUP($D$94,constantsHP!$T$4:$X$28,3) -> 0.985 | H95: =VLOOKUP($D$94,constantsHP!$T$4:$X$28,4) -> 0.0175 | I95: =VLOOKUP($D$94,constantsHP!$T$4:$X$28,5) -> -0.0005 | R95: 12 | S95: 50
E96: Linear interpol. | F96: =(D94-F94)/(F95-F94) -> 0 | G96: =ROUND($F96*(G95-G94)+G94,5) -> 0.98185 | H96: =ROUND($F96*(H95-H94)+H94,5) -> 0.01985 | I96: =ROUND($F96*(I95-I94)+I94,5) -> 0.0007 | R96: 13 | S96: 60
R97: 14 | S97: 75
R98: 15 | S98: 100
A99: BHP | B99: Belt Efficiency ηb | C99: Motor Shaft Power (HP) Hm | D99: ηR | E99: Lm | F99: a | G99: b | H99: c | I99: Motor Efficiency ηm | J99: Lc | K99: VFD effiiciency ηc | L99: VFD & Motor Efficiency ηmc | M99: Power Consumption kW | N99: VFD, Motor & Transmission Efficiency ηsystem | R99: 16 | S99: 125
A100: =D88 -> 9.7917986 | B100: =IF($D$92="Direct",1,IF($D$92="V-Belt",0.96*(A100/(A100+2.2))^0.05,IF($D$92="Coupling",0.98,IF(AND($D$92="Synchronous Belt",A100<=1.34),0.94,IF(AND($D$92="Synchronous Belt",A100>1.34,A100<=6.7),0.00746*A100+0.93,0.98))))) -> 1 | C100: =A100/B100 -> 9.7917986 | D100: =IF(AND($D$89="ODP",$D$91=2),$E$85,IF(AND($D$89="ODP",$D$91=4),$F$85,IF(AND($D$89="ODP",$D$91=6),$G$85,IF(AND($D$89="ODP",$D$91=8),$H$85,IF(AND($D$89="TEFC",$D$91=2),$I$85,IF(AND($D$89="TEFC",$D$91=4),$J$85,IF(AND($D$89="TEFC",$D$91=6),$K$85,IF(AND($D$89="TEFC",$D$91=8),$L$85)))))))) -> 0.93 | E100: =C100/$D$87 -> 0.65278657 | F100: =IF(AND($D$93>0,$D$91=2),F$89,IF(AND($D$93=0,$D$91=2),F$90,IF(AND($D$93>0,$D$91=4),H$89,IF(AND($D$93=0,$D$91=4),H$90,IF(AND($D$93>0,OR($D$91=6,$D$91=8)),J$89,IF(AND($D$93=0,OR($D$91=6,$D$91=8)),J$90)))))) -> 1.03443 | G100: =IF(AND($D$93>0,$D$91=2),G$89,IF(AND($D$93=0,$D$91=2),G$90,IF(AND($D$93>0,$D$91=4),I$89,IF(AND($D$93=0,$D$91=4),I$90,IF(AND($D$93>0,OR($D$91=6,$D$91=8)),K$89,IF(AND($D$93=0,OR($D$91=6,$D$91=8)),K$90)))))) -> 0.00996 | H100: =1-(F100/(1+G100)) -> -0.024228682 | I100: =D100*(((F100*E100)/(G100+E100))+H100*(E100^2)) -> 0.93796045 | J100: =IF($D$93=0,0,($D$86/$D$93)*C100/(I100*$D$94)) -> 0.69596385 | K100: =($G$96*J100/($H$96+J100))+(J100*$I$96) -> 0.95510981 | L100: =I100*K100 -> 0.89585523 | M100: =IF(J100=0,C100*0.7457/I100,C100*0.7457/L100) -> 8.150585 | N100: =IF(J100=0,B100*I100,B100*L100) -> 0.89585523 | R100: 17 | S100: 150
R101: 18 | S101: 200
R102: 19 | S102: 250
E103: ηR | R103: 20 | S103: 300
E104: ODP | I104: TEFC | R104: 21 | S104: 350
D105: Fan System 2 | E105: 2 POLE | F105: 4 POLE | G105: 6 POLE | H105: 8 POLE | I105: 2 POLE | J105: 4 POLE | K105: 6 POLE | L105: 8 POLE | R105: 22 | S105: 400
E106: =VLOOKUP($D$108,constantsHP!$A$4:$I$28,2)/100 -> 0.855 | F106: =VLOOKUP($D$108,constantsHP!$A$4:$I$28,3)/100 -> 0.869 | G106: =VLOOKUP($D$108,constantsHP!$A$4:$I$28,4)/100 -> 0.885 | H106: =VLOOKUP($D$108,constantsHP!$A$4:$I$28,5)/100 -> 0.875 | I106: =VLOOKUP($D$108,constantsHP!$A$4:$I$28,6)/100 -> 0.865 | J106: =VLOOKUP($D$108,constantsHP!$A$4:$I$28,7)/100 -> 0.895 | K106: =VLOOKUP($D$108,constantsHP!$A$4:$I$28,8)/100 -> 0.895 | L106: =VLOOKUP($D$108,constantsHP!$A$4:$I$28,9)/100 -> 0.825 | R106: 23 | S106: 450
C107: Quantity of Motors | D107: 1 | R107: 24 | S107: 500
C108: Motor Namplate Horsepower | D108: =G53 -> 3 | E108: Motor Factors | F108: 2 POLE | H108: 4 POLE | J108: 6 & 8 POLE | R108: 25
C109: Brake HP of 1 fan at design airflow | D109: =G54 -> 2.4479496 | F109: a | G109: b | H109: a | I109: b | J109: a | K109: b | R109: 26
C110: ODP or TEFC | D110: =G55 -> ODP | E110: With VFD | F110: =VLOOKUP($D$108,constantsHP!$K$4:$Q$28,2) -> 1.03273 | G110: =VLOOKUP($D$108,constantsHP!$K$4:$Q$28,3) -> 0.01338 | H110: =VLOOKUP($D$108,constantsHP!$K$4:$Q$28,4) -> 1.04016 | I110: =VLOOKUP($D$108,constantsHP!$K$4:$Q$28,5) -> 0.02467 | J110: =VLOOKUP($D$108,constantsHP!$K$4:$Q$28,6) -> 1.0676 | K110: =VLOOKUP($D$108,constantsHP!$K$4:$Q$28,7) -> 0.0424 | R110: 37
E111: DOL | F111: =VLOOKUP($D$108,constantsHP!$Z$4:$AF$28,2) -> 1.1135 | G111: =VLOOKUP($D$108,constantsHP!$Z$4:$AF$28,3) -> 0.06436 | H111: =VLOOKUP($D$108,constantsHP!$Z$4:$AF$28,4) -> 1.10643 | I111: =VLOOKUP($D$108,constantsHP!$Z$4:$AF$28,5) -> 0.06571 | J111: =VLOOKUP($D$108,constantsHP!$Z$4:$AF$28,6) -> 1.12962 | K111: =VLOOKUP($D$108,constantsHP!$Z$4:$AF$28,7) -> 0.08027 | R111: 38
C112: Number of Motor Poles | D112: =G56 -> 4 | R112: 39
C113: Transmission | D113: =I9 -> Direct | F113: VFD Factors | R113: 40
C114: Quantity of VFD's | D114: =IF(I8="no",0,1) -> 1 | F114: HP | G114: d | H114: e | I114: f
C115: Size of VFD's | D115: =D108 -> 3 | E115: Below | F115: =VLOOKUP($D$115,constantsHP!$S$4:$X$28,3) -> 3 | G115: =VLOOKUP($D$115,constantsHP!$S$4:$X$28,4) -> 0.9789 | H115: =VLOOKUP($D$115,constantsHP!$S$4:$X$28,5) -> 0.0342 | I115: =VLOOKUP($D$115,constantsHP!$S$4:$X$28,6) -> -0.0079
E116: Above | F116: =VLOOKUP($D$115,constantsHP!$T$4:$X$28,2) -> 5 | G116: =VLOOKUP($D$115,constantsHP!$T$4:$X$28,3) -> 0.9775 | H116: =VLOOKUP($D$115,constantsHP!$T$4:$X$28,4) -> 0.0284 | I116: =VLOOKUP($D$115,constantsHP!$T$4:$X$28,5) -> -0.0027
E117: Linear interpol. | F117: =(D115-F115)/(F116-F115) -> 0 | G117: =ROUND($F117*(G116-G115)+G115,5) -> 0.9789 | H117: =ROUND($F117*(H116-H115)+H115,5) -> 0.0342 | I117: =ROUND($F117*(I116-I115)+I115,5) -> -0.0079
A120: BHP | B120: Belt Efficiency ηb | C120: Motor Shaft Power (HP) Hm | D120: ηR | E120: Lm | F120: a | G120: b | H120: c | I120: Motor Efficiency ηm | J120: Lc | K120: VFD effiiciency ηc | L120: VFD & Motor Efficiency ηmc | M120: Power Consumption kW | N120: VFD, Motor & Transmission Efficiency ηsystem
A121: =D109 -> 2.4479496 | B121: =IF($D$113="Direct",1,IF($D$113="V-Belt",0.96*(A121/(A121+2.2))^0.05,IF($D$113="Coupling",0.98,IF(AND($D$113="Synchronous Belt",A121<=1.34),0.94,IF(AND($D$113="Synchronous Belt",A121>1.34,A121<=6.7),0.00746*A121+0.93,0.98))))) -> 1 | C121: =A121/B121 -> 2.4479496 | D121: =IF(AND($D$110="ODP",$D$112=2),$E$106,IF(AND($D$110="ODP",$D$112=4),$F$106,IF(AND($D$110="ODP",$D$112=6),$G$106,IF(AND($D$110="ODP",$D$112=8),$H$106,IF(AND($D$110="TEFC",$D$112=2),$I$106,IF(AND($D$110="TEFC",$D$112=4),$J$106,IF(AND($D$110="TEFC",$D$112=6),$K$106,IF(AND($D$110="TEFC",$D$112=8),$L$106)))))))) -> 0.869 | E121: =C121/$D$108 -> 0.81598322 | F121: =IF(AND($D$114>0,$D$112=2),F$110,IF(AND($D$114=0,$D$112=2),F$111,IF(AND($D$114>0,$D$112=4),H$110,IF(AND($D$114=0,$D$112=4),H$111,IF(AND($D$114>0,OR($D$112=6,$D$112=8)),J$110,IF(AND($D$114=0,OR($D$112=6,$D$112=8)),J$111)))))) -> 1.04016 | G121: =IF(AND($D$114>0,$D$112=2),G$110,IF(AND($D$114=0,$D$112=2),G$111,IF(AND($D$114>0,$D$112=4),I$110,IF(AND($D$114=0,$D$112=4),I$111,IF(AND($D$114>0,OR($D$112=6,$D$112=8)),K$110,IF(AND($D$114=0,OR($D$112=6,$D$112=8)),K$111)))))) -> 0.02467 | H121: =1-(F121/(1+G121)) -> -0.015117062 | I121: =D121*(((F121*E121)/(G121+E121))+H121*(E121^2)) -> 0.86862621 | J121: =IF($D$114=0,0,($D$107/$D$114)*C121/(I121*$D$115)) -> 0.93939512 | K121: =($G$117*J121/($H$117+J121))+(J121*$I$117) -> 0.93709243 | L121: =I121*K121 -> 0.81398304 | M121: =IF(J121=0,C121*0.7457/I121,C121*0.7457/L121) -> 2.2425972 | N121: =IF(J121=0,B121*I121,B121*L121) -> 0.81398304

Sheet constantsHP
A1: Table A1. EPCA Nominal Motor Efficiency (60 Hz motors) | K1: Table B1. Polyphase Induction Motor Performance Constants (hp rated motors with VFD) | S1: C1. VFD Performance Constants (hp capacity) | Z1: Table D1. Polyphase Induction Motor Performance Constants (hp rated motors DOL)
B2: ODP | F2: TEFC | K2: HP | L2: 2 POLE | N2: 4 POLE | P2: 6 & 8 POLE | S2: HP | T2: Index | Z2: HP | AA2: 2 POLE | AC2: 4 POLE | AE2: 6 & 8 POLE
B3: 2 POLE | C3: 4 POLE | D3: 6 POLE | E3: 8 POLE | F3: 2 POLE | G3: 4 POLE | H3: 6 POLE | I3: 8 POLE | L3: a | M3: b | N3: a | O3: b | P3: a | Q3: b | U3: HP | V3: d | W3: e | X3: f | AA3: a | AB3: b | AC3: a | AD3: b | AE3: a | AF3: b
A4: 1 | B4: 77 | C4: 83.5 | D4: 82.5 | E4: 75.5 | F4: 77 | G4: 85.5 | H4: 82.5 | I4: 72 | K4: 1 | L4: 1.02906 | M4: 0.01701 | N4: 1.03744 | O4: 0.03337 | P4: 1.09059 | Q4: 0.06457 | S4: =U4 -> 1 | T4: 0 | U4: 1 | V4: 0.9803 | W4: 0.04 | X4: -0.0131 | Z4: 1 | AA4: 1.1346 | AB4: 0.08674 | AC4: 1.12541 | AD4: 0.09132 | AE4: 1.16873 | AF4: 0.11466
A5: 1.5 | B5: 84 | C5: 86.5 | D5: 86.5 | E5: 77 | F5: 84 | G5: 86.5 | H5: 87.5 | I5: 75.5 | K5: 1.5 | L5: 1.02998 | M5: 0.0161 | N5: 1.03812 | O5: 0.0312 | P5: 1.08484 | Q5: 0.05903 | S5: =U5 -> 1.5 | T5: =U4 -> 1 | U5: 1.5 | V5: 0.97995 | W5: 0.03855 | X5: -0.0118 | Z5: 1.5 | AA5: 1.12932 | AB5: 0.08114 | AC5: 1.12067 | AD5: 0.08492 | AE5: 1.15895 | AF5: 0.10606
A6: 2 | B6: 85.5 | C6: 86.5 | D6: 87.5 | E6: 86.5 | F6: 85.5 | G6: 86.5 | H6: 88.5 | I6: 81.5 | K6: 2 | L6: 1.0309 | M6: 0.0152 | N6: 1.0388 | O6: 0.02902 | P6: 1.0791 | Q6: 0.05349 | S6: =U6 -> 2 | T6: =U5 -> 1.5 | U6: 2 | V6: 0.9796 | W6: 0.0371 | X6: -0.0105 | Z6: 2 | AA6: 1.12405 | AB6: 0.07555 | AC6: 1.11592 | AD6: 0.07851 | AE6: 1.14917 | AF6: 0.09747
A7: 3 | B7: 85.5 | C7: 86.9 | D7: 88.5 | E7: 87.5 | F7: 86.5 | G7: 89.5 | H7: 89.5 | I7: 82.5 | K7: 3 | L7: 1.03273 | M7: 0.01338 | N7: 1.04016 | O7: 0.02467 | P7: 1.0676 | Q7: 0.0424 | S7: =U7 -> 3 | T7: =U6 -> 2 | U7: 3 | V7: 0.9789 | W7: 0.0342 | X7: -0.0079 | Z7: 3 | AA7: 1.1135 | AB7: 0.06436 | AC7: 1.10643 | AD7: 0.06571 | AE7: 1.12962 | AF7: 0.08027
A8: 5 | B8: 86.5 | C8: 89.5 | D8: 89.5 | E8: 88.5 | F8: 88.5 | G8: 89.5 | H8: 89.5 | I8: 84 | K8: 5 | L8: 1.03641 | M8: 0.00975 | N8: 1.04288 | O8: 0.01596 | P8: 1.04461 | Q8: 0.02024 | S8: =U8 -> 5 | T8: =U7 -> 3 | U8: 5 | V8: 0.9775 | W8: 0.0284 | X8: -0.0027 | Z8: 5 | AA8: 1.09241 | AB8: 0.04197 | AC8: 1.08745 | AD8: 0.04009 | AE8: 1.09051 | AF8: 0.04588
A9: 7.5 | B9: 88.5 | C9: 91 | D9: 90.2 | E9: 89.5 | F9: 89.5 | G9: 91.7 | H9: 91 | I9: 84 | K9: 7.5 | L9: 1.03489 | M9: 0.00892 | N9: 1.04077 | O9: 0.01446 | P9: 1.04243 | Q9: 0.01798 | S9: =U9 -> 7.5 | T9: =U8 -> 5 | U9: 7.5 | V9: 0.9781 | W9: 0.0253 | X9: -0.0004 | Z9: 7.5 | AA9: 1.08883 | AB9: 0.0399 | AC9: 1.0834 | AD9: 0.03745 | AE9: 1.08579 | AF9: 0.04217
A10: 10 | B10: 89.5 | C10: 91.7 | D10: 91.7 | E10: 90.2 | F10: 90.2 | G10: 91.7 | H10: 91 | I10: 87.5 | K10: 10 | L10: 1.03338 | M10: 0.00808 | N10: 1.03866 | O10: 0.01296 | P10: 1.04025 | Q10: 0.01572 | S10: =U10 -> 10 | T10: =U9 -> 7.5 | U10: 10 | V10: 0.9787 | W10: 0.0222 | X10: 0.0019 | Z10: 10 | AA10: 1.08526 | AB10: 0.03783 | AC10: 1.07936 | AD10: 0.03481 | AE10: 1.08107 | AF10: 0.03846
A11: 15 | B11: 90.2 | C11: 93 | D11: 91.7 | E11: 90.2 | F11: 91 | G11: 92.4 | H11: 91.7 | I11: 87.5 | K11: 15 | L11: 1.03035 | M11: 0.00641 | N11: 1.03443 | O11: 0.00996 | P11: 1.03588 | Q11: 0.01121 | S11: =U11 -> 15 | T11: =U10 -> 10 | U11: 15 | V11: 0.98185 | W11: 0.01985 | X11: 0.0007 | Z11: 15 | AA11: 1.07811 | AB11: 0.03368 | AC11: 1.07127 | AD11: 0.02953 | AE11: 1.07163 | AF11: 0.03104
A12: 20 | B12: 91 | C12: 93 | D12: 92.4 | E12: 91 | F12: 91 | G12: 93 | H12: 91.7 | I12: 88.5 | K12: 20 | L12: 1.02732 | M12: 0.00474 | N12: 1.03021 | O12: 0.00696 | P12: 1.03152 | Q12: 0.0067 | S12: =U12 -> 20 | T12: =U11 -> 15 | U12: 20 | V12: 0.985 | W12: 0.0175 | X12: -0.0005 | Z12: 20 | AA12: 1.07096 | AB12: 0.02953 | AC12: 1.06318 | AD12: 0.02425 | AE12: 1.06218 | AF12: 0.02362
A13: 25 | B13: 91.7 | C13: 93.6 | D13: 93 | E13: 91 | F13: 91.7 | G13: 93.6 | H13: 93 | I13: 88.5 | K13: 25 | L13: 1.02654 | M13: 0.00476 | N13: 1.02882 | O13: 0.00642 | P13: 1.02977 | Q13: 0.00622 | S13: =U13 -> 25 | T13: =U12 -> 20 | U13: 25 | V13: 0.9862 | W13: 0.0165 | X13: -0.0032 | Z13: 25 | AA13: 1.06949 | AB13: 0.02923 | AC13: 1.06033 | AD13: 0.02291 | AE13: 1.05966 | AF13: 0.02257
A14: 30 | B14: 91.7 | C14: 94.1 | D14: 93.6 | E14: 91.7 | F14: 91.7 | G14: 93.6 | H14: 93 | I14: 90.2 | K14: 30 | L14: 1.02575 | M14: 0.00478 | N14: 1.02742 | O14: 0.00588 | P14: 1.02803 | Q14: 0.00575 | S14: =U14 -> 30 | T14: =U13 -> 25 | U14: 30 | V14: 0.9874 | W14: 0.0155 | X14: -0.0059 | Z14: 30 | AA14: 1.06802 | AB14: 0.02892 | AC14: 1.05749 | AD14: 0.02157 | AE14: 1.05713 | AF14: 0.02152
A15: 40 | B15: 92.4 | C15: 94.1 | D15: 94.1 | E15: 91.7 | F15: 92.4 | G15: 94.1 | H15: 94.1 | I15: 90.2 | K15: 40 | L15: 1.02418 | M15: 0.00481 | N15: 1.02464 | O15: 0.00479 | P15: 1.02454 | Q15: 0.0048 | S15: =U15 -> 40 | T15: =U14 -> 30 | U15: 40 | V15: 0.98765 | W15: 0.01695 | X15: -0.0038 | Z15: 40 | AA15: 1.06508 | AB15: 0.02831 | AC15: 1.0518 | AD15: 0.01889 | AE15: 1.05208 | AF15: 0.01942
A16: 50 | B16: 93 | C16: 94.5 | D16: 94.1 | E16: 92.4 | F16: 93 | G16: 94.5 | H16: 94.1 | I16: 91 | K16: 50 | L16: 1.02261 | M16: 0.00485 | N16: 1.02185 | O16: 0.0037 | P16: 1.02106 | Q16: 0.00384 | S16: =U16 -> 50 | T16: =U15 -> 40 | U16: 50 | V16: 0.9879 | W16: 0.0184 | X16: -0.0017 | Z16: 50 | AA16: 1.06214 | AB16: 0.02769 | AC16: 1.04612 | AD16: 0.01621 | AE16: 1.04703 | AF16: 0.01732
A17: 60 | B17: 93.6 | C17: 95 | D17: 94.5 | E17: 93 | F17: 93.6 | G17: 95 | H17: 94.5 | I17: 91 | K17: 60 | L17: 1.02226 | M17: 0.00449 | N17: 1.021 | O17: 0.0035 | P17: 1.02057 | Q17: 0.00399 | S17: =U17 -> 60 | T17: =U16 -> 50 | U17: 60 | V17: 0.9719 | W17: 0.0145 | X17: 0.0118 | Z17: 60 | AA17: 1.05946 | AB17: 0.02585 | AC17: 1.04436 | AD17: 0.01556 | AE17: 1.04553 | AF17: 0.01691
A18: 75 | B18: 93.6 | C18: 95 | D18: 94.5 | E18: 94.1 | F18: 93.6 | G18: 95.4 | H18: 94.5 | I18: 92.4 | K18: 75 | L18: 1.02174 | M18: 0.00395 | N18: 1.01972 | O18: 0.0032 | P18: 1.01985 | Q18: 0.0042 | S18: =U18 -> 75 | T18: =U17 -> 60 | U18: 75 | V18: 0.9919 | W18: 0.0179 | X18: -0.0013 | Z18: 75 | AA18: 1.05544 | AB18: 0.02309 | AC18: 1.04172 | AD18: 0.01459 | AE18: 1.04328 | AF18: 0.01631 | AG18: =1-(AC18/(AD18+1)) -> -0.026739865
A19: 100 | B19: 93.6 | C19: 95.4 | D19: 95 | E19: 94.1 | F19: 94.1 | G19: 95.4 | H19: 95 | I19: 92.4 | K19: 100 | L19: 1.02087 | M19: 0.00306 | N19: 1.01758 | O19: 0.00269 | P19: 1.01864 | Q19: 0.00455 | S19: =U19 -> 100 | T19: =U18 -> 75 | U19: 100 | V19: 0.9824 | W19: 0.0126 | X19: 0.0014 | Z19: 100 | AA19: 1.04874 | AB19: 0.01849 | AC19: 1.03732 | AD19: 0.01298 | AE19: 1.03954 | AF19: 0.0153 | AG19: =1-(AC19/(AD19+1)) -> -0.024028115
A20: 125 | B20: 94.1 | C20: 95.4 | D20: 95 | E20: 94.1 | F20: 95 | G20: 95.4 | H20: 95 | I20: 93 | K20: 125 | L20: 1.01997 | M20: 0.00299 | N20: 1.01725 | O20: 0.00286 | P20: 1.01956 | Q20: 0.00459 | S20: =U20 -> 125 | T20: =U19 -> 100 | U20: 125 | V20: 0.98293 | W20: 0.0119 | X20: -0.0001 | Z20: 125 | AA20: 1.04713 | AB20: 0.01813 | AC20: 1.03731 | AD20: 0.01332 | AE20: 1.03948 | AF20: 0.01463
A21: 150 | B21: 94.1 | C21: 95.8 | D21: 95.4 | E21: 94.1 | F21: 95 | G21: 95.8 | H21: 95.8 | I21: 93 | K21: 150 | L21: 1.01907 | M21: 0.00293 | N21: 1.01692 | O21: 0.00303 | P21: 1.02047 | Q21: 0.00462 | S21: =U21 -> 150 | T21: =U20 -> 125 | U21: 150 | V21: 0.98345 | W21: 0.0112 | X21: -0.0016 | Z21: 150 | AA21: 1.04553 | AB21: 0.01778 | AC21: 1.03729 | AD21: 0.01365 | AE21: 1.03942 | AF21: 0.01396
A22: 200 | B22: 95 | C22: 95.8 | D22: 95.4 | E22: 94.1 | F22: 95.4 | G22: 96.2 | H22: 95.8 | I22: 93.6 | K22: 200 | L22: 1.01727 | M22: 0.0028 | N22: 1.01626 | O22: 0.00336 | P22: 1.0223 | Q22: 0.00468 | S22: =U22 -> 200 | T22: =U21 -> 150 | U22: 200 | V22: 0.9845 | W22: 0.0098 | X22: -0.0046 | Z22: 200 | AA22: 1.04231 | AB22: 0.01707 | AC22: 1.03726 | AD22: 0.01432 | AE22: 1.03931 | AF22: 0.01262
A23: 250 | B23: 95 | C23: 95.8 | D23: 95.4 | E23: 95 | F23: 95.8 | G23: 96.2 | H23: 95.8 | I23: 94.1 | K23: 250 | L23: 1.01727 | M23: 0.0028 | N23: 1.01626 | O23: 0.00336 | P23: 1.0223 | Q23: 0.00468 | S23: =U23 -> 250 | T23: =U22 -> 200 | U23: 250 | V23: 0.9845 | W23: 0.0098 | X23: -0.0046 | Z23: 250 | AA23: 1.04231 | AB23: 0.01707 | AC23: 1.03726 | AD23: 0.01432 | AE23: 1.03931 | AF23: 0.01262
A24: 300 | B24: 95.4 | C24: 95.8 | F24: 95.8 | G24: 96.2 | K24: 300 | L24: 1.01727 | M24: 0.0028 | N24: 1.01626 | O24: 0.00336 | P24: 1.0223 | Q24: 0.00468 | S24: =U24 -> 300 | T24: =U23 -> 250 | U24: 300 | V24: 0.9845 | W24: 0.0098 | X24: -0.0046 | Z24: 300 | AA24: 1.04231 | AB24: 0.01707 | AC24: 1.03726 | AD24: 0.01432 | AE24: 1.03931 | AF24: 0.01262
A25: 350 | B25: 95.4 | C25: 95.8 | F25: 95.8 | G25: 96.2 | K25: 350 | L25: 1.01727 | M25: 0.0028 | N25: 1.01626 | O25: 0.00336 | P25: 1.0223 | Q25: 0.00468 | S25: =U25 -> 350 | T25: =U24 -> 300 | U25: 350 | V25: 0.9845 | W25: 0.0098 | X25: -0.0046 | Z25: 350 | AA25: 1.04231 | AB25: 0.01707 | AC25: 1.03726 | AD25: 0.01432 | AE25: 1.03931 | AF25: 0.01262
A26: 400 | B26: 95.8 | C26: 95.8 | F26: 95.8 | G26: 96.2 | K26: 400 | L26: 1.01727 | M26: 0.0028 | N26: 1.01626 | O26: 0.00336 | P26: 1.0223 | Q26: 0.00468 | S26: =U26 -> 400 | T26: =U25 -> 350 | U26: 400 | V26: 0.9845 | W26: 0.0098 | X26: -0.0046 | Z26: 400 | AA26: 1.04231 | AB26: 0.01707 | AC26: 1.03726 | AD26: 0.01432 | AE26: 1.03931 | AF26: 0.01262
A27: 450 | B27: 95.8 | C27: 96.2 | F27: 95.8 | G27: 96.2 | K27: 450 | L27: 1.01727 | M27: 0.0028 | N27: 1.01626 | O27: 0.00336 | P27: 1.0223 | Q27: 0.00468 | S27: =U27 -> 450 | T27: =U26 -> 400 | U27: 450 | V27: 0.9845 | W27: 0.0098 | X27: -0.0046 | Z27: 450 | AA27: 1.04231 | AB27: 0.01707 | AC27: 1.03726 | AD27: 0.01432 | AE27: 1.03931 | AF27: 0.01262
A28: 500 | B28: 95.8 | C28: 96.2 | F28: 95.8 | G28: 96.2 | K28: 500 | L28: 1.01727 | M28: 0.0028 | N28: 1.01626 | O28: 0.00336 | P28: 1.0223 | Q28: 0.00468 | S28: =U28 -> 500 | T28: =U27 -> 450 | U28: 500 | V28: 0.9845 | W28: 0.0098 | X28: -0.0046 | Z28: 500 | AA28: 1.04231 | AB28: 0.01707 | AC28: 1.03726 | AD28: 0.01432 | AE28: 1.03931 | AF28: 0.01262
