Workbook

Sheet READ ME
B4: When you choose the SELECT tab (below), you can:
B5: Use the drop-down boxes: IP/SI and ROUND/RECT ®
B6: Enter length and cross-section of duct ®
A8: Take note of the size ranges permitted for acceptable data.
A10: Graphs and tables will populate upon parameter entry.
A11: Note: dotted lines on the curve are regression 2-sigmas.
A13: You can print the page.
A15: You can copy the page to paste into another file.
A17: You can select just table items, for example to paste values
A18: into a separate spreadsheet.
A20: Check ASHRAE ON-LINE for Updates to this spreadsheet.

Sheet SELECT
E2: Duct Liner Attenuation Calculator
E3: based on RP-1408
E4: Rev1 Apr 16, 2018
E5: Click to ASHRAE ONLINE for updates
B8: CHOOSE IP / SI => | D8: IP
B9: CHOOSE RECT / ROUND => | D9: RECT
B10: =IF(D$8="IP","INPUT Length (ft) =>","INPUT Length (m) =>") -> INPUT Length (ft) => | D10: 15 | E10: =IF($D$8="IP","3 <=L=< 26 ft","1 <=L=< 8 m") -> 3 <=L=< 26 ft | F10: =IF(D10="","",IF($G$10<3,"TOO SHORT",IF($G$10>26.25,"TOO LONG",""))) | G10: =IF(D$8="IP",D10,D10*3.28) -> 15
B11: =IF(D$8="IP",IF(D9="RECT","INPUT Width ID (in) =>","INPUT Dia. ID (in) =>"),IF(D9="RECT","INPUT Width ID (mm) =>","INPUT Dia. ID (mm) =>")) -> INPUT Width ID (in) => | D11: 36 | E11: =IF(D9="round",IF(D8="IP","12 <=D=< 48 in","305 <=D=< 1220 mm"),IF($D$8="IP","12 <=W=< 48 in","305 <=W=< 1220 mm")) -> 12 <=W=< 48 in | F11: =IF(D11="","",IF($G$11<12,"TOO SMALL",IF($G$11>48.5,"TOO LARGE",""))) | G11: =IF(D$8="IP",D11,D11/25.4) -> 36
B12: =IF(D$8="IP",IF(D9="RECT","INPUT Height ID (in) =>",""),IF(D9="RECT","INPUT Height ID (mm) =>","")) -> INPUT Height ID (in) => | D12: 36 | E12: =IF(D9="round","",IF(D8="IP","12 <=H=< 48 in","305 <=H=< 1220 mm")) -> 12 <=H=< 48 in | F12: =IF(D12="","",IF(D9="ROUND",IF(D12="","","NOT USED"),IF($G$12<12,"TOO SMALL",IF($G$12>48,"TOO HIGH","")))) | G12: =IF(D$8="IP",D12,D12/25.4) -> 36
C13: =IF($D$9="RECT","Perimeter","") -> Perimeter | D13: =IF(C13="","",IF(D9="round","",IF(D12="","",F13))) -> 144 | F13: =IF(D9="round",3.1416*G11,G11+G12+G11+G12) -> 144
C14: =IF($D$9="RECT","Area","") -> Area | D14: =IF(D12="","",IF(D9="round","",F14)) -> 1296 | F14: =IF(D9="round",3.1416*(G11/2)^2,IF(G12<12,"",G11*G12)) -> 1296
C15: =IF($D$9="RECT","P/A","") -> P/A | D15: =IF(C15="","",IF(D9="round","",F15)) -> 0.11111111 | E15: =IF(F15="","",IF(F15<0.083,"P/A too low",IF(F15>0.278,"P/A too high",""))) | F15: =IF(D9="RECT",IF(D12="","",IF(D11="","",F13/F14)),IF(D11="","",F13/F14)) -> 0.11111111
D16: =IF(F15="","",IF(F15>0.278,"Use with caution; P/A ratio not valid in some small ducts","")) | J16: =IF(D9="RECT","RECTANGULAR DUCT ",IF(D9="round","ROUND DUCT","")) -> RECTANGULAR DUCT | K16: =IF(D8="IP",IF(D9="RECT",CONCATENATE(D11,"'' width ID x ",D12,"'' height ID, ",D10," ft long"),CONCATENATE(D11,"'' diameter ID, ",D10," ft long")),IF(D9="RECT",CONCATENATE(D11," mm width ID x ",D12," mm height ID, ",D10," m long"),CONCATENATE(D11," mm diameter ID, ",D10," m long"))) -> 36'' width ID x 36'' height ID, 15 ft long
H17: Freq. (Hz) | I17: 63 | J17: 125 | K17: 250 | L17: 500 | M17: 1000 | N17: 2000 | O17: 4000 | P17: 8000
D18: Rectangular Duct 1/3-Octave Band Insertion Loss | H18: =IF(D$8="IP","1'' liner","25 mm liner") -> 1'' liner | I18: =IF($D$9="RECT",'Coeff+Calc'!N6,'Coeff+Calc'!P66) -> 0 | J18: =IF($D$9="RECT",'Coeff+Calc'!N7,'Coeff+Calc'!P67) -> 1.207634 | K18: =IF($D$9="RECT",'Coeff+Calc'!N8,'Coeff+Calc'!P68) -> 4.3533436 | L18: =IF($D$9="RECT",'Coeff+Calc'!N9,'Coeff+Calc'!P69) -> 15.94546 | M18: =IF($D$9="RECT",'Coeff+Calc'!N10,'Coeff+Calc'!P70) -> 27.092729 | N18: =IF($D$9="RECT",'Coeff+Calc'!N11,'Coeff+Calc'!P71) -> 12.505654 | O18: =IF($D$9="RECT",'Coeff+Calc'!N12,'Coeff+Calc'!P72) -> 8.9294794 | P18: =IF($D$9="RECT",'Coeff+Calc'!N13,'Coeff+Calc'!P73) -> 7.5172708
D19: =K16 -> 36'' width ID x 36'' height ID, 15 ft long | H19: =IF(D$8="IP","2'' liner","50 mm liner") -> 2'' liner | I19: =IF($D$9="RECT",'Coeff+Calc'!$N36,'Coeff+Calc'!$P96) -> 0.83820523 | J19: =IF($D$9="RECT",'Coeff+Calc'!$N37,'Coeff+Calc'!$P97) -> 3.5116316 | K19: =IF($D$9="RECT",'Coeff+Calc'!$N38,'Coeff+Calc'!$P98) -> 13.114043 | L19: =IF($D$9="RECT",'Coeff+Calc'!$N39,'Coeff+Calc'!$P99) -> 35.696535 | M19: =IF($D$9="RECT",'Coeff+Calc'!$N40,'Coeff+Calc'!$P100) -> 20.532343 | N19: =IF($D$9="RECT",'Coeff+Calc'!$N41,'Coeff+Calc'!$P101) -> 11.644241 | O19: =IF($D$9="RECT",'Coeff+Calc'!$N42,'Coeff+Calc'!$P102) -> 9.5880814 | P19: =IF($D$9="RECT",'Coeff+Calc'!$N43,'Coeff+Calc'!$P103) -> 9.0970292
C20: Frequency (Hz) | D20: =IF($D$8="IP","1'' Liner","25 mm Liner") -> 1'' Liner | E20: =IF($D$8="IP","2'' Liner","50 mm Liner") -> 2'' Liner | F20: Min | G20: Max
C21: 50 | D21: =IF($D$9="RECT",'Coeff+Calc'!$K6,'Coeff+Calc'!$M66) -> 0 | E21: =IF($D$9="RECT",'Coeff+Calc'!$K36,'Coeff+Calc'!$M96) -> 1.6663476 | F21: =IF($D$9="RECT",MIN('Coeff+Calc'!$O6,'Coeff+Calc'!$O36),MIN('Coeff+Calc'!$S66,'Coeff+Calc'!$S96)) -> -4.060085 | G21: =IF($D$9="RECT",MAX('Coeff+Calc'!$Q6,'Coeff+Calc'!$Q36),MAX('Coeff+Calc'!$U66,'Coeff+Calc'!$U96)) -> 7.3927802
C22: 63 | D22: =IF($D$9="RECT",'Coeff+Calc'!$K7,'Coeff+Calc'!$M67) -> 0 | E22: =IF($D$9="RECT",'Coeff+Calc'!$K37,'Coeff+Calc'!$M97) -> 0.7226535 | F22: =IF($D$9="RECT",MIN('Coeff+Calc'!$O7,'Coeff+Calc'!$O37),MIN('Coeff+Calc'!$S67,'Coeff+Calc'!$S97)) -> -5.8187823 | G22: =IF($D$9="RECT",MAX('Coeff+Calc'!$Q7,'Coeff+Calc'!$Q37),MAX('Coeff+Calc'!$U67,'Coeff+Calc'!$U97)) -> 7.2640893
C23: 80 | D23: =IF($D$9="RECT",'Coeff+Calc'!$K8,'Coeff+Calc'!$M68) -> 0 | E23: =IF($D$9="RECT",'Coeff+Calc'!$K38,'Coeff+Calc'!$M98) -> 0.24391632 | F23: =IF($D$9="RECT",MIN('Coeff+Calc'!$O8,'Coeff+Calc'!$O38),MIN('Coeff+Calc'!$S68,'Coeff+Calc'!$S98)) -> -0.17115986 | G23: =IF($D$9="RECT",MAX('Coeff+Calc'!$Q8,'Coeff+Calc'!$Q38),MAX('Coeff+Calc'!$U68,'Coeff+Calc'!$U98)) -> 0.6589925
C24: 100 | D24: =IF($D$9="RECT",'Coeff+Calc'!$K9,'Coeff+Calc'!$M69) -> 0.67663948 | E24: =IF($D$9="RECT",'Coeff+Calc'!$K39,'Coeff+Calc'!$M99) -> 2.1300739 | F24: =IF($D$9="RECT",MIN('Coeff+Calc'!$O9,'Coeff+Calc'!$O39),MIN('Coeff+Calc'!$S69,'Coeff+Calc'!$S99)) -> -5.3971619 | G24: =IF($D$9="RECT",MAX('Coeff+Calc'!$Q9,'Coeff+Calc'!$Q39),MAX('Coeff+Calc'!$U69,'Coeff+Calc'!$U99)) -> 6.7504409
C25: 125 | D25: =IF($D$9="RECT",'Coeff+Calc'!$K10,'Coeff+Calc'!$M70) -> 1.6682336 | E25: =IF($D$9="RECT",'Coeff+Calc'!$K40,'Coeff+Calc'!$M100) -> 3.9910733 | F25: =IF($D$9="RECT",MIN('Coeff+Calc'!$O10,'Coeff+Calc'!$O40),MIN('Coeff+Calc'!$S70,'Coeff+Calc'!$S100)) -> 0.091463307 | G25: =IF($D$9="RECT",MAX('Coeff+Calc'!$Q10,'Coeff+Calc'!$Q40),MAX('Coeff+Calc'!$U70,'Coeff+Calc'!$U100)) -> 5.5386577
C26: 160 | D26: =IF($D$9="RECT",'Coeff+Calc'!$K11,'Coeff+Calc'!$M71) -> 1.3373567 | E26: =IF($D$9="RECT",'Coeff+Calc'!$K41,'Coeff+Calc'!$M101) -> 4.878491 | F26: =IF($D$9="RECT",MIN('Coeff+Calc'!$O11,'Coeff+Calc'!$O41),MIN('Coeff+Calc'!$S71,'Coeff+Calc'!$S101)) -> 0.96693664 | G26: =IF($D$9="RECT",MAX('Coeff+Calc'!$Q11,'Coeff+Calc'!$Q41),MAX('Coeff+Calc'!$U71,'Coeff+Calc'!$U101)) -> 6.7111256
C27: 200 | D27: =IF($D$9="RECT",'Coeff+Calc'!$K12,'Coeff+Calc'!$M72) -> 2.688106 | E27: =IF($D$9="RECT",'Coeff+Calc'!$K42,'Coeff+Calc'!$M102) -> 9.8163908 | F27: =IF($D$9="RECT",MIN('Coeff+Calc'!$O12,'Coeff+Calc'!$O42),MIN('Coeff+Calc'!$S72,'Coeff+Calc'!$S102)) -> 2.3934577 | G27: =IF($D$9="RECT",MAX('Coeff+Calc'!$Q12,'Coeff+Calc'!$Q42),MAX('Coeff+Calc'!$U72,'Coeff+Calc'!$U102)) -> 12.695779
C28: 250 | D28: =IF($D$9="RECT",'Coeff+Calc'!$K13,'Coeff+Calc'!$M73) -> 4.4119521 | E28: =IF($D$9="RECT",'Coeff+Calc'!$K43,'Coeff+Calc'!$M103) -> 14.509322 | F28: =IF($D$9="RECT",MIN('Coeff+Calc'!$O13,'Coeff+Calc'!$O43),MIN('Coeff+Calc'!$S73,'Coeff+Calc'!$S103)) -> 4.0058338 | G28: =IF($D$9="RECT",MAX('Coeff+Calc'!$Q13,'Coeff+Calc'!$Q43),MAX('Coeff+Calc'!$U73,'Coeff+Calc'!$U103)) -> 18.923606
C29: 315 | D29: =IF($D$9="RECT",'Coeff+Calc'!$K14,'Coeff+Calc'!$M74) -> 6.9807165 | E29: =IF($D$9="RECT",'Coeff+Calc'!$K44,'Coeff+Calc'!$M104) -> 21.716219 | F29: =IF($D$9="RECT",MIN('Coeff+Calc'!$O14,'Coeff+Calc'!$O44),MIN('Coeff+Calc'!$S74,'Coeff+Calc'!$S104)) -> 5.8727932 | G29: =IF($D$9="RECT",MAX('Coeff+Calc'!$Q14,'Coeff+Calc'!$Q44),MAX('Coeff+Calc'!$U74,'Coeff+Calc'!$U104)) -> 27.362361
C30: 400 | D30: =IF($D$9="RECT",'Coeff+Calc'!$K15,'Coeff+Calc'!$M75) -> 12.04814 | E30: =IF($D$9="RECT",'Coeff+Calc'!$K45,'Coeff+Calc'!$M105) -> 32.178954 | F30: =IF($D$9="RECT",MIN('Coeff+Calc'!$O15,'Coeff+Calc'!$O45),MIN('Coeff+Calc'!$S75,'Coeff+Calc'!$S105)) -> 11.023115 | G30: =IF($D$9="RECT",MAX('Coeff+Calc'!$Q15,'Coeff+Calc'!$Q45),MAX('Coeff+Calc'!$U75,'Coeff+Calc'!$U105)) -> 35.335669
C31: 500 | D31: =IF($D$9="RECT",'Coeff+Calc'!$K16,'Coeff+Calc'!$M76) -> 19.048132 | E31: =IF($D$9="RECT",'Coeff+Calc'!$K46,'Coeff+Calc'!$M106) -> 40.735219 | F31: =IF($D$9="RECT",MIN('Coeff+Calc'!$O16,'Coeff+Calc'!$O46),MIN('Coeff+Calc'!$S76,'Coeff+Calc'!$S106)) -> 15.747252 | G31: =IF($D$9="RECT",MAX('Coeff+Calc'!$Q16,'Coeff+Calc'!$Q46),MAX('Coeff+Calc'!$U76,'Coeff+Calc'!$U106)) -> 45.812004
C32: 630 | D32: =IF($D$9="RECT",'Coeff+Calc'!$K17,'Coeff+Calc'!$M77) -> 28.361809 | E32: =IF($D$9="RECT",'Coeff+Calc'!$K47,'Coeff+Calc'!$M107) -> 39.274126 | F32: =IF($D$9="RECT",MIN('Coeff+Calc'!$O17,'Coeff+Calc'!$O47),MIN('Coeff+Calc'!$S77,'Coeff+Calc'!$S107)) -> 25.687343 | G32: =IF($D$9="RECT",MAX('Coeff+Calc'!$Q17,'Coeff+Calc'!$Q47),MAX('Coeff+Calc'!$U77,'Coeff+Calc'!$U107)) -> 46.370928
... C44: 10000 | D44: =IF($D$9="RECT",'Coeff+Calc'!$K29,'Coeff+Calc'!$M89) -> 7.3374974 | E44: =IF($D$9="RECT",'Coeff+Calc'!$K59,'Coeff+Calc'!$M119) -> 8.6147893 | F44: =IF($D$9="RECT",MIN('Coeff+Calc'!$O29,'Coeff+Calc'!$O59),MIN('Coeff+Calc'!$S89,'Coeff+Calc'!$S119)) -> 2.6034744 | G44: =IF($D$9="RECT",MAX('Coeff+Calc'!$Q29,'Coeff+Calc'!$Q59),MAX('Coeff+Calc'!$U89,'Coeff+Calc'!$U119)) -> 14.626104

Sheet Coeff+Calc
I1: Raw Regression w/o Limits | J1: Length | K1: =SELECT!$G$10 -> 15 | M1: =IF(SELECT!$F$10="",0,1) -> 0 | N1: =IF((M1+M2+M3)=0,0,1) -> 0
J2: Width | K2: =SELECT!$G$11 -> 36 | M2: =IF(SELECT!$F$11="",0,1) -> 0
H3: =SELECT!F14 -> 1296 | J3: Height | K3: =SELECT!$G$12 -> 36 | M3: =IF(SELECT!$F$12="",0,1) -> 0
J4: P/A | K4: =SELECT!$F$15 -> 0.11111111
A5: Frequency | B5: a1 | C5: a2 | D5: a3 | E5: b1 | F5: b2 | G5: b3 | I5: IL = (a1*P/A^2+a2*P/A+a3) + (b1*P/A^2+b2*P/A+b3) * L | O5: m-2s | P5: s/m | Q5: m+2s
A6: 50 | B6: -15.107412 | C6: 24.627409 | D6: -1.8048131 | E6: -10.958137 | F6: 2.8118025 | G6: -0.17438927 | H6: ='Coeff+Calc'!A6 -> 50 | I6: =IF(N$1<>0,0,IF(K$1>26.25,0,IF(K$2<12,0,IF($K$3<12,0,IF($K$3>48.1,0,('Coeff+Calc'!B6*K$4^2+'Coeff+Calc'!C6*K$4+'Coeff+Calc'!D6+K$1*('Coeff+Calc'!E6*K$4^2+'Coeff+Calc'!F6*K$4+'Coeff+Calc'!G6))))))) -> 0.78626833 | J6: =H6 -> 50 | K6: =IF(K7=0,0,IF(I6<0,0,IF(I6>50,50,I6))) -> 0 | M6: 63 | N6: =-10*LOG((10^(-K6/10)+10^(-K7/10)+10^(-K8/10))/3) -> 0 | O6: =$K6-2*$P6*$K6 -> 0 | P6: 2.1547622 | Q6: =$K6+2*$P6*$K6 -> 0
A7: 63 | B7: 187.48076 | C7: -61.426489 | D7: 4.1482067 | E7: -38.231141 | F7: 12.159306 | G7: -0.81264727 | H7: ='Coeff+Calc'!A7 -> 63 | I7: =IF(N$1<>0,0,IF(K$1>26.25,0,IF(K$2<12,0,IF($K$3<12,0,IF($K$3>48.1,0,('Coeff+Calc'!B7*K$4^2+'Coeff+Calc'!C7*K$4+'Coeff+Calc'!D7+K$1*('Coeff+Calc'!E7*K$4^2+'Coeff+Calc'!F7*K$4+'Coeff+Calc'!G7))))))) -> 0.63357798 | J7: =H7 -> 63 | K7: =IF(K8=0,0,IF(I7<0,0,IF(I7>50,50,I7))) -> 0 | M7: 125 | N7: =-10*LOG((10^(-K9/10)+10^(-K10/10)+10^(-K11/10))/3) -> 1.207634 | O7: =$K7-2*$P7*$K7 -> 0 | P7: 9.1353572 | Q7: =$K7+2*$P7*$K7 -> 0
A8: 80 | B8: 53.495384 | C8: -7.8504695 | D8: 0.17344926 | E8: 21.875901 | F8: -6.4443101 | G8: 0.42039313 | H8: ='Coeff+Calc'!A8 -> 80 | I8: =IF(N$1<>0,0,IF(K$1>26.25,0,IF(K$2<12,0,IF($K$3<12,0,IF($K$3>48.1,0,('Coeff+Calc'!B8*K$4^2+'Coeff+Calc'!C8*K$4+'Coeff+Calc'!D8+K$1*('Coeff+Calc'!E8*K$4^2+'Coeff+Calc'!F8*K$4+'Coeff+Calc'!G8))))))) -> -0.42191534 | J8: =H8 -> 80 | K8: =IF(K9=0,0,IF(I8<0,0,IF(I8>50,50,I8))) -> 0 | M8: 250 | N8: =-10*LOG((10^(-K12/10)+10^(-K13/10)+10^(-K14/10))/3) -> 4.3533436 | O8: =$K8-2*$P8*$K8 -> 0 | P8: 1.6418612 | Q8: =$K8+2*$P8*$K8 -> 0
A9: 100 | B9: -26.691119 | C9: 9.0651745 | D9: -0.57075686 | E9: -7.9131954 | F9: 1.9162298 | G9: -0.07724234 | H9: ='Coeff+Calc'!A9 -> 100 | I9: =IF(N$1<>0,0,IF(K$1>26.25,0,IF(K$2<12,0,IF($K$3<12,0,IF($K$3>48.1,0,('Coeff+Calc'!B9*K$4^2+'Coeff+Calc'!C9*K$4+'Coeff+Calc'!D9+K$1*('Coeff+Calc'!E9*K$4^2+'Coeff+Calc'!F9*K$4+'Coeff+Calc'!G9))))))) -> 0.67663948 | J9: =H9 -> 100 | K9: =IF(K10=0,0,IF(I9<0,0,IF(I9>50,50,I9))) -> 0.67663948 | M9: 500 | N9: =-10*LOG((10^(-K15/10)+10^(-K16/10)+10^(-K17/10))/3) -> 15.94546 | O9: =$K9-2*$P9*$K9 -> -5.3971619 | P9: 4.4882109 | Q9: =$K9+2*$P9*$K9 -> 6.7504409
A10: 125 | B10: 36.526554 | C10: -16.752015 | D10: 1.4093401 | E10: -6.0274793 | F10: 3.2025899 | G10: -0.17014444 | H10: ='Coeff+Calc'!A10 -> 125 | I10: =IF(N$1<>0,0,IF(K$1>26.25,0,IF(K$2<12,0,IF($K$3<12,0,IF($K$3>48.1,0,('Coeff+Calc'!B10*K$4^2+'Coeff+Calc'!C10*K$4+'Coeff+Calc'!D10+K$1*('Coeff+Calc'!E10*K$4^2+'Coeff+Calc'!F10*K$4+'Coeff+Calc'!G10))))))) -> 1.6682336 | J10: =H10 -> 125 | K10: =IF(K11=0,0,IF(I10<0,0,IF(I10>50,50,I10))) -> 1.6682336 | M10: 1000 | N10: =-10*LOG((10^(-K18/10)+10^(-K19/10)+10^(-K20/10))/3) -> 27.092729 | O10: =$K10-2*$P10*$K10 -> 0.091463307 | P10: 0.47258678 | Q10: =$K10+2*$P10*$K10 -> 3.245004
A11: 160 | B11: 66.444101 | C11: -19.370421 | D11: 1.2633838 | E11: 5.6169611 | F11: -0.90649895 | G11: 0.12510653 | H11: ='Coeff+Calc'!A11 -> 160 | I11: =IF(N$1<>0,0,IF(K$1>26.25,0,IF(K$2<12,0,IF($K$3<12,0,IF($K$3>48.1,0,('Coeff+Calc'!B11*K$4^2+'Coeff+Calc'!C11*K$4+'Coeff+Calc'!D11+K$1*('Coeff+Calc'!E11*K$4^2+'Coeff+Calc'!F11*K$4+'Coeff+Calc'!G11))))))) -> 1.3373567 | J11: =H11 -> 160 | K11: =IF(I11<0,0,IF(I11>50,50,I11)) -> 1.3373567 | M11: 2000 | N11: =-10*LOG((10^(-K21/10)+10^(-K22/10)+10^(-K23/10))/3) -> 12.505654 | O11: =$K11-2*$P11*$K11 -> 0.96693664 | P11: 0.13848963 | Q11: =$K11+2*$P11*$K11 -> 1.7077768
A12: 200 | B12: 31.238332 | C12: -9.5999709 | D12: 0.6154091 | E12: 2.4715758 | F12: 0.63536697 | G12: 0.082470517 | H12: ='Coeff+Calc'!A12 -> 200 | I12: =IF(N$1<>0,0,IF(K$1>26.25,0,IF(K$2<12,0,IF($K$3<12,0,IF($K$3>48.1,0,('Coeff+Calc'!B12*K$4^2+'Coeff+Calc'!C12*K$4+'Coeff+Calc'!D12+K$1*('Coeff+Calc'!E12*K$4^2+'Coeff+Calc'!F12*K$4+'Coeff+Calc'!G12))))))) -> 2.688106 | J12: =H12 -> 200 | K12: =IF(I12<0,0,IF(I12>50,50,I12)) -> 2.688106 | M12: 4000 | N12: =-10*LOG((10^(-K24/10)+10^(-K25/10)+10^(-K26/10))/3) -> 8.9294794 | O12: =$K12-2*$P12*$K12 -> 2.3934577 | P12: 0.054805928 | Q12: =$K12+2*$P12*$K12 -> 2.9827543
A13: 250 | B13: -0.55583447 | C13: 0.092305047 | D13: 0.14599485 | E13: -5.4623777 | F13: 3.7701462 | G13: -0.067297491 | H13: ='Coeff+Calc'!A13 -> 250 | I13: =IF(N$1<>0,0,IF(K$1>26.25,0,IF(K$2<12,0,IF($K$3<12,0,IF($K$3>48.1,0,('Coeff+Calc'!B13*K$4^2+'Coeff+Calc'!C13*K$4+'Coeff+Calc'!D13+K$1*('Coeff+Calc'!E13*K$4^2+'Coeff+Calc'!F13*K$4+'Coeff+Calc'!G13))))))) -> 4.4119521 | J13: =H13 -> 250 | K13: =IF(I13<0,0,IF(I13>50,50,I13)) -> 4.4119521 | M13: 8000 | N13: =-10*LOG((10^(-K27/10)+10^(-K28/10)+10^(-K29/10))/3) -> 7.5172708 | O13: =$K13-2*$P13*$K13 -> 4.0058338 | P13: 0.046024781 | Q13: =$K13+2*$P13*$K13 -> 4.8180703
A14: 315 | B14: 5.2696799 | C14: 0.73357957 | D14: 0.37520591 | E14: -0.24238464 | F14: 1.9398413 | G14: 0.21805074 | H14: ='Coeff+Calc'!A14 -> 315 | I14: =IF(N$1<>0,0,IF(K$1>26.25,0,IF(K$2<12,0,IF($K$3<12,0,IF($K$3>48.1,0,('Coeff+Calc'!B14*K$4^2+'Coeff+Calc'!C14*K$4+'Coeff+Calc'!D14+K$1*('Coeff+Calc'!E14*K$4^2+'Coeff+Calc'!F14*K$4+'Coeff+Calc'!G14))))))) -> 6.9807165 | J14: =H14 -> 315 | K14: =IF(I14<0,0,IF(I14>50,50,I14)) -> 6.9807165 | O14: =$K14-2*$P14*$K14 -> 5.8727932 | P14: 0.079355986 | Q14: =$K14+2*$P14*$K14 -> 8.0886398
A15: 400 | B15: 49.614779 | C15: -10.904269 | D15: 1.9299851 | E15: -9.7547024 | F15: 6.3464319 | G15: 0.12975015 | H15: ='Coeff+Calc'!A15 -> 400 | I15: =IF(N$1<>0,0,IF(K$1>26.25,0,IF(K$2<12,0,IF($K$3<12,0,IF($K$3>48.1,0,('Coeff+Calc'!B15*K$4^2+'Coeff+Calc'!C15*K$4+'Coeff+Calc'!D15+K$1*('Coeff+Calc'!E15*K$4^2+'Coeff+Calc'!F15*K$4+'Coeff+Calc'!G15))))))) -> 12.04814 | J15: =H15 -> 400 | K15: =IF(I15<0,0,IF(I15>50,50,I15)) -> 12.04814 | O15: =$K15-2*$P15*$K15 -> 11.023115 | P15: 0.042538743 | Q15: =$K15+2*$P15*$K15 -> 13.073166
A16: 500 | B16: -35.331579 | C16: 19.346342 | D16: 0.85234354 | E16: -8.0894511 | F16: 7.3768674 | G16: 0.37904365 | H16: ='Coeff+Calc'!A16 -> 500 | I16: =IF(N$1<>0,0,IF(K$1>26.25,0,IF(K$2<12,0,IF($K$3<12,0,IF($K$3>48.1,0,('Coeff+Calc'!B16*K$4^2+'Coeff+Calc'!C16*K$4+'Coeff+Calc'!D16+K$1*('Coeff+Calc'!E16*K$4^2+'Coeff+Calc'!F16*K$4+'Coeff+Calc'!G16))))))) -> 19.048132 | J16: =H16 -> 500 | K16: =IF(I16<0,0,IF(I16>50,50,I16)) -> 19.048132 | O16: =$K16-2*$P16*$K16 -> 15.747252 | P16: 0.086645774 | Q16: =$K16+2*$P16*$K16 -> 22.349012
A17: 630 | B17: 315.06032 | C17: -72.600359 | D17: 6.4114706 | E17: -50.343821 | F17: 21.816839 | G17: -0.060737225 | H17: ='Coeff+Calc'!A17 -> 630 | I17: =IF(N$1<>0,0,IF(K$1>26.25,0,IF(K$2<12,0,IF($K$3<12,0,IF($K$3>48.1,0,('Coeff+Calc'!B17*K$4^2+'Coeff+Calc'!C17*K$4+'Coeff+Calc'!D17+K$1*('Coeff+Calc'!E17*K$4^2+'Coeff+Calc'!F17*K$4+'Coeff+Calc'!G17))))))) -> 28.361809 | J17: =H17 -> 630 | K17: =IF(I17<0,0,IF(I17>50,50,I17)) -> 28.361809 | O17: =$K17-2*$P17*$K17 -> 25.687343 | P17: 0.047149064 | Q17: =$K17+2*$P17*$K17 -> 31.036274
A18: 800 | B18: 466.50942 | C18: -140.84894 | D18: 13.388383 | E18: -103.73988 | F18: 45.459375 | G18: -1.8652456 | H18: ='Coeff+Calc'!A18 -> 800 | I18: =IF(N$1<>0,0,IF(K$1>26.25,0,IF(K$2<12,0,IF($K$3<12,0,IF($K$3>48.1,0,('Coeff+Calc'!B18*K$4^2+'Coeff+Calc'!C18*K$4+'Coeff+Calc'!D18+K$1*('Coeff+Calc'!E18*K$4^2+'Coeff+Calc'!F18*K$4+'Coeff+Calc'!G18))))))) -> 32.073728 | J18: =H18 -> 800 | K18: =IF(I18<0,0,IF(I18>50,50,I18)) -> 32.073728 | O18: =$K18-2*$P18*$K18 -> 26.983002 | P18: 0.079359754 | Q18: =$K18+2*$P18*$K18 -> 37.164454
A19: 1000 | B19: 138.98563 | C19: -28.912855 | D19: 7.2223189 | E19: -98.377408 | F19: 55.817392 | G19: -3.4497297 | H19: ='Coeff+Calc'!A19 -> 1000 | I19: =IF(N$1<>0,0,IF(K$1>26.25,0,IF(K$2<12,0,IF($K$3<12,0,IF($K$3>48.1,0,('Coeff+Calc'!B19*K$4^2+'Coeff+Calc'!C19*K$4+'Coeff+Calc'!D19+K$1*('Coeff+Calc'!E19*K$4^2+'Coeff+Calc'!F19*K$4+'Coeff+Calc'!G19))))))) -> 28.790654 | J19: =H19 -> 1000 | K19: =IF(I19<0,0,IF(I19>50,50,I19)) -> 28.790654 | O19: =$K19-2*$P19*$K19 -> 24.348354 | P19: 0.077148294 | Q19: =$K19+2*$P19*$K19 -> 33.232954
A20: 1250 | B20: 181.76169 | C20: -28.140475 | D20: 7.2381415 | E20: -33.717179 | F20: 35.709132 | G20: -2.3704819 | H20: ='Coeff+Calc'!A20 -> 1250 | I20: =IF(N$1<>0,0,IF(K$1>26.25,0,IF(K$2<12,0,IF($K$3<12,0,IF($K$3>48.1,0,('Coeff+Calc'!B20*K$4^2+'Coeff+Calc'!C20*K$4+'Coeff+Calc'!D20+K$1*('Coeff+Calc'!E20*K$4^2+'Coeff+Calc'!F20*K$4+'Coeff+Calc'!G20))))))) -> 24.069464 | J20: =H20 -> 1250 | K20: =IF(I20<0,0,IF(I20>50,50,I20)) -> 24.069464 | O20: =$K20-2*$P20*$K20 -> 18.512054 | P20: 0.11544524 | Q20: =$K20+2*$P20*$K20 -> 29.626874
A21: 1600 | B21: -177.4592 | C21: 92.467152 | D21: -1.698278 | E21: 102.26193 | F21: -11.916574 | G21: 0.71119978 | H21: ='Coeff+Calc'!A21 -> 1600 | I21: =IF(N$1<>0,0,IF(K$1>26.25,0,IF(K$2<12,0,IF($K$3<12,0,IF($K$3>48.1,0,('Coeff+Calc'!B21*K$4^2+'Coeff+Calc'!C21*K$4+'Coeff+Calc'!D21+K$1*('Coeff+Calc'!E21*K$4^2+'Coeff+Calc'!F21*K$4+'Coeff+Calc'!G21))))))) -> 16.129429 | J21: =H21 -> 1600 | K21: =IF(I21<0,0,IF(I21>50,50,I21)) -> 16.129429 | O21: =$K21-2*$P21*$K21 -> 12.092006 | P21: 0.12515702 | Q21: =$K21+2*$P21*$K21 -> 20.166852
A22: 2000 | B22: 46.497216 | C22: 32.474242 | D22: 0.96266349 | E22: 30.532052 | F22: 0.51881769 | G22: 0.063087103 | H22: ='Coeff+Calc'!A22 -> 2000 | I22: =IF(N$1<>0,0,IF(K$1>26.25,0,IF(K$2<12,0,IF($K$3<12,0,IF($K$3>48.1,0,('Coeff+Calc'!B22*K$4^2+'Coeff+Calc'!C22*K$4+'Coeff+Calc'!D22+K$1*('Coeff+Calc'!E22*K$4^2+'Coeff+Calc'!F22*K$4+'Coeff+Calc'!G22))))))) -> 12.610039 | J22: =H22 -> 2000 | K22: =IF(I22<0,0,IF(I22>50,50,I22)) -> 12.610039 | O22: =$K22-2*$P22*$K22 -> 9.6743855 | P22: 0.11640144 | Q22: =$K22+2*$P22*$K22 -> 15.545692
A23: 2500 | B23: -141.8575 | C23: 75.128217 | D23: -1.4720166 | E23: 36.513425 | F23: -3.7369505 | G23: 0.3223334 | H23: ='Coeff+Calc'!A23 -> 2500 | I23: =IF(N$1<>0,0,IF(K$1>26.25,0,IF(K$2<12,0,IF($K$3<12,0,IF($K$3>48.1,0,('Coeff+Calc'!B23*K$4^2+'Coeff+Calc'!C23*K$4+'Coeff+Calc'!D23+K$1*('Coeff+Calc'!E23*K$4^2+'Coeff+Calc'!F23*K$4+'Coeff+Calc'!G23))))))) -> 10.492731 | J23: =H23 -> 2500 | K23: =IF(I23<0,0,IF(I23>50,50,I23)) -> 10.492731 | O23: =$K23-2*$P23*$K23 -> 7.3118747 | P23: 0.15157429 | Q23: =$K23+2*$P23*$K23 -> 13.673588
A24: 3150 | B24: -0.65380048 | C24: 40.269524 | D24: -0.22321785 | E24: 4.6775195 | F24: 3.5282035 | G24: -0.077015458 | H24: ='Coeff+Calc'!A24 -> 3150 | I24: =IF(N$1<>0,0,IF(K$1>26.25,0,IF(K$2<12,0,IF($K$3<12,0,IF($K$3>48.1,0,('Coeff+Calc'!B24*K$4^2+'Coeff+Calc'!C24*K$4+'Coeff+Calc'!D24+K$1*('Coeff+Calc'!E24*K$4^2+'Coeff+Calc'!F24*K$4+'Coeff+Calc'!G24))))))) -> 9.8344167 | J24: =H24 -> 3150 | K24: =IF(I24<0,0,IF(I24>50,50,I24)) -> 9.8344167 | O24: =$K24-2*$P24*$K24 -> 7.424877 | P24: 0.12250547 | Q24: =$K24+2*$P24*$K24 -> 12.243956
A25: 4000 | B25: 143.64216 | C25: 1.7011891 | D25: 1.1548861 | E25: -14.765329 | F25: 7.5841318 | G25: -0.27203335 | H25: ='Coeff+Calc'!A25 -> 4000 | I25: =IF(N$1<>0,0,IF(K$1>26.25,0,IF(K$2<12,0,IF($K$3<12,0,IF($K$3>48.1,0,('Coeff+Calc'!B25*K$4^2+'Coeff+Calc'!C25*K$4+'Coeff+Calc'!D25+K$1*('Coeff+Calc'!E25*K$4^2+'Coeff+Calc'!F25*K$4+'Coeff+Calc'!G25))))))) -> 8.9426663 | J25: =H25 -> 4000 | K25: =IF(I25<0,0,IF(I25>50,50,I25)) -> 8.9426663 | O25: =$K25-2*$P25*$K25 -> 5.9359833 | P25: 0.16810887 | Q25: =$K25+2*$P25*$K25 -> 11.949349
... A29: 10000 | B29: 29.699229 | C29: 29.273487 | D29: -0.91913146 | E29: -17.673395 | F29: 8.3423321 | G29: -0.39957826 | H29: ='Coeff+Calc'!A29 -> 10000 | I29: =IF(N$1<>0,0,IF(K$1>26.25,0,IF(K$2<12,0,IF($K$3<12,0,IF($K$3>48.1,0,('Coeff+Calc'!B29*K$4^2+'Coeff+Calc'!C29*K$4+'Coeff+Calc'!D29+K$1*('Coeff+Calc'!E29*K$4^2+'Coeff+Calc'!F29*K$4+'Coeff+Calc'!G29))))))) -> 7.3374974 | J29: =H29 -> 10000 | K29: =IF(I29<0,0,IF(I29>50,50,I29)) -> 7.3374974 | O29: =$K29-2*$P29*$K29 -> 3.1165531 | P29: 0.28762833 | Q29: =$K29+2*$P29*$K29 -> 11.558442
A35: Frequency | B35: a1 | C35: a2 | D35: a3 | E35: b1 | F35: b2 | G35: b3 | I35: IL = (a1*P/A^2+a2*P/A+a3) + (b1*P/A^2+b2*P/A+b3) * L | O35: m-2s | P35: s/m | Q35: m+2s
A36: 50 | B36: -165.7464 | C36: 74.469508 | D36: -4.9625696 | E36: -17.285487 | F36: 5.3367086 | G36: -0.35284792 | H36: =A36 -> 50 | I36: =IF(N$1<>0,0,IF(K$1>26.25,0,IF(K$2<12,0,IF($K$3<12,0,IF($K$3>48.1,0,('Coeff+Calc'!B36*K$4^2+'Coeff+Calc'!C36*K$4+'Coeff+Calc'!D36+K$1*('Coeff+Calc'!E36*K$4^2+'Coeff+Calc'!F36*K$4+'Coeff+Calc'!G36))))))) -> 1.6663476 | J36: =H36 -> 50 | K36: =IF(K37=0,0,IF(I36<0,0,IF(I36>50,50,I36))) -> 1.6663476 | M36: 63 | N36: =-10*LOG((10^(-K36/10)+10^(-K37/10)+10^(-K38/10))/3) -> 0.83820523 | O36: =$K36-2*$P36*$K36 -> -4.060085 | P36: 1.7182587 | Q36: =$K36+2*$P36*$K36 -> 7.3927802
A37: 63 | B37: 22.909852 | C37: -7.5573783 | D37: 0.41543003 | E37: -12.561249 | F37: 3.5847747 | G37: -0.18562486 | H37: =A37 -> 63 | I37: =IF(N$1<>0,0,IF(K$1>26.25,0,IF(K$2<12,0,IF($K$3<12,0,IF($K$3>48.1,0,('Coeff+Calc'!B37*K$4^2+'Coeff+Calc'!C37*K$4+'Coeff+Calc'!D37+K$1*('Coeff+Calc'!E37*K$4^2+'Coeff+Calc'!F37*K$4+'Coeff+Calc'!G37))))))) -> 0.7226535 | J37: =H37 -> 63 | K37: =IF(K38=0,0,IF(I37<0,0,IF(I37>50,50,I37))) -> 0.7226535 | M37: 125 | N37: =-10*LOG((10^(-K39/10)+10^(-K40/10)+10^(-K41/10))/3) -> 3.5116316 | O37: =$K37-2*$P37*$K37 -> -5.8187823 | P37: 4.5259836 | Q37: =$K37+2*$P37*$K37 -> 7.2640893
A38: 80 | B38: -102.51195 | C38: 36.096902 | D38: -2.5783288 | E38: 30.509836 | F38: -8.8163134 | G38: 0.60806294 | H38: =A38 -> 80 | I38: =IF(N$1<>0,0,IF(K$1>26.25,0,IF(K$2<12,0,IF($K$3<12,0,IF($K$3>48.1,0,('Coeff+Calc'!B38*K$4^2+'Coeff+Calc'!C38*K$4+'Coeff+Calc'!D38+K$1*('Coeff+Calc'!E38*K$4^2+'Coeff+Calc'!F38*K$4+'Coeff+Calc'!G38))))))) -> 0.24391632 | J38: =H38 -> 80 | K38: =IF(K39=0,0,IF(I38<0,0,IF(I38>50,50,I38))) -> 0.24391632 | M38: 250 | N38: =-10*LOG((10^(-K42/10)+10^(-K43/10)+10^(-K44/10))/3) -> 13.114043 | O38: =$K38-2*$P38*$K38 -> -0.17115986 | P38: 0.85085775 | Q38: =$K38+2*$P38*$K38 -> 0.6589925
A39: 100 | B39: -30.191382 | C39: 18.795929 | D39: -1.5360156 | E39: -15.565705 | F39: 4.5514687 | G39: -0.18352381 | H39: =A39 -> 100 | I39: =IF(N$1<>0,0,IF(K$1>26.25,0,IF(K$2<12,0,IF($K$3<12,0,IF($K$3>48.1,0,('Coeff+Calc'!B39*K$4^2+'Coeff+Calc'!C39*K$4+'Coeff+Calc'!D39+K$1*('Coeff+Calc'!E39*K$4^2+'Coeff+Calc'!F39*K$4+'Coeff+Calc'!G39))))))) -> 2.1300739 | J39: =H39 -> 100 | K39: =IF(K40=0,0,IF(I39<0,0,IF(I39>50,50,I39))) -> 2.1300739 | M39: 500 | N39: =-10*LOG((10^(-K45/10)+10^(-K46/10)+10^(-K47/10))/3) -> 35.696535 | O39: =$K39-2*$P39*$K39 -> 0.18520142 | P39: 0.456527 | Q39: =$K39+2*$P39*$K39 -> 4.0749464
A40: 125 | B40: 68.942307 | C40: -22.910531 | D40: 1.7946894 | E40: -2.9540015 | F40: 3.2226013 | G40: -0.062207069 | H40: =A40 -> 125 | I40: =IF(N$1<>0,0,IF(K$1>26.25,0,IF(K$2<12,0,IF($K$3<12,0,IF($K$3>48.1,0,('Coeff+Calc'!B40*K$4^2+'Coeff+Calc'!C40*K$4+'Coeff+Calc'!D40+K$1*('Coeff+Calc'!E40*K$4^2+'Coeff+Calc'!F40*K$4+'Coeff+Calc'!G40))))))) -> 3.9910733 | J40: =H40 -> 125 | K40: =IF(K41=0,0,IF(I40<0,0,IF(I40>50,50,I40))) -> 3.9910733 | M40: 1000 | N40: =-10*LOG((10^(-K48/10)+10^(-K49/10)+10^(-K50/10))/3) -> 20.532343 | O40: =$K40-2*$P40*$K40 -> 2.4434889 | P40: 0.19388073 | Q40: =$K40+2*$P40*$K40 -> 5.5386577
A41: 160 | B41: 94.417027 | C41: -23.302635 | D41: 1.5466343 | E41: 2.5204092 | F41: 1.0514031 | G41: 0.16908768 | H41: =A41 -> 160 | I41: =IF(N$1<>0,0,IF(K$1>26.25,0,IF(K$2<12,0,IF($K$3<12,0,IF($K$3>48.1,0,('Coeff+Calc'!B41*K$4^2+'Coeff+Calc'!C41*K$4+'Coeff+Calc'!D41+K$1*('Coeff+Calc'!E41*K$4^2+'Coeff+Calc'!F41*K$4+'Coeff+Calc'!G41))))))) -> 4.878491 | J41: =H41 -> 160 | K41: =IF(I41<0,0,IF(I41>50,50,I41)) -> 4.878491 | M41: 2000 | N41: =-10*LOG((10^(-K51/10)+10^(-K52/10)+10^(-K53/10))/3) -> 11.644241 | O41: =$K41-2*$P41*$K41 -> 3.0458565 | P41: 0.18782801 | Q41: =$K41+2*$P41*$K41 -> 6.7111256
A42: 200 | B42: 93.317493 | C42: -31.325638 | D42: 2.621355 | E42: -6.9890006 | F42: 5.7014358 | G42: 0.087697381 | H42: =A42 -> 200 | I42: =IF(N$1<>0,0,IF(K$1>26.25,0,IF(K$2<12,0,IF($K$3<12,0,IF($K$3>48.1,0,('Coeff+Calc'!B42*K$4^2+'Coeff+Calc'!C42*K$4+'Coeff+Calc'!D42+K$1*('Coeff+Calc'!E42*K$4^2+'Coeff+Calc'!F42*K$4+'Coeff+Calc'!G42))))))) -> 9.8163908 | J42: =H42 -> 200 | K42: =IF(I42<0,0,IF(I42>50,50,I42)) -> 9.8163908 | M42: 4000 | N42: =-10*LOG((10^(-K54/10)+10^(-K55/10)+10^(-K56/10))/3) -> 9.5880814 | O42: =$K42-2*$P42*$K42 -> 6.9370029 | P42: 0.14666225 | Q42: =$K42+2*$P42*$K42 -> 12.695779
A43: 250 | B43: 67.358004 | C43: -27.633285 | D43: 3.031132 | E43: -14.187028 | F43: 9.677815 | G43: 0.014300674 | H43: =A43 -> 250 | I43: =IF(N$1<>0,0,IF(K$1>26.25,0,IF(K$2<12,0,IF($K$3<12,0,IF($K$3>48.1,0,('Coeff+Calc'!B43*K$4^2+'Coeff+Calc'!C43*K$4+'Coeff+Calc'!D43+K$1*('Coeff+Calc'!E43*K$4^2+'Coeff+Calc'!F43*K$4+'Coeff+Calc'!G43))))))) -> 14.509322 | J43: =H43 -> 250 | K43: =IF(I43<0,0,IF(I43>50,50,I43)) -> 14.509322 | M43: 8000 | N43: =-10*LOG((10^(-K57/10)+10^(-K58/10)+10^(-K59/10))/3) -> 9.0970292 | O43: =$K43-2*$P43*$K43 -> 10.095038 | P43: 0.1521189 | Q43: =$K43+2*$P43*$K43 -> 18.923606
A44: 315 | B44: 190.61764 | C44: -65.255376 | D44: 6.9660025 | E44: -17.366709 | F44: 11.037801 | G44: 0.29781543 | H44: =A44 -> 315 | I44: =IF(N$1<>0,0,IF(K$1>26.25,0,IF(K$2<12,0,IF($K$3<12,0,IF($K$3>48.1,0,('Coeff+Calc'!B44*K$4^2+'Coeff+Calc'!C44*K$4+'Coeff+Calc'!D44+K$1*('Coeff+Calc'!E44*K$4^2+'Coeff+Calc'!F44*K$4+'Coeff+Calc'!G44))))))) -> 21.716219 | J44: =H44 -> 315 | K44: =IF(I44<0,0,IF(I44>50,50,I44)) -> 21.716219 | O44: =$K44-2*$P44*$K44 -> 16.070077 | P44: 0.12999827 | Q44: =$K44+2*$P44*$K44 -> 27.362361
A45: 400 | B45: 25.27762 | C45: -10.54316 | D45: 3.0790593 | E45: -1.8621872 | F45: 8.4536506 | G45: 1.0809813 | H45: =A45 -> 400 | I45: =IF(N$1<>0,0,IF(K$1>26.25,0,IF(K$2<12,0,IF($K$3<12,0,IF($K$3>48.1,0,('Coeff+Calc'!B45*K$4^2+'Coeff+Calc'!C45*K$4+'Coeff+Calc'!D45+K$1*('Coeff+Calc'!E45*K$4^2+'Coeff+Calc'!F45*K$4+'Coeff+Calc'!G45))))))) -> 32.178954 | J45: =H45 -> 400 | K45: =IF(I45<0,0,IF(I45>50,50,I45)) -> 32.178954 | O45: =$K45-2*$P45*$K45 -> 29.022239 | P45: 0.049049371 | Q45: =$K45+2*$P45*$K45 -> 35.335669
A46: 500 | B46: -218.59279 | C46: 121.0682 | D46: -6.0103028 | E46: -11.052532 | F46: 6.3191215 | G46: 1.8338047 | H46: =A46 -> 500 | I46: =IF(N$1<>0,0,IF(K$1>26.25,0,IF(K$2<12,0,IF($K$3<12,0,IF($K$3>48.1,0,('Coeff+Calc'!B46*K$4^2+'Coeff+Calc'!C46*K$4+'Coeff+Calc'!D46+K$1*('Coeff+Calc'!E46*K$4^2+'Coeff+Calc'!F46*K$4+'Coeff+Calc'!G46))))))) -> 40.735219 | J46: =H46 -> 500 | K46: =IF(I46<0,0,IF(I46>50,50,I46)) -> 40.735219 | O46: =$K46-2*$P46*$K46 -> 35.658433 | P46: 0.062314449 | Q46: =$K46+2*$P46*$K46 -> 45.812004
A47: 630 | B47: -339.86806 | C47: 152.40206 | D47: -4.0594695 | E47: -54.350286 | F47: 34.594595 | G47: -1.1331237 | H47: =A47 -> 630 | I47: =IF(N$1<>0,0,IF(K$1>26.25,0,IF(K$2<12,0,IF($K$3<12,0,IF($K$3>48.1,0,('Coeff+Calc'!B47*K$4^2+'Coeff+Calc'!C47*K$4+'Coeff+Calc'!D47+K$1*('Coeff+Calc'!E47*K$4^2+'Coeff+Calc'!F47*K$4+'Coeff+Calc'!G47))))))) -> 39.274126 | J47: =H47 -> 630 | K47: =IF(I47<0,0,IF(I47>50,50,I47)) -> 39.274126 | O47: =$K47-2*$P47*$K47 -> 32.177324 | P47: 0.090349591 | Q47: =$K47+2*$P47*$K47 -> 46.370928
A48: 800 | B48: 718.1961 | C48: -225.04252 | D48: 22.971807 | E48: -261.66393 | F48: 115.60039 | G48: -7.635455 | H48: =A48 -> 800 | I48: =IF(N$1<>0,0,IF(K$1>26.25,0,IF(K$2<12,0,IF($K$3<12,0,IF($K$3>48.1,0,('Coeff+Calc'!B48*K$4^2+'Coeff+Calc'!C48*K$4+'Coeff+Calc'!D48+K$1*('Coeff+Calc'!E48*K$4^2+'Coeff+Calc'!F48*K$4+'Coeff+Calc'!G48))))))) -> 36.51291 | J48: =H48 -> 800 | K48: =IF(I48<0,0,IF(I48>50,50,I48)) -> 36.51291 | O48: =$K48-2*$P48*$K48 -> 27.006158 | P48: 0.13018343 | Q48: =$K48+2*$P48*$K48 -> 46.019662
A49: 1000 | B49: 326.03991 | C49: -69.259189 | D49: 10.432694 | E49: -19.673072 | F49: 36.34558 | G49: -2.6218123 | H49: =A49 -> 1000 | I49: =IF(N$1<>0,0,IF(K$1>26.25,0,IF(K$2<12,0,IF($K$3<12,0,IF($K$3>48.1,0,('Coeff+Calc'!B49*K$4^2+'Coeff+Calc'!C49*K$4+'Coeff+Calc'!D49+K$1*('Coeff+Calc'!E49*K$4^2+'Coeff+Calc'!F49*K$4+'Coeff+Calc'!G49))))))) -> 24.368032 | J49: =H49 -> 1000 | K49: =IF(I49<0,0,IF(I49>50,50,I49)) -> 24.368032 | O49: =$K49-2*$P49*$K49 -> 19.024267 | P49: 0.10964704 | Q49: =$K49+2*$P49*$K49 -> 29.711798
A50: 1250 | B50: -291.7838 | C50: 104.05615 | D50: -0.6520449 | E50: 159.20281 | F50: -21.787405 | G50: 1.0647054 | H50: =A50 -> 1250 | I50: =IF(N$1<>0,0,IF(K$1>26.25,0,IF(K$2<12,0,IF($K$3<12,0,IF($K$3>48.1,0,('Coeff+Calc'!B50*K$4^2+'Coeff+Calc'!C50*K$4+'Coeff+Calc'!D50+K$1*('Coeff+Calc'!E50*K$4^2+'Coeff+Calc'!F50*K$4+'Coeff+Calc'!G50))))))) -> 16.44772 | J50: =H50 -> 1250 | K50: =IF(I50<0,0,IF(I50>50,50,I50)) -> 16.44772 | O50: =$K50-2*$P50*$K50 -> 13.089722 | P50: 0.10208097 | Q50: =$K50+2*$P50*$K50 -> 19.805718
A51: 1600 | B51: -104.29189 | C51: 52.694779 | D51: 0.96325735 | E51: 43.750869 | F51: -0.097183386 | G51: 0.040641365 | H51: =A51 -> 1600 | I51: =IF(N$1<>0,0,IF(K$1>26.25,0,IF(K$2<12,0,IF($K$3<12,0,IF($K$3>48.1,0,('Coeff+Calc'!B51*K$4^2+'Coeff+Calc'!C51*K$4+'Coeff+Calc'!D51+K$1*('Coeff+Calc'!E51*K$4^2+'Coeff+Calc'!F51*K$4+'Coeff+Calc'!G51))))))) -> 14.08034 | J51: =H51 -> 1600 | K51: =IF(I51<0,0,IF(I51>50,50,I51)) -> 14.08034 | O51: =$K51-2*$P51*$K51 -> 8.8549967 | P51: 0.18555458 | Q51: =$K51+2*$P51*$K51 -> 19.305682
A52: 2000 | B52: 57.334574 | C52: 8.4349136 | D52: 2.7360684 | E52: 9.0390007 | F52: 6.0364602 | G52: -0.30275324 | H52: =A52 -> 2000 | I52: =IF(N$1<>0,0,IF(K$1>26.25,0,IF(K$2<12,0,IF($K$3<12,0,IF($K$3>48.1,0,('Coeff+Calc'!B52*K$4^2+'Coeff+Calc'!C52*K$4+'Coeff+Calc'!D52+K$1*('Coeff+Calc'!E52*K$4^2+'Coeff+Calc'!F52*K$4+'Coeff+Calc'!G52))))))) -> 11.574473 | J52: =H52 -> 2000 | K52: =IF(I52<0,0,IF(I52>50,50,I52)) -> 11.574473 | O52: =$K52-2*$P52*$K52 -> 7.6544292 | P52: 0.16934005 | Q52: =$K52+2*$P52*$K52 -> 15.494516
A53: 2500 | B53: 16.844564 | C53: 9.489677 | D53: 3.0032764 | E53: 7.4838394 | F53: 5.3134742 | G53: -0.29099367 | H53: =A53 -> 2500 | I53: =IF(N$1<>0,0,IF(K$1>26.25,0,IF(K$2<12,0,IF($K$3<12,0,IF($K$3>48.1,0,('Coeff+Calc'!B53*K$4^2+'Coeff+Calc'!C53*K$4+'Coeff+Calc'!D53+K$1*('Coeff+Calc'!E53*K$4^2+'Coeff+Calc'!F53*K$4+'Coeff+Calc'!G53))))))) -> 10.142424 | J53: =H53 -> 2500 | K53: =IF(I53<0,0,IF(I53>50,50,I53)) -> 10.142424 | O53: =$K53-2*$P53*$K53 -> 6.8244006 | P53: 0.16357151 | Q53: =$K53+2*$P53*$K53 -> 13.460447
A54: 3150 | B54: 88.81542 | C54: 0.89292854 | D54: 2.6050139 | E54: -10.376494 | F54: 8.9300859 | G54: -0.45899808 | H54: =A54 -> 3150 | I54: =IF(N$1<>0,0,IF(K$1>26.25,0,IF(K$2<12,0,IF($K$3<12,0,IF($K$3>48.1,0,('Coeff+Calc'!B54*K$4^2+'Coeff+Calc'!C54*K$4+'Coeff+Calc'!D54+K$1*('Coeff+Calc'!E54*K$4^2+'Coeff+Calc'!F54*K$4+'Coeff+Calc'!G54))))))) -> 9.877647 | J54: =H54 -> 3150 | K54: =IF(I54<0,0,IF(I54>50,50,I54)) -> 9.877647 | O54: =$K54-2*$P54*$K54 -> 5.8647932 | P54: 0.20312802 | Q54: =$K54+2*$P54*$K54 -> 13.890501
A55: 4000 | B55: 243.07971 | C55: -37.050193 | D55: 4.0657042 | E55: -30.84922 | F55: 13.57208 | G55: -0.67772589 | H55: =A55 -> 4000 | I55: =IF(N$1<>0,0,IF(K$1>26.25,0,IF(K$2<12,0,IF($K$3<12,0,IF($K$3>48.1,0,('Coeff+Calc'!B55*K$4^2+'Coeff+Calc'!C55*K$4+'Coeff+Calc'!D55+K$1*('Coeff+Calc'!E55*K$4^2+'Coeff+Calc'!F55*K$4+'Coeff+Calc'!G55))))))) -> 9.6914263 | J55: =H55 -> 4000 | K55: =IF(I55<0,0,IF(I55>50,50,I55)) -> 9.6914263 | O55: =$K55-2*$P55*$K55 -> 5.4559672 | P55: 0.21851578 | Q55: =$K55+2*$P55*$K55 -> 13.926885
... A59: 10000 | B59: 101.21753 | C59: 4.2711834 | D59: 0.45629709 | E59: -28.23597 | F59: 12.341088 | G59: -0.59368526 | H59: =A59 -> 10000 | I59: =IF(N$1<>0,0,IF(K$1>26.25,0,IF(K$2<12,0,IF($K$3<12,0,IF($K$3>48.1,0,('Coeff+Calc'!B59*K$4^2+'Coeff+Calc'!C59*K$4+'Coeff+Calc'!D59+K$1*('Coeff+Calc'!E59*K$4^2+'Coeff+Calc'!F59*K$4+'Coeff+Calc'!G59))))))) -> 8.6147893 | J59: =H59 -> 10000 | K59: =IF(I59<0,0,IF(I59>50,50,I59)) -> 8.6147893 | O59: =$K59-2*$P59*$K59 -> 2.6034744 | P59: 0.34889506 | Q59: =$K59+2*$P59*$K59 -> 14.626104
A65: Freq | B65: a1 | C65: a2 | D65: a3 | E65: a4 | F65: b1 | G65: b2 | H65: b3 | I65: b4 | S65: m-2s | T65: s/m | U65: m+2s
A66: 50 | B66: 0.00037657173 | C66: -0.029578301 | D66: 0.65788351 | E66: -3.1989146 | F66: -3.0679149e-06 | G66: 0.00049288655 | H66: -0.022756157 | I66: 0.31897581 | J66: =A66 -> 50 | K66: =IF(N$1<>0,0,IF(K$1>26.25,0,IF(K$2<12,0,IF(K$2>48.1,0,B66*K$2^3+C66*K$2^2+D66*K$2+E66+K$1*(F66*K$2^3+G66*K$2^2+H66*K$2+I66))))) -> -0.34827816 | L66: =J66 -> 50 | M66: =IF(M67=0,0,IF(K66<0,0,IF(K66>50,50,K66))) -> 0 | O66: 63 | P66: =-10*LOG((10^(-M66/10)+10^(-M67/10)+10^(-M68/10))/3) -> 0.44464522 | S66: =$M66-2*$T66*$M66 -> 0 | T66: 0.66134521 | U66: =$M66+2*$T66*$M66 -> 0
A67: 63 | B67: 0.00024701577 | C67: -0.028725448 | D67: 1.0236993 | E67: -9.9819318 | F67: 5.3097365e-06 | G67: -0.00028004296 | H67: 0.0003623841 | I67: 0.072234471 | J67: =A67 -> 63 | K67: =IF(N$1<>0,0,IF(K$1>26.25,0,IF(K$2<12,0,IF(K$2>48.1,0,B67*K$2^3+C67*K$2^2+D67*K$2+E67+K$1*(F67*K$2^3+G67*K$2^2+H67*K$2+I67))))) -> 0.7189651 | L67: =J67 -> 63 | M67: =IF(M68=0,0,IF(K67<0,0,IF(K67>50,50,K67))) -> 0.7189651 | O67: 125 | P67: =-10*LOG((10^(-M69/10)+10^(-M70/10)+10^(-M71/10))/3) -> 1.1306119 | S67: =$M67-2*$T67*$M67 -> -1.9335308 | T67: 1.8446625 | U67: =$M67+2*$T67*$M67 -> 3.371461
A68: 80 | B68: 3.8720754e-05 | C68: -0.0039743712 | D68: 0.11079258 | E68: -0.35659886 | F68: 1.1904098e-05 | G68: -0.0011156188 | H68: 0.031944126 | I68: -0.23526574 | J68: =A68 -> 80 | K68: =IF(N$1<>0,0,IF(K$1>26.25,0,IF(K$2<12,0,IF(K$2>48.1,0,B68*K$2^3+C68*K$2^2+D68*K$2+E68+K$1*(F68*K$2^3+G68*K$2^2+H68*K$2+I68))))) -> 0.65188056 | L68: =J68 -> 80 | M68: =IF(M69=0,0,IF(K68<0,0,IF(K68>50,50,K68))) -> 0.65188056 | O68: 250 | P68: =-10*LOG((10^(-M72/10)+10^(-M73/10)+10^(-M74/10))/3) -> 3.8111743 | S68: =$M68-2*$T68*$M68 -> -0.30602039 | T68: 0.73472121 | U68: =$M68+2*$T68*$M68 -> 1.6097815
A69: 100 | B69: 0.00011389209 | C69: -0.011479966 | D69: 0.34161771 | E69: -2.5950761 | F69: -3.5544349e-06 | G69: 0.00048511877 | H69: -0.02144307 | I69: 0.34648225 | J69: =A69 -> 100 | K69: =IF(N$1<>0,0,IF(K$1>26.25,0,IF(K$2<12,0,IF(K$2>48.1,0,B69*K$2^3+C69*K$2^2+D69*K$2+E69+K$1*(F69*K$2^3+G69*K$2^2+H69*K$2+I69))))) -> 0.70002448 | L69: =J69 -> 100 | M69: =IF(M70=0,0,IF(K69<0,0,IF(K69>50,50,K69))) -> 0.70002448 | O69: 500 | P69: =-10*LOG((10^(-M75/10)+10^(-M76/10)+10^(-M77/10))/3) -> 14.030301 | S69: =$M69-2*$T69*$M69 -> 0.21658231 | T69: 0.34530376 | U69: =$M69+2*$T69*$M69 -> 1.1834666
A70: 125 | B70: -6.6156043e-06 | C70: 0.0007888319 | D70: -0.047109345 | E70: 0.98185894 | F70: -3.6337012e-06 | G70: 0.00054405945 | H70: -0.025938371 | I70: 0.46589954 | J70: =A70 -> 125 | K70: =IF(N$1<>0,0,IF(K$1>26.25,0,IF(K$2<12,0,IF(K$2>48.1,0,B70*K$2^3+C70*K$2^2+D70*K$2+E70+K$1*(F70*K$2^3+G70*K$2^2+H70*K$2+I70))))) -> 1.0148702 | L70: =J70 -> 125 | M70: =IF(M71=0,0,IF(K70<0,0,IF(K70>50,50,K70))) -> 1.0148702 | O70: 1000 | P70: =-10*LOG((10^(-M78/10)+10^(-M79/10)+10^(-M80/10))/3) -> 21.196492 | S70: =$M70-2*$T70*$M70 -> 0.65824516 | T70: 0.17569981 | U70: =$M70+2*$T70*$M70 -> 1.3714951
A71: 160 | B71: 7.3949438e-05 | C71: -0.0083347912 | D71: 0.28475717 | E71: -2.5359274 | F71: -1.2797675e-05 | G71: 0.0015150058 | H71: -0.059222854 | I71: 0.85752825 | J71: =A71 -> 160 | K71: =IF(N$1<>0,0,IF(K$1>26.25,0,IF(K$2<12,0,IF(K$2>48.1,0,B71*K$2^3+C71*K$2^2+D71*K$2+E71+K$1*(F71*K$2^3+G71*K$2^2+H71*K$2+I71))))) -> 1.7415977 | L71: =J71 -> 160 | M71: =IF(K71<0,0,IF(K71>50,50,K71)) -> 1.7415977 | O71: 2000 | P71: =-10*LOG((10^(-M81/10)+10^(-M82/10)+10^(-M83/10))/3) -> 10.494449 | S71: =$M71-2*$T71*$M71 -> 1.4275338 | T71: 0.090165445 | U71: =$M71+2*$T71*$M71 -> 2.0556616
A72: 200 | B72: -1.1307928e-05 | C72: 0.0006083388 | D72: -0.0030780729 | E72: 0.24738328 | F72: -8.3494561e-06 | G72: 0.0011580221 | H72: -0.054395725 | I72: 0.99443877 | J72: =A72 -> 200 | K72: =IF(N$1<>0,0,IF(K$1>26.25,0,IF(K$2<12,0,IF(K$2>48.1,0,B72*K$2^3+C72*K$2^2+D72*K$2+E72+K$1*(F72*K$2^3+G72*K$2^2+H72*K$2+I72))))) -> 2.608954 | L72: =J72 -> 200 | M72: =IF(K72<0,0,IF(K72>50,50,K72)) -> 2.608954 | O72: 4000 | P72: =-10*LOG((10^(-M84/10)+10^(-M85/10)+10^(-M86/10))/3) -> 9.5600442 | S72: =$M72-2*$T72*$M72 -> 2.335837 | T72: 0.05234224 | U72: =$M72+2*$T72*$M72 -> 2.882071
A73: 250 | B73: 8.0833829e-05 | C73: -0.0080682088 | D73: 0.22700374 | E73: -1.5658424 | F73: -1.8179762e-05 | G73: 0.0022369038 | H73: -0.092446125 | I73: 1.5173569 | J73: =A73 -> 250 | K73: =IF(N$1<>0,0,IF(K$1>26.25,0,IF(K$2<12,0,IF(K$2>48.1,0,B73*K$2^3+C73*K$2^2+D73*K$2+E73+K$1*(F73*K$2^3+G73*K$2^2+H73*K$2+I73))))) -> 3.5232067 | L73: =J73 -> 250 | M73: =IF(K73<0,0,IF(K73>50,50,K73)) -> 3.5232067 | O73: 8000 | P73: =-10*LOG((10^(-M87/10)+10^(-M88/10)+10^(-M89/10))/3) -> 10.12925 | S73: =$M73-2*$T73*$M73 -> 3.2588319 | T73: 0.037519047 | U73: =$M73+2*$T73*$M73 -> 3.7875814
A74: 315 | B74: 1.0010632e-05 | C74: -0.0019809984 | D74: 0.087025019 | E74: -0.84136852 | F74: -2.2566674e-05 | G74: 0.0028729286 | H74: -0.12458562 | I74: 2.1978908 | J74: =A74 -> 315 | K74: =IF(N$1<>0,0,IF(K$1>26.25,0,IF(K$2<12,0,IF(K$2>48.1,0,B74*K$2^3+C74*K$2^2+D74*K$2+E74+K$1*(F74*K$2^3+G74*K$2^2+H74*K$2+I74))))) -> 5.940011 | L74: =J74 -> 315 | M74: =IF(K74<0,0,IF(K74>50,50,K74)) -> 5.940011 | S74: =$M74-2*$T74*$M74 -> 5.6063536 | T74: 0.028085592 | U74: =$M74+2*$T74*$M74 -> 6.2736685
A75: 400 | B75: -0.00017173584 | C75: 0.016345278 | D75: -0.49322524 | E75: 6.830716 | F75: 3.0255456e-06 | G75: 0.00061081665 | H75: -0.066643492 | I75: 2.0081695 | J75: =A75 -> 400 | K75: =IF(N$1<>0,0,IF(K$1>26.25,0,IF(K$2<12,0,IF(K$2>48.1,0,B75*K$2^3+C75*K$2^2+D75*K$2+E75+K$1*(F75*K$2^3+G75*K$2^2+H75*K$2+I75))))) -> 10.372311 | L75: =J75 -> 400 | M75: =IF(K75<0,0,IF(K75>50,50,K75)) -> 10.372311 | S75: =$M75-2*$T75*$M75 -> 9.096503 | T75: 0.061500654 | U75: =$M75+2*$T75*$M75 -> 11.648119
A76: 500 | B76: 0.00010592417 | C76: -0.01239424 | D76: 0.39973784 | E76: -1.0806168 | F76: -2.3585605e-06 | G76: 0.0014155941 | H76: -0.10220245 | I76: 2.8732136 | J76: =A76 -> 500 | K76: =IF(N$1<>0,0,IF(K$1>26.25,0,IF(K$2<12,0,IF(K$2>48.1,0,B76*K$2^3+C76*K$2^2+D76*K$2+E76+K$1*(F76*K$2^3+G76*K$2^2+H76*K$2+I76))))) -> 15.966425 | L76: =J76 -> 500 | M76: =IF(K76<0,0,IF(K76>50,50,K76)) -> 15.966425 | S76: =$M76-2*$T76*$M76 -> 13.784203 | T76: 0.068337831 | U76: =$M76+2*$T76*$M76 -> 18.148647
A77: 630 | B77: 0.00045342068 | C77: -0.039280155 | D77: 0.93400923 | E77: 0.30073945 | F77: -3.77587e-05 | G77: 0.0038902661 | H77: -0.14164428 | I77: 3.4228177 | J77: =A77 -> 630 | K77: =IF(N$1<>0,0,IF(K$1>26.25,0,IF(K$2<12,0,IF(K$2>48.1,0,B77*K$2^3+C77*K$2^2+D77*K$2+E77+K$1*(F77*K$2^3+G77*K$2^2+H77*K$2+I77))))) -> 28.228865 | L77: =J77 -> 630 | M77: =IF(K77<0,0,IF(K77>50,50,K77)) -> 28.228865 | S77: =$M77-2*$T77*$M77 -> 23.36798 | T77: 0.086097773 | U77: =$M77+2*$T77*$M77 -> 33.089749
A78: 800 | B78: -0.00050209136 | C78: 0.05106086 | D78: -1.4786876 | E78: 19.878436 | F78: 0.00011731408 | G78: -0.010595564 | H78: 0.21796044 | I78: 1.7199512 | J78: =A78 -> 800 | K78: =IF(N$1<>0,0,IF(K$1>26.25,0,IF(K$2<12,0,IF(K$2>48.1,0,B78*K$2^3+C78*K$2^2+D78*K$2+E78+K$1*(F78*K$2^3+G78*K$2^2+H78*K$2+I78))))) -> 29.016201 | L78: =J78 -> 800 | M78: =IF(K78<0,0,IF(K78>50,50,K78)) -> 29.016201 | S78: =$M78-2*$T78*$M78 -> 24.377092 | T78: 0.079939983 | U78: =$M78+2*$T78*$M78 -> 33.65531
A79: 1000 | B79: 0.00037477922 | C79: -0.0109339 | D79: -0.77053414 | E79: 32.990628 | F79: 9.6929857e-05 | G79: -0.0098082387 | H79: 0.24616991 | I79: 0.27107412 | J79: =A79 -> 1000 | K79: =IF(N$1<>0,0,IF(K$1>26.25,0,IF(K$2<12,0,IF(K$2>48.1,0,B79*K$2^3+C79*K$2^2+D79*K$2+E79+K$1*(F79*K$2^3+G79*K$2^2+H79*K$2+I79))))) -> 22.727856 | L79: =J79 -> 1000 | M79: =IF(K79<0,0,IF(K79>50,50,K79)) -> 22.727856 | S79: =$M79-2*$T79*$M79 -> 19.214298 | T79: 0.0772963 | U79: =$M79+2*$T79*$M79 -> 26.241415
A80: 1250 | B80: -0.0011513419 | C80: 0.14350371 | D80: -5.8127234 | E80: 83.810439 | F80: 0.00011749454 | G80: -0.011973241 | H80: 0.33732349 | I80: -1.3686484 | J80: =A80 -> 1250 | K80: =IF(N$1<>0,0,IF(K$1>26.25,0,IF(K$2<12,0,IF(K$2>48.1,0,B80*K$2^3+C80*K$2^2+D80*K$2+E80+K$1*(F80*K$2^3+G80*K$2^2+H80*K$2+I80))))) -> 17.90874 | L80: =J80 -> 1250 | M80: =IF(K80<0,0,IF(K80>50,50,K80)) -> 17.90874 | S80: =$M80-2*$T80*$M80 -> 15.689391 | T80: 0.061962732 | U80: =$M80+2*$T80*$M80 -> 20.128089
A81: 1600 | B81: -0.0014885398 | C81: 0.17480398 | D81: -6.6598782 | E81: 88.135609 | F81: 8.25739e-05 | G81: -0.007779054 | H81: 0.1878496 | I81: -0.051519341 | J81: =A81 -> 1600 | K81: =IF(N$1<>0,0,IF(K$1>26.25,0,IF(K$2<12,0,IF(K$2>48.1,0,B81*K$2^3+C81*K$2^2+D81*K$2+E81+K$1*(F81*K$2^3+G81*K$2^2+H81*K$2+I81))))) -> 12.706345 | L81: =J81 -> 1600 | M81: =IF(K81<0,0,IF(K81>50,50,K81)) -> 12.706345 | S81: =$M81-2*$T81*$M81 -> 11.169293 | T81: 0.060483649 | U81: =$M81+2*$T81*$M81 -> 14.243397
A82: 2000 | B82: -0.00078110954 | C82: 0.10074313 | D82: -4.3068093 | E82: 65.232191 | F82: 7.9478463e-06 | G82: -0.00022882543 | H82: -0.033177257 | I82: 1.4996588 | J82: =A82 -> 2000 | K82: =IF(N$1<>0,0,IF(K$1>26.25,0,IF(K$2<12,0,IF(K$2>48.1,0,B82*K$2^3+C82*K$2^2+D82*K$2+E82+K$1*(F82*K$2^3+G82*K$2^2+H82*K$2+I82))))) -> 9.9997272 | L82: =J82 -> 2000 | M82: =IF(K82<0,0,IF(K82>50,50,K82)) -> 9.9997272 | S82: =$M82-2*$T82*$M82 -> 8.4672481 | T82: 0.076626044 | U82: =$M82+2*$T82*$M82 -> 11.532206
A83: 2500 | B83: -0.00031902054 | C83: 0.042600624 | D83: -1.9230394 | E83: 35.134382 | F83: -5.1727316e-05 | G83: 0.006191665 | H83: -0.25086861 | I83: 3.6333632 | J83: =A83 -> 2500 | K83: =IF(N$1<>0,0,IF(K$1>26.25,0,IF(K$2<12,0,IF(K$2>48.1,0,B83*K$2^3+C83*K$2^2+D83*K$2+E83+K$1*(F83*K$2^3+G83*K$2^2+H83*K$2+I83))))) -> 9.4276696 | L83: =J83 -> 2500 | M83: =IF(K83<0,0,IF(K83>50,50,K83)) -> 9.4276696 | S83: =$M83-2*$T83*$M83 -> 8.0572472 | T83: 0.07268087 | U83: =$M83+2*$T83*$M83 -> 10.798092
A84: 3150 | B84: 0.00064688929 | C84: -0.052982403 | D84: 1.0478044 | E84: 5.5312133 | F84: -8.4189545e-05 | G84: 0.009130537 | H84: -0.33246933 | I84: 4.3712637 | J84: =A84 -> 3150 | K84: =IF(N$1<>0,0,IF(K$1>26.25,0,IF(K$2<12,0,IF(K$2>48.1,0,B84*K$2^3+C84*K$2^2+D84*K$2+E84+K$1*(F84*K$2^3+G84*K$2^2+H84*K$2+I84))))) -> 9.3821856 | L84: =J84 -> 3150 | M84: =IF(K84<0,0,IF(K84>50,50,K84)) -> 9.3821856 | S84: =$M84-2*$T84*$M84 -> 8.1171072 | T84: 0.067419172 | U84: =$M84+2*$T84*$M84 -> 10.647264
A85: 4000 | B85: 0.001057233 | C85: -0.098760533 | D85: 2.6045202 | E85: -9.0974276 | F85: -8.712004e-05 | G85: 0.0092753887 | H85: -0.32187709 | I85: 3.8356459 | J85: =A85 -> 4000 | K85: =IF(N$1<>0,0,IF(K$1>26.25,0,IF(K$2<12,0,IF(K$2>48.1,0,B85*K$2^3+C85*K$2^2+D85*K$2+E85+K$1*(F85*K$2^3+G85*K$2^2+H85*K$2+I85))))) -> 9.0624374 | L85: =J85 -> 4000 | M85: =IF(K85<0,0,IF(K85>50,50,K85)) -> 9.0624374 | S85: =$M85-2*$T85*$M85 -> 7.5924396 | T85: 0.081103886 | U85: =$M85+2*$T85*$M85 -> 10.532435
... A89: 10000 | B89: 0.0017281771 | C89: -0.17306153 | D89: 5.0363724 | E89: -31.076512 | F89: -0.00010877773 | G89: 0.011418496 | H89: -0.37670102 | I89: 4.0724053 | J89: =A89 -> 10000 | K89: =IF(N$1<>0,0,IF(K$1>26.25,0,IF(K$2<12,0,IF(K$2>48.1,0,B89*K$2^3+C89*K$2^2+D89*K$2+E89+K$1*(F89*K$2^3+G89*K$2^2+H89*K$2+I89))))) -> 10.091074 | L89: =J89 -> 10000 | M89: =IF(K89<0,0,IF(K89>50,50,K89)) -> 10.091074 | S89: =$M89-2*$T89*$M89 -> 5.0141428 | T89: 0.25155555 | U89: =$M89+2*$T89*$M89 -> 15.168006
A95: Freq | B95: a1 | C95: a2 | D95: a3 | E95: a4 | F95: b1 | G95: b2 | H95: b3 | I95: b4 | S95: m-2s | T95: s/m | U95: m+2s
A96: 50 | B96: 0.00013070946 | C96: -0.0057134549 | D96: -0.087046094 | E96: 4.6761651 | F96: -6.1409357e-06 | G96: 0.0007248271 | H96: -0.025317284 | I96: 0.28365626 | J96: =A96 -> 50 | K96: =IF(N$1<>0,0,IF(K$1>26.25,0,IF(K$2<12,0,IF(K$2>48.1,0,B96*K$2^3+C96*K$2^2+D96*K$2+E96+K$1*(F96*K$2^3+G96*K$2^2+H96*K$2+I96))))) -> 0.61272555 | L96: =J96 -> 50 | M96: =IF(M97=0,0,IF(K96<0,0,IF(K96>50,50,K96))) -> 0.61272555 | O96: 63 | P96: =-10*LOG((10^(-M96/10)+10^(-M97/10)+10^(-M98/10))/3) -> 1.1219378 | S96: =$M96-2*$T96*$M96 -> -0.010568399 | T96: 0.50862409 | U96: =$M96+2*$T96*$M96 -> 1.2360195
A97: 63 | B97: 0.00036032451 | C97: -0.03637635 | D97: 1.0926146 | E97: -8.3125828 | F97: -1.2918807e-05 | G97: 0.0013716852 | H97: -0.045655551 | I97: 0.51110589 | J97: =A97 -> 63 | K97: =IF(N$1<>0,0,IF(K$1>26.25,0,IF(K$2<12,0,IF(K$2>48.1,0,B97*K$2^3+C97*K$2^2+D97*K$2+E97+K$1*(F97*K$2^3+G97*K$2^2+H97*K$2+I97))))) -> 1.3261461 | L97: =J97 -> 63 | M97: =IF(M98=0,0,IF(K97<0,0,IF(K97>50,50,K97))) -> 1.3261461 | O97: 125 | P97: =-10*LOG((10^(-M99/10)+10^(-M100/10)+10^(-M101/10))/3) -> 3.4792448 | S97: =$M97-2*$T97*$M97 -> -0.45021357 | T97: 0.66974509 | U97: =$M97+2*$T97*$M97 -> 3.1025057
A98: 80 | B98: 7.1001052e-05 | C98: -0.0027481357 | D98: -0.077676102 | E98: 2.765122 | F98: -9.0509803e-06 | G98: 0.00092264199 | H98: -0.0334559 | I98: 0.54808511 | J98: =A98 -> 80 | K98: =IF(N$1<>0,0,IF(K$1>26.25,0,IF(K$2<12,0,IF(K$2>48.1,0,B98*K$2^3+C98*K$2^2+D98*K$2+E98+K$1*(F98*K$2^3+G98*K$2^2+H98*K$2+I98))))) -> 1.4768366 | L98: =J98 -> 80 | M98: =IF(M99=0,0,IF(K98<0,0,IF(K98>50,50,K98))) -> 1.4768366 | O98: 250 | P98: =-10*LOG((10^(-M102/10)+10^(-M103/10)+10^(-M104/10))/3) -> 10.126663 | S98: =$M98-2*$T98*$M98 -> 0.64200833 | T98: 0.2826407 | U98: =$M98+2*$T98*$M98 -> 2.3116649
A99: 100 | B99: 0.00010794736 | C99: -0.0087172801 | D99: 0.18470122 | E99: -0.33164047 | F99: -1.7712633e-05 | G99: 0.0019349019 | H99: -0.071425486 | I99: 1.0550806 | J99: =A99 -> 100 | K99: =IF(N$1<>0,0,IF(K$1>26.25,0,IF(K$2<12,0,IF(K$2>48.1,0,B99*K$2^3+C99*K$2^2+D99*K$2+E99+K$1*(F99*K$2^3+G99*K$2^2+H99*K$2+I99))))) -> 2.531332 | L99: =J99 -> 100 | M99: =IF(M100=0,0,IF(K99<0,0,IF(K99>50,50,K99))) -> 2.531332 | O99: 500 | P99: =-10*LOG((10^(-M105/10)+10^(-M106/10)+10^(-M107/10))/3) -> 33.382025 | S99: =$M99-2*$T99*$M99 -> 1.6814181 | T99: 0.16787879 | U99: =$M99+2*$T99*$M99 -> 3.3812459
A100: 125 | B100: 2.406524e-05 | C100: 0.0013932491 | D100: -0.2034073 | E100: 4.1277258 | F100: -1.270903e-05 | G100: 0.0014973267 | H100: -0.062294871 | I100: 1.1265725 | J100: =A100 -> 125 | K100: =IF(N$1<>0,0,IF(K$1>26.25,0,IF(K$2<12,0,IF(K$2>48.1,0,B100*K$2^3+C100*K$2^2+D100*K$2+E100+K$1*(F100*K$2^3+G100*K$2^2+H100*K$2+I100))))) -> 3.2066028 | L100: =J100 -> 125 | M100: =IF(M101=0,0,IF(K100<0,0,IF(K100>50,50,K100))) -> 3.2066028 | O100: 1000 | P100: =-10*LOG((10^(-M108/10)+10^(-M109/10)+10^(-M110/10))/3) -> 21.442743 | S100: =$M100-2*$T100*$M100 -> 2.4864594 | T100: 0.11229072 | U100: =$M100+2*$T100*$M100 -> 3.9267463
A101: 160 | B101: 4.0455805e-05 | C101: -0.0013818581 | D101: -0.04937396 | E101: 1.6145314 | F101: -1.9743566e-05 | G101: 0.0023112728 | H101: -0.096885823 | I101: 1.7568984 | J101: =A101 -> 160 | K101: =IF(N$1<>0,0,IF(K$1>26.25,0,IF(K$2<12,0,IF(K$2>48.1,0,B101*K$2^3+C101*K$2^2+D101*K$2+E101+K$1*(F101*K$2^3+G101*K$2^2+H101*K$2+I101))))) -> 5.0826243 | L101: =J101 -> 160 | M101: =IF(K101<0,0,IF(K101>50,50,K101)) -> 5.0826243 | O101: 2000 | P101: =-10*LOG((10^(-M111/10)+10^(-M112/10)+10^(-M113/10))/3) -> 10.876365 | S101: =$M101-2*$T101*$M101 -> 4.5321785 | T101: 0.054149758 | U101: =$M101+2*$T101*$M101 -> 5.63307
A102: 200 | B102: -7.2299586e-05 | C102: 0.0085794436 | D102: -0.32150377 | E102: 3.9515451 | F102: -1.8894537e-05 | G102: 0.0025345395 | H102: -0.1194832 | I102: 2.3723041 | J102: =A102 -> 200 | K102: =IF(N$1<>0,0,IF(K$1>26.25,0,IF(K$2<12,0,IF(K$2>48.1,0,B102*K$2^3+C102*K$2^2+D102*K$2+E102+K$1*(F102*K$2^3+G102*K$2^2+H102*K$2+I102))))) -> 7.235089 | L102: =J102 -> 200 | M102: =IF(K102<0,0,IF(K102>50,50,K102)) -> 7.235089 | O102: 4000 | P102: =-10*LOG((10^(-M114/10)+10^(-M115/10)+10^(-M116/10))/3) -> 10.965333 | S102: =$M102-2*$T102*$M102 -> 6.8713125 | T102: 0.025139744 | U102: =$M102+2*$T102*$M102 -> 7.5988656
A103: 250 | B103: 2.0118497e-05 | C103: -0.00074435423 | D103: -0.039826507 | E103: 1.6891953 | F103: -3.2133371e-05 | G103: 0.0042396868 | H103: -0.18692865 | I103: 3.4133147 | J103: =A103 -> 250 | K103: =IF(N$1<>0,0,IF(K$1>26.25,0,IF(K$2<12,0,IF(K$2>48.1,0,B103*K$2^3+C103*K$2^2+D103*K$2+E103+K$1*(F103*K$2^3+G103*K$2^2+H103*K$2+I103))))) -> 10.41895 | L103: =J103 -> 250 | M103: =IF(K103<0,0,IF(K103>50,50,K103)) -> 10.41895 | O103: 8000 | P103: =-10*LOG((10^(-M117/10)+10^(-M118/10)+10^(-M119/10))/3) -> 10.2594 | S103: =$M103-2*$T103*$M103 -> 9.7188856 | T103: 0.033595737 | U103: =$M103+2*$T103*$M103 -> 11.119015
A104: 315 | B104: 0.00014154991 | C104: -0.011146131 | D104: 0.24690834 | E104: -1.0369982 | F104: -7.4858672e-05 | G104: 0.0083854338 | H104: -0.31295254 | I104: 5.1820375 | J104: =A104 -> 315 | K104: =IF(N$1<>0,0,IF(K$1>26.25,0,IF(K$2<12,0,IF(K$2>48.1,0,B104*K$2^3+C104*K$2^2+D104*K$2+E104+K$1*(F104*K$2^3+G104*K$2^2+H104*K$2+I104))))) -> 19.370399 | L104: =J104 -> 315 | M104: =IF(K104<0,0,IF(K104>50,50,K104)) -> 19.370399 | S104: =$M104-2*$T104*$M104 -> 18.597347 | T104: 0.019954456 | U104: =$M104+2*$T104*$M104 -> 20.14345
A105: 400 | B105: 0.00065535866 | C105: -0.056012261 | D105: 1.3375642 | E105: 2.120481 | F105: -3.5524931e-05 | G105: 0.0038618006 | H105: -0.14444814 | I105: 3.3261813 | J105: =A105 -> 400 | K105: =IF(N$1<>0,0,IF(K$1>26.25,0,IF(K$2<12,0,IF(K$2>48.1,0,B105*K$2^3+C105*K$2^2+D105*K$2+E105+K$1*(F105*K$2^3+G105*K$2^2+H105*K$2+I105))))) -> 30.359677 | L105: =J105 -> 400 | M105: =IF(K105<0,0,IF(K105>50,50,K105)) -> 30.359677 | S105: =$M105-2*$T105*$M105 -> 24.397461 | T105: 0.098193009 | U105: =$M105+2*$T105*$M105 -> 36.321893
A106: 500 | B106: 0.00062247148 | C106: -0.052520975 | D106: 1.2376098 | E106: 8.6697096 | F106: -1.6623459e-05 | G106: 0.0021046947 | H106: -0.091814377 | I106: 2.6697474 | J106: =A106 -> 500 | K106: =IF(N$1<>0,0,IF(K$1>26.25,0,IF(K$2<12,0,IF(K$2>48.1,0,B106*K$2^3+C106*K$2^2+D106*K$2+E106+K$1*(F106*K$2^3+G106*K$2^2+H106*K$2+I106))))) -> 33.946462 | L106: =J106 -> 500 | M106: =IF(K106<0,0,IF(K106>50,50,K106)) -> 33.946462 | S106: =$M106-2*$T106*$M106 -> 24.437731 | T106: 0.14005482 | U106: =$M106+2*$T106*$M106 -> 43.455194
A107: 630 | B107: -0.00057779287 | C107: 0.027702316 | D107: -0.0886305 | E107: 15.88361 | F107: -0.00012485839 | G107: 0.013630431 | H107: -0.4941642 | I107: 7.3561255 | J107: =A107 -> 630 | K107: =IF(N$1<>0,0,IF(K$1>26.25,0,IF(K$2<12,0,IF(K$2>48.1,0,B107*K$2^3+C107*K$2^2+D107*K$2+E107+K$1*(F107*K$2^3+G107*K$2^2+H107*K$2+I107))))) -> 42.725513 | L107: =J107 -> 630 | M107: =IF(K107<0,0,IF(K107>50,50,K107)) -> 42.725513 | S107: =$M107-2*$T107*$M107 -> 32.846882 | T107: 0.11560577 | U107: =$M107+2*$T107*$M107 -> 52.604144
A108: 800 | B108: 0.0012737507 | C108: -0.10575441 | D108: 1.9175655 | E108: 22.028579 | F108: 4.6141735e-05 | G108: -0.006036965 | H108: 0.20451752 | I108: -0.4172839 | J108: =A108 -> 800 | K108: =IF(N$1<>0,0,IF(K$1>26.25,0,IF(K$2<12,0,IF(K$2>48.1,0,B108*K$2^3+C108*K$2^2+D108*K$2+E108+K$1*(F108*K$2^3+G108*K$2^2+H108*K$2+I108))))) -> 32.544771 | L108: =J108 -> 800 | M108: =IF(K108<0,0,IF(K108>50,50,K108)) -> 32.544771 | S108: =$M108-2*$T108*$M108 -> 26.518733 | T108: 0.092580749 | U108: =$M108+2*$T108*$M108 -> 38.57081
A109: 1000 | B109: -0.0010980526 | C109: 0.13752197 | D109: -5.6622955 | E109: 86.0461 | F109: 0.00027331617 | G109: -0.027693037 | H109: 0.81486519 | I109: -5.2299577 | J109: =A109 -> 1000 | K109: =IF(N$1<>0,0,IF(K$1>26.25,0,IF(K$2<12,0,IF(K$2>48.1,0,B109*K$2^3+C109*K$2^2+D109*K$2+E109+K$1*(F109*K$2^3+G109*K$2^2+H109*K$2+I109))))) -> 23.703978 | L109: =J109 -> 1000 | M109: =IF(K109<0,0,IF(K109>50,50,K109)) -> 23.703978 | S109: =$M109-2*$T109*$M109 -> 19.251433 | T109: 0.093919799 | U109: =$M109+2*$T109*$M109 -> 28.156524
A110: 1250 | B110: -0.0026454498 | C110: 0.2890148 | D110: -10.302567 | E110: 127.12094 | F110: 0.00017442536 | G110: -0.017473647 | H110: 0.50643309 | I110: -3.0299495 | J110: =A110 -> 1250 | K110: =IF(N$1<>0,0,IF(K$1>26.25,0,IF(K$2<12,0,IF(K$2>48.1,0,B110*K$2^3+C110*K$2^2+D110*K$2+E110+K$1*(F110*K$2^3+G110*K$2^2+H110*K$2+I110))))) -> 17.772375 | L110: =J110 -> 1250 | M110: =IF(K110<0,0,IF(K110>50,50,K110)) -> 17.772375 | S110: =$M110-2*$T110*$M110 -> 15.384484 | T110: 0.067179854 | U110: =$M110+2*$T110*$M110 -> 20.160266
A111: 1600 | B111: -0.0017763476 | C111: 0.19149341 | D111: -6.7961947 | E111: 86.255208 | F111: 3.286681e-05 | G111: -0.0019445461 | H111: -0.024481057 | I111: 2.2610705 | J111: =A111 -> 1600 | K111: =IF(N$1<>0,0,IF(K$1>26.25,0,IF(K$2<12,0,IF(K$2>48.1,0,B111*K$2^3+C111*K$2^2+D111*K$2+E111+K$1*(F111*K$2^3+G111*K$2^2+H111*K$2+I111))))) -> 12.786201 | L111: =J111 -> 1600 | M111: =IF(K111<0,0,IF(K111>50,50,K111)) -> 12.786201 | S111: =$M111-2*$T111*$M111 -> 10.841987 | T111: 0.076027848 | U111: =$M111+2*$T111*$M111 -> 14.730416
A112: 2000 | B112: -0.00024767733 | C112: 0.020925695 | D112: -0.79181164 | E112: 19.766166 | F112: -0.00017035109 | G112: 0.020270733 | H112: -0.78472484 | I112: 10.147667 | J112: =A112 -> 2000 | K112: =IF(N$1<>0,0,IF(K$1>26.25,0,IF(K$2<12,0,IF(K$2>48.1,0,B112*K$2^3+C112*K$2^2+D112*K$2+E112+K$1*(F112*K$2^3+G112*K$2^2+H112*K$2+I112))))) -> 10.133144 | L112: =J112 -> 2000 | M112: =IF(K112<0,0,IF(K112>50,50,K112)) -> 10.133144 | S112: =$M112-2*$T112*$M112 -> 6.8755384 | T112: 0.16074013 | U112: =$M112+2*$T112*$M112 -> 13.39075
A113: 2500 | B113: -0.00085723402 | C113: 0.085995795 | D113: -2.9397317 | E113: 41.962381 | F113: -4.0669763e-05 | G113: 0.0056397629 | H113: -0.2505968 | I113: 3.7838508 | J113: =A113 -> 2500 | K113: =IF(N$1<>0,0,IF(K$1>26.25,0,IF(K$2<12,0,IF(K$2>48.1,0,B113*K$2^3+C113*K$2^2+D113*K$2+E113+K$1*(F113*K$2^3+G113*K$2^2+H113*K$2+I113))))) -> 10.197633 | L113: =J113 -> 2500 | M113: =IF(K113<0,0,IF(K113>50,50,K113)) -> 10.197633 | S113: =$M113-2*$T113*$M113 -> 7.6345421 | T113: 0.12567086 | U113: =$M113+2*$T113*$M113 -> 12.760723
A114: 3150 | B114: -1.0587076e-06 | C114: -0.0022230015 | D114: -0.12309293 | E114: 14.228225 | F114: -6.3133328e-05 | G114: 0.007807211 | H114: -0.31535191 | I114: 4.4381006 | J114: =A114 -> 3150 | K114: =IF(N$1<>0,0,IF(K$1>26.25,0,IF(K$2<12,0,IF(K$2>48.1,0,B114*K$2^3+C114*K$2^2+D114*K$2+E114+K$1*(F114*K$2^3+G114*K$2^2+H114*K$2+I114))))) -> 10.736904 | L114: =J114 -> 3150 | M114: =IF(K114<0,0,IF(K114>50,50,K114)) -> 10.736904 | S114: =$M114-2*$T114*$M114 -> 8.6996545 | T114: 0.094871364 | U114: =$M114+2*$T114*$M114 -> 12.774153
A115: 4000 | B115: 0.00032091987 | C115: -0.040944831 | D115: 1.2494257 | E115: 1.8258977 | F115: -5.8647385e-05 | G115: 0.0072744752 | H115: -0.28473559 | I115: 3.6994101 | J115: =A115 -> 4000 | K115: =IF(N$1<>0,0,IF(K$1>26.25,0,IF(K$2<12,0,IF(K$2>48.1,0,B115*K$2^3+C115*K$2^2+D115*K$2+E115+K$1*(F115*K$2^3+G115*K$2^2+H115*K$2+I115))))) -> 10.819504 | L115: =J115 -> 4000 | M115: =IF(K115<0,0,IF(K115>50,50,K115)) -> 10.819504 | S115: =$M115-2*$T115*$M115 -> 7.8663427 | T115: 0.13647396 | U115: =$M115+2*$T115*$M115 -> 13.772665
... A119: 10000 | B119: 0.0016913832 | C119: -0.16215332 | D119: 4.3143963 | E119: -18.155912 | F119: -5.446511e-05 | G119: 0.005438704 | H119: -0.15975446 | I119: 1.5069951 | J119: =A119 -> 10000 | K119: =IF(N$1<>0,0,IF(K$1>26.25,0,IF(K$2<12,0,IF(K$2>48.1,0,B119*K$2^3+C119*K$2^2+D119*K$2+E119+K$1*(F119*K$2^3+G119*K$2^2+H119*K$2+I119))))) -> 9.8738876 | L119: =J119 -> 10000 | M119: =IF(K119<0,0,IF(K119>50,50,K119)) -> 9.8738876 | S119: =$M119-2*$T119*$M119 -> 7.7536973 | T119: 0.1073635 | U119: =$M119+2*$T119*$M119 -> 11.994078
