Workbook

Sheet READ ME
B4: When you choose the SELECT tab (below), you can:
B5: Use the drop-down boxes: IP/SI and ROUND/RECT ®
B6: Enter length and cross-section of duct ®
A8: Take note of the size ranges permitted for acceptable data.
A10: Graphs and tables will populate upon parameter entry.
A11: Note: dotted lines on the curve are regression 2-sigmas.
A13: You can print the page.
A15: You can copy the page to paste into another file.
A17: You can select just table items, for example to paste values
A18: into a separate spreadsheet.
A20: Check ASHRAE ON-LINE for Updates to this spreadsheet.

Sheet SELECT
E2: Duct Liner Attenuation Calculator
E3: based on RP-1408
E4: Rev1 Apr 16, 2018
E5: Click to ASHRAE ONLINE for updates
B8: CHOOSE IP / SI => | D8: IP
B9: CHOOSE RECT / ROUND => | D9: RECT
B10: =IF(D$8="IP","INPUT Length (ft) =>","INPUT Length (m) =>") -> INPUT Length (ft) => | D10: 15 | E10: =IF($D$8="IP","3 <=L=< 26 ft","1 <=L=< 8 m") -> 3 <=L=< 26 ft | F10: =IF(D10="","",IF($G$10<3,"TOO SHORT",IF($G$10>26.25,"TOO LONG",""))) | G10: =IF(D$8="IP",D10,D10*3.28) -> 15
B11: =IF(D$8="IP",IF(D9="RECT","INPUT Width ID (in) =>","INPUT Dia. ID (in) =>"),IF(D9="RECT","INPUT Width ID (mm) =>","INPUT Dia. ID (mm) =>")) -> INPUT Width ID (in) => | D11: 36 | E11: =IF(D9="round",IF(D8="IP","12 <=D=< 48 in","305 <=D=< 1220 mm"),IF($D$8="IP","12 <=W=< 48 in","305 <=W=< 1220 mm")) -> 12 <=W=< 48 in | F11: =IF(D11="","",IF($G$11<12,"TOO SMALL",IF($G$11>48.5,"TOO LARGE",""))) | G11: =IF(D$8="IP",D11,D11/25.4) -> 36
B12: =IF(D$8="IP",IF(D9="RECT","INPUT Height ID (in) =>",""),IF(D9="RECT","INPUT Height ID (mm) =>","")) -> INPUT Height ID (in) => | D12: 36 | E12: =IF(D9="round","",IF(D8="IP","12 <=H=< 48 in","305 <=H=< 1220 mm")) -> 12 <=H=< 48 in | F12: =IF(D12="","",IF(D9="ROUND",IF(D12="","","NOT USED"),IF($G$12<12,"TOO SMALL",IF($G$12>48,"TOO HIGH","")))) | G12: =IF(D$8="IP",D12,D12/25.4) -> 36
C13: =IF($D$9="RECT","Perimeter","") -> Perimeter | D13: =IF(C13="","",IF(D9="round","",IF(D12="","",F13))) -> 144 | F13: =IF(D9="round",3.1416*G11,G11+G12+G11+G12) -> 144
C14: =IF($D$9="RECT","Area","") -> Area | D14: =IF(D12="","",IF(D9="round","",F14)) -> 1296 | F14: =IF(D9="round",3.1416*(G11/2)^2,IF(G12<12,"",G11*G12)) -> 1296
C15: =IF($D$9="RECT","P/A","") -> P/A | D15: =IF(C15="","",IF(D9="round","",F15)) -> 0.11111111 | E15: =IF(F15="","",IF(F15<0.083,"P/A too low",IF(F15>0.278,"P/A too high",""))) | F15: =IF(D9="RECT",IF(D12="","",IF(D11="","",F13/F14)),IF(D11="","",F13/F14)) -> 0.11111111
D16: =IF(F15="","",IF(F15>0.278,"Use with caution; P/A ratio not valid in some small ducts","")) | J16: =IF(D9="RECT","RECTANGULAR DUCT ",IF(D9="round","ROUND DUCT","")) -> RECTANGULAR DUCT | K16: =IF(D8="IP",IF(D9="RECT",CONCATENATE(D11,"'' width ID x ",D12,"'' height ID, ",D10," ft long"),CONCATENATE(D11,"'' diameter ID, ",D10," ft long")),IF(D9="RECT",CONCATENATE(D11," mm width ID x ",D12," mm height ID, ",D10," m long"),CONCATENATE(D11," mm diameter ID, ",D10," m long"))) -> 36'' width ID x 36'' height ID, 15 ft long
H17: Freq. (Hz) | I17: 63 | J17: 125 | K17: 250 | L17: 500 | M17: 1000 | N17: 2000 | O17: 4000 | P17: 8000
D18: Rectangular Duct 1/3-Octave Band Insertion Loss | H18: =IF(D$8="IP","1'' liner","25 mm liner") -> 1'' liner | I18: =IF($D$9="RECT",'Coeff+Calc'!N6,'Coeff+Calc'!P66) -> 0 | J18: =IF($D$9="RECT",'Coeff+Calc'!N7,'Coeff+Calc'!P67) -> 1.207634 | K18: =IF($D$9="RECT",'Coeff+Calc'!N8,'Coeff+Calc'!P68) -> 4.3533436 | L18: =IF($D$9="RECT",'Coeff+Calc'!N9,'Coeff+Calc'!P69) -> 15.94546 | M18: =IF($D$9="RECT",'Coeff+Calc'!N10,'Coeff+Calc'!P70) -> 27.092729 | N18: =IF($D$9="RECT",'Coeff+Calc'!N11,'Coeff+Calc'!P71) -> 12.505654 | O18: =IF($D$9="RECT",'Coeff+Calc'!N12,'Coeff+Calc'!P72) -> 8.9294794 | P18: =IF($D$9="RECT",'Coeff+Calc'!N13,'Coeff+Calc'!P73) -> 7.5172708
D19: =K16 -> 36'' width ID x 36'' height ID, 15 ft long | H19: =IF(D$8="IP","2'' liner","50 mm liner") -> 2'' liner | I19: =IF($D$9="RECT",'Coeff+Calc'!$N36,'Coeff+Calc'!$P96) -> 0.83820523 | J19: =IF($D$9="RECT",'Coeff+Calc'!$N37,'Coeff+Calc'!$P97) -> 3.5116316 | K19: =IF($D$9="RECT",'Coeff+Calc'!$N38,'Coeff+Calc'!$P98) -> 13.114043 | L19: =IF($D$9="RECT",'Coeff+Calc'!$N39,'Coeff+Calc'!$P99) -> 35.696535 | M19: =IF($D$9="RECT",'Coeff+Calc'!$N40,'Coeff+Calc'!$P100) -> 20.532343 | N19: =IF($D$9="RECT",'Coeff+Calc'!$N41,'Coeff+Calc'!$P101) -> 11.644241 | O19: =IF($D$9="RECT",'Coeff+Calc'!$N42,'Coeff+Calc'!$P102) -> 9.5880814 | P19: =IF($D$9="RECT",'Coeff+Calc'!$N43,'Coeff+Calc'!$P103) -> 9.0970292
C20: Frequency (Hz) | D20: =IF($D$8="IP","1'' Liner","25 mm Liner") -> 1'' Liner | E20: =IF($D$8="IP","2'' Liner","50 mm Liner") -> 2'' Liner | F20: Min | G20: Max
C21: 50 | D21: =IF($D$9="RECT",'Coeff+Calc'!$K6,'Coeff+Calc'!$M66) -> 0 | E21: =IF($D$9="RECT",'Coeff+Calc'!$K36,'Coeff+Calc'!$M96) -> 1.6663476 | F21: =IF($D$9="RECT",MIN('Coeff+Calc'!$O6,'Coeff+Calc'!$O36),MIN('Coeff+Calc'!$S66,'Coeff+Calc'!$S96)) -> -4.060085 | G21: =IF($D$9="RECT",MAX('Coeff+Calc'!$Q6,'Coeff+Calc'!$Q36),MAX('Coeff+Calc'!$U66,'Coeff+Calc'!$U96)) -> 7.3927802
C22: 63 | D22: =IF($D$9="RECT",'Coeff+Calc'!$K7,'Coeff+Calc'!$M67) -> 0 | E22: =IF($D$9="RECT",'Coeff+Calc'!$K37,'Coeff+Calc'!$M97) -> 0.7226535 | F22: =IF($D$9="RECT",MIN('Coeff+Calc'!$O7,'Coeff+Calc'!$O37),MIN('Coeff+Calc'!$S67,'Coeff+Calc'!$S97)) -> -5.8187823 | G22: =IF($D$9="RECT",MAX('Coeff+Calc'!$Q7,'Coeff+Calc'!$Q37),MAX('Coeff+Calc'!$U67,'Coeff+Calc'!$U97)) -> 7.2640893
C23: 80 | D23: =IF($D$9="RECT",'Coeff+Calc'!$K8,'Coeff+Calc'!$M68) -> 0 | E23: =IF($D$9="RECT",'Coeff+Calc'!$K38,'Coeff+Calc'!$M98) -> 0.24391632 | F23: =IF($D$9="RECT",MIN('Coeff+Calc'!$O8,'Coeff+Calc'!$O38),MIN('Coeff+Calc'!$S68,'Coeff+Calc'!$S98)) -> -0.17115986 | G23: =IF($D$9="RECT",MAX('Coeff+Calc'!$Q8,'Coeff+Calc'!$Q38),MAX('Coeff+Calc'!$U68,'Coeff+Calc'!$U98)) -> 0.6589925
C24: 100 | D24: =IF($D$9="RECT",'Coeff+Calc'!$K9,'Coeff+Calc'!$M69) -> 0.67663948 | E24: =IF($D$9="RECT",'Coeff+Calc'!$K39,'Coeff+Calc'!$M99) -> 2.1300739 | F24: =IF($D$9="RECT",MIN('Coeff+Calc'!$O9,'Coeff+Calc'!$O39),MIN('Coeff+Calc'!$S69,'Coeff+Calc'!$S99)) -> -5.3971619 | G24: =IF($D$9="RECT",MAX('Coeff+Calc'!$Q9,'Coeff+Calc'!$Q39),MAX('Coeff+Calc'!$U69,'Coeff+Calc'!$U99)) -> 6.7504409
C25: 125 | D25: =IF($D$9="RECT",'Coeff+Calc'!$K10,'Coeff+Calc'!$M70) -> 1.6682336 | E25: =IF($D$9="RECT",'Coeff+Calc'!$K40,'Coeff+Calc'!$M100) -> 3.9910733 | F25: =IF($D$9="RECT",MIN('Coeff+Calc'!$O10,'Coeff+Calc'!$O40),MIN('Coeff+Calc'!$S70,'Coeff+Calc'!$S100)) -> 0.091463307 | G25: =IF($D$9="RECT",MAX('Coeff+Calc'!$Q10,'Coeff+Calc'!$Q40),MAX('Coeff+Calc'!$U70,'Coeff+Calc'!$U100)) -> 5.5386577
C26: 160 | D26: =IF($D$9="RECT",'Coeff+Calc'!$K11,'Coeff+Calc'!$M71) -> 1.3373567 | E26: =IF($D$9="RECT",'Coeff+Calc'!$K41,'Coeff+Calc'!$M101) -> 4.878491 | F26: =IF($D$9="RECT",MIN('Coeff+Calc'!$O11,'Coeff+Calc'!$O41),MIN('Coeff+Calc'!$S71,'Coeff+Calc'!$S101)) -> 0.96693664 | G26: =IF($D$9="RECT",MAX('Coeff+Calc'!$Q11,'Coeff+Calc'!$Q41),MAX('Coeff+Calc'!$U71,'Coeff+Calc'!$U101)) -> 6.7111256
C27: 200 | D27: =IF($D$9="RECT",'Coeff+Calc'!$K12,'Coeff+Calc'!$M72) -> 2.688106 | E27: =IF($D$9="RECT",'Coeff+Calc'!$K42,'Coeff+Calc'!$M102) -> 9.8163908 | F27: =IF($D$9="RECT",MIN('Coeff+Calc'!$O12,'Coeff+Calc'!$O42),MIN('Coeff+Calc'!$S72,'Coeff+Calc'!$S102)) -> 2.3934577 | G27: =IF($D$9="RECT",MAX('Coeff+Calc'!$Q12,'Coeff+Calc'!$Q42),MAX('Coeff+Calc'!$U72,'Coeff+Calc'!$U102)) -> 12.695779
C28: 250 | D28: =IF($D$9="RECT",'Coeff+Calc'!$K13,'Coeff+Calc'!$M73) -> 4.4119521 | E28: =IF($D$9="RECT",'Coeff+Calc'!$K43,'Coeff+Calc'!$M103) -> 14.509322 | F28: =IF($D$9="RECT",MIN('Coeff+Calc'!$O13,'Coeff+Calc'!$O43),MIN('Coeff+Calc'!$S73,'Coeff+Calc'!$S103)) -> 4.0058338 | G28: =IF($D$9="RECT",MAX('Coeff+Calc'!$Q13,'Coeff+Calc'!$Q43),MAX('Coeff+Calc'!$U73,'Coeff+Calc'!$U103)) -> 18.923606
C29: 315 | D29: =IF($D$9="RECT",'Coeff+Calc'!$K14,'Coeff+Calc'!$M74) -> 6.9807165 | E29: =IF($D$9="RECT",'Coeff+Calc'!$K44,'Coeff+Calc'!$M104) -> 21.716219 | F29: =IF($D$9="RECT",MIN('Coeff+Calc'!$O14,'Coeff+Calc'!$O44),MIN('Coeff+Calc'!$S74,'Coeff+Calc'!$S104)) -> 5.8727932 | G29: =IF($D$9="RECT",MAX('Coeff+Calc'!$Q14,'Coeff+Calc'!$Q44),MAX('Coeff+Calc'!$U74,'Coeff+Calc'!$U104)) -> 27.362361
C30: 400 | D30: =IF($D$9="RECT",'Coeff+Calc'!$K15,'Coeff+Calc'!$M75) -> 12.04814 | E30: =IF($D$9="RECT",'Coeff+Calc'!$K45,'Coeff+Calc'!$M105) -> 32.178954 | F30: =IF($D$9="RECT",MIN('Coeff+Calc'!$O15,'Coeff+Calc'!$O45),MIN('Coeff+Calc'!$S75,'Coeff+Calc'!$S105)) -> 11.023115 | G30: =IF($D$9="RECT",MAX('Coeff+Calc'!$Q15,'Coeff+Calc'!$Q45),MAX('Coeff+Calc'!$U75,'Coeff+Calc'!$U105)) -> 35.335669
C31: 500 | D31: =IF($D$9="RECT",'Coeff+Calc'!$K16,'Coeff+Calc'!$M76) -> 19.048132 | E31: =IF($D$9="RECT",'Coeff+Calc'!$K46,'Coeff+Calc'!$M106) -> 40.735219 | F31: =IF($D$9="RECT",MIN('Coeff+Calc'!$O16,'Coeff+Calc'!$O46),MIN('Coeff+Calc'!$S76,'Coeff+Calc'!$S106)) -> 15.747252 | G31: =IF($D$9="RECT",MAX('Coeff+Calc'!$Q16,'Coeff+Calc'!$Q46),MAX('Coeff+Calc'!$U76,'Coeff+Calc'!$U106)) -> 45.812004
C32: 630 | D32: =IF($D$9="RECT",'Coeff+Calc'!$K17,'Coeff+Calc'!$M77) -> 28.361809 | E32: =IF($D$9="RECT",'Coeff+Calc'!$K47,'Coeff+Calc'!$M107) -> 39.274126 | F32: =IF($D$9="RECT",MIN('Coeff+Calc'!$O17,'Coeff+Calc'!$O47),MIN('Coeff+Calc'!$S77,'Coeff+Calc'!$S107)) -> 25.687343 | G32: =IF($D$9="RECT",MAX('Coeff+Calc'!$Q17,'Coeff+Calc'!$Q47),MAX('Coeff+Calc'!$U77,'Coeff+Calc'!$U107)) -> 46.370928
... C44: 10000 | D44: =IF($D$9="RECT",'Coeff+Calc'!$K29,'Coeff+Calc'!$M89) -> 7.3374974 | E44: =IF($D$9="RECT",'Coeff+Calc'!$K59,'Coeff+Calc'!$M119) -> 8.6147893 | F44: =IF($D$9="RECT",MIN('Coeff+Calc'!$O29,'Coeff+Calc'!$O59),MIN('Coeff+Calc'!$S89,'Coeff+Calc'!$S119)) -> 2.6034744 | G44: =IF($D$9="RECT",MAX('Coeff+Calc'!$Q29,'Coeff+Calc'!$Q59),MAX('Coeff+Calc'!$U89,'Coeff+Calc'!$U119)) -> 14.626104

Sheet Coeff+Calc
I1: Raw Regression w/o Limits | J1: Length | K1: =SELECT!$G$10 -> 15 | M1: =IF(SELECT!$F$10="",0,1) -> 0 | N1: =IF((M1+M2+M3)=0,0,1) -> 0
J2: Width | K2: =SELECT!$G$11 -> 36 | M2: =IF(SELECT!$F$11="",0,1) -> 0
H3: =SELECT!F14 -> 1296 | J3: Height | K3: =SELECT!$G$12 -> 36 | M3: =IF(SELECT!$F$12="",0,1) -> 0
J4: P/A | K4: =SELECT!$F$15 -> 0.11111111
A5: Frequency | B5: a1 | C5: a2 | D5: a3 | E5: b1 | F5: b2 | G5: b3 | I5: IL = (a1*P/A^2+a2*P/A+a3) + (b1*P/A^2+b2*P/A+b3) * L | O5: m-2s | P5: s/m | Q5: m+2s
A6: 50 | B6: -15.107412 | C6: 24.627409 | D6: -1.8048131 | E6: -10.958137 | F6: 2.8118025 | G6: -0.17438927 | H6: ='Coeff+Calc'!A6 -> 50 | I6: =IF(N$1<>0,0,IF(K$1>26.25,0,IF(K$2<12,0,IF($K$3<12,0,IF($K$3>48.1,0,('Coeff+Calc'!B6*K$4^2+'Coeff+Calc'!C6*K$4+'Coeff+Calc'!D6+K$1*('Coeff+Calc'!E6*K$4^2+'Coeff+Calc'!F6*K$4+'Coeff+Calc'!G6))))))) -> 0.78626833 | J6: =H6 -> 50 | K6: =IF(K7=0,0,IF(I6<0,0,IF(I6>50,50,I6))) -> 0 | M6: 63 | N6: =-10*LOG((10^(-K6/10)+10^(-K7/10)+10^(-K8/10))/3) -> 0 | O6: =$K6-2*$P6*$K6 -> 0 | P6: 2.1547622 | Q6: =$K6+2*$P6*$K6 -> 0
A7: 63 | B7: 187.48076 | C7: -61.426489 | D7: 4.1482067 | E7: -38.231141 | F7: 12.159306 | G7: -0.81264727 | H7: ='Coeff+Calc'!A7 -> 63 | I7: =IF(N$1<>0,0,IF(K$1>26.25,0,IF(K$2<12,0,IF($K$3<12,0,IF($K$3>48.1,0,('Coeff+Calc'!B7*K$4^2+'Coeff+Calc'!C7*K$4+'Coeff+Calc'!D7+K$1*('Coeff+Calc'!E7*K$4^2+'Coeff+Calc'!F7*K$4+'Coeff+Calc'!G7))))))) -> 0.63357798 | J7: =H7 -> 63 | K7: =IF(K8=0,0,IF(I7<0,0,IF(I7>50,50,I7))) -> 0 | M7: 125 | N7: =-10*LOG((10^(-K9/10)+10^(-K10/10)+10^(-K11/10))/3) -> 1.207634 | O7: =$K7-2*$P7*$K7 -> 0 | P7: 9.1353572 | Q7: =$K7+2*$P7*$K7 -> 0
A8: 80 | B8: 53.495384 | C8: -7.8504695 | D8: 0.17344926 | E8: 21.875901 | F8: -6.4443101 | G8: 0.42039313 | H8: ='Coeff+Calc'!A8 -> 80 | I8: =IF(N$1<>0,0,IF(K$1>26.25,0,IF(K$2<12,0,IF($K$3<12,0,IF($K$3>48.1,0,('Coeff+Calc'!B8*K$4^2+'Coeff+Calc'!C8*K$4+'Coeff+Calc'!D8+K$1*('Coeff+Calc'!E8*K$4^2+'Coeff+Calc'!F8*K$4+'Coeff+Calc'!G8))))))) -> -0.42191534 | J8: =H8 -> 80 | K8: =IF(K9=0,0,IF(I8<0,0,IF(I8>50,50,I8))) -> 0 | M8: 250 | N8: =-10*LOG((10^(-K12/10)+10^(-K13/10)+10^(-K14/10))/3) -> 4.3533436 | O8: =$K8-2*$P8*$K8 -> 0 | P8: 1.6418612 | Q8: =$K8+2*$P8*$K8 -> 0
A9: 100 | B9: -26.691119 | C9: 9.0651745 | D9: -0.57075686 | E9: -7.9131954 | F9: 1.9162298 | G9: -0.07724234 | H9: ='Coeff+Calc'!A9 -> 100 | I9: =IF(N$1<>0,0,IF(K$1>26.25,0,IF(K$2<12,0,IF($K$3<12,0,IF($K$3>48.1,0,('Coeff+Calc'!B9*K$4^2+'Coeff+Calc'!C9*K$4+'Coeff+Calc'!D9+K$1*('Coeff+Calc'!E9*K$4^2+'Coeff+Calc'!F9*K$4+'Coeff+Calc'!G9))))))) -> 0.67663948 | J9: =H9 -> 100 | K9: =IF(K10=0,0,IF(I9<0,0,IF(I9>50,50,I9))) -> 0.67663948 | M9: 500 | N9: =-10*LOG((10^(-K15/10)+10^(-K16/10)+10^(-K17/10))/3) -> 15.94546 | O9: =$K9-2*$P9*$K9 -> -5.3971619 | P9: 4.4882109 | Q9: =$K9+2*$P9*$K9 -> 6.7504409
A10: 125 | B10: 36.526554 | C10: -16.752015 | D10: 1.4093401 | E10: -6.0274793 | F10: 3.2025899 | G10: -0.17014444 | H10: ='Coeff+Calc'!A10 -> 125 | I10: =IF(N$1<>0,0,IF(K$1>26.25,0,IF(K$2<12,0,IF($K$3<12,0,IF($K$3>48.1,0,('Coeff+Calc'!B10*K$4^2+'Coeff+Calc'!C10*K$4+'Coeff+Calc'!D10+K$1*('Coeff+Calc'!E10*K$4^2+'Coeff+Calc'!F10*K$4+'Coeff+Calc'!G10))))))) -> 1.6682336 | J10: =H10 -> 125 | K10: =IF(K11=0,0,IF(I10<0,0,IF(I10>50,50,I10))) -> 1.6682336 | M10: 1000 | N10: =-10*LOG((10^(-K18/10)+10^(-K19/10)+10^(-K20/10))/3) -> 27.092729 | O10: =$K10-2*$P10*$K10 -> 0.091463307 | P10: 0.47258678 | Q10: =$K10+2*$P10*$K10 -> 3.245004
A11: 160 | B11: 66.444101 | C11: -19.370421 | D11: 1.2633838 | E11: 5.6169611 | F11: -0.90649895 | G11: 0.12510653 | H11: ='Coeff+Calc'!A11 -> 160 | I11: =IF(N$1<>0,0,IF(K$1>26.25,0,IF(K$2<12,0,IF($K$3<12,0,IF($K$3>48.1,0,('Coeff+Calc'!B11*K$4^2+'Coeff+Calc'!C11*K$4+'Coeff+Calc'!D11+K$1*('Coeff+Calc'!E11*K$4^2+'Coeff+Calc'!F11*K$4+'Coeff+Calc'!G11))))))) -> 1.3373567 | J11: =H11 -> 160 | K11: =IF(I11<0,0,IF(I11>50,50,I11)) -> 1.3373567 | M11: 2000 | N11: =-10*LOG((10^(-K21/10)+10^(-K22/10)+10^(-K23/10))/3) -> 12.505654 | O11: =$K11-2*$P11*$K11 -> 0.96693664 | P11: 0.13848963 | Q11: =$K11+2*$P11*$K11 -> 1.7077768
A12: 200 | B12: 31.238332 | C12: -9.5999709 | D12: 0.6154091 | E12: 2.4715758 | F12: 0.63536697 | G12: 0.082470517 | H12: ='Coeff+Calc'!A12 -> 200 | I12: =IF(N$1<>0,0,IF(K$1>26.25,0,IF(K$2<12,0,IF($K$3<12,0,IF($K$3>48.1,0,('Coeff+Calc'!B12*K$4^2+'Coeff+Calc'!C12*K$4+'Coeff+Calc'!D12+K$1*('Coeff+Calc'!E12*K$4^2+'Coeff+Calc'!F12*K$4+'Coeff+Calc'!G12))))))) -> 2.688106 | J12: =H12 -> 200 | K12: =IF(I12<0,0,IF(I12>50,50,I12)) -> 2.688106 | M12: 4000 | N12: =-10*LOG((10^(-K24/10)+10^(-K25/10)+10^(-K26/10))/3) -> 8.9294794 | O12: =$K12-2*$P12*$K12 -> 2.3934577 | P12: 0.054805928 | Q12: =$K12+2*$P12*$K12 -> 2.9827543
A13: 250 | B13: -0.55583447 | C13: 0.092305047 | D13: 0.14599485 | E13: -5.4623777 | F13: 3.7701462 | G13: -0.067297491 | H13: ='Coeff+Calc'!A13 -> 250 | I13: =IF(N$1<>0,0,IF(K$1>26.25,0,IF(K$2<12,0,IF($K$3<12,0,IF($K$3>48.1,0,('Coeff+Calc'!B13*K$4^2+'Coeff+Calc'!C13*K$4+'Coeff+Calc'!D13+K$1*('Coeff+Calc'!E13*K$4^2+'Coeff+Calc'!F13*K$4+'Coeff+Calc'!G13))))))) -> 4.4119521 | J13: =H13 -> 250 | K13: =IF(I13<0,0,IF(I13>50,50,I13)) -> 4.4119521 | M13: 8000 | N13: =-10*LOG((10^(-K27/10)+10^(-K28/10)+10^(-K29/10))/3) -> 7.5172708 | O13: =$K13-2*$P13*$K13 -> 4.0058338 | P13: 0.046024781 | Q13: =$K13+2*$P13*$K13 -> 4.8180703
A14: 315 | B14: 5.2696799 | C14: 0.73357957 | D14: 0.37520591 | E14: -0.24238464 | F14: 1.9398413 | G14: 0.21805074 | H14: ='Coeff+Calc'!A14 -> 315 | I14: =IF(N$1<>0,0,IF(K$1>26.25,0,IF(K$2<12,0,IF($K$3<12,0,IF($K$3>48.1,0,('Coeff+Calc'!B14*K$4^2+'Coeff+Calc'!C14*K$4+'Coeff+Calc'!D14+K$1*('Coeff+Calc'!E14*K$4^2+'Coeff+Calc'!F14*K$4+'Coeff+Calc'!G14))))))) -> 6.9807165 | J14: =H14 -> 315 | K14: =IF(I14<0,0,IF(I14>50,50,I14)) -> 6.9807165 | O14: =$K14-2*$P14*$K14 -> 5.8727932 | P14: 0.079355986 | Q14: =$K14+2*$P14*$K14 -> 8.0886398
A15: 400 | B15: 49.614779 | C15: -10.904269 | D15: 1.9299851 | E15: -9.7547024 | F15: 6.3464319 | G15: 0.12975015 | H15: ='Coeff+Calc'!A15 -> 400 | I15: =IF(N$1<>0,0,IF(K$1>26.25,0,IF(K$2<12,0,IF($K$3<12,0,IF($K$3>48.1,0,('Coeff+Calc'!B15*K$4^2+'Coeff+Calc'!C15*K$4+'Coeff+Calc'!D15+K$1*('Coeff+Calc'!E15*K$4^2+'Coeff+Calc'!F15*K$4+'Coeff+Calc'!G15))))))) -> 12.04814 | J15: =H15 -> 400 | K15: =IF(I15<0,0,IF(I15>50,50,I15)) -> 12.04814 | O15: =$K15-2*$P15*$K15 -> 11.023115 | P15: 0.042538743 | Q15: =$K15+2*$P15*$K15 -> 13.073166
A16: 500 | B16: -35.331579 | C16: 19.346342 | D16: 0.85234354 | E16: -8.0894511 | F16: 7.3768674 | G16: 0.37904365 | H16: ='Coeff+Calc'!A16 -> 500 | I16: =IF(N$1<>0,0,IF(K$1>26.25,0,IF(K$2<12,0,IF($K$3<12,0,IF($K$3>48.1,0,('Coeff+Calc'!B16*K$4^2+'Coeff+Calc'!C16*K$4+'Coeff+Calc'!D16+K$1*('Coeff+Calc'!E16*K$4^2+'Coeff+Calc'!F16*K$4+'Coeff+Calc'!G16))))))) -> 19.048132 | J16: =H16 -> 500 | K16: =IF(I16<0,0,IF(I16>50,50,I16)) -> 19.048132 | O16: =$K16-2*$P16*$K16 -> 15.747252 | P16: 0.086645774 | Q16: =$K16+2*$P16*$K16 -> 22.349012
A17: 630 | B17: 315.06032 | C17: -72.600359 | D17: 6.4114706 | E17: -50.343821 | F17: 21.816839 | G17: -0.060737225 | H17: ='Coeff+Calc'!A17 -> 630 | I17: =IF(N$1<>0,0,IF(K$1>26.25,0,IF(K$2<12,0,IF($K$3<12,0,IF($K$3>48.1,0,('Coeff+Calc'!B17*K$4^2+'Coeff+Calc'!C17*K$4+'Coeff+Calc'!D17+K$1*('Coeff+Calc'!E17*K$4^2+'Coeff+Calc'!F17*K$4+'Coeff+Calc'!G17))))))) -> 28.361809 | J17: =H17 -> 630 | K17: =IF(I17<0,0,IF(I17>50,50,I17)) -> 28.361809 | O17: =$K17-2*$P17*$K17 -> 25.687343 | P17: 0.047149064 | Q17: =$K17+2*$P17*$K17 -> 31.036274
A18: 800 | B18: 466.50942 | C18: -140.84894 | D18: 13.388383 | E18: -103.73988 | F18: 45.459375 | G18: -1.8652456 | H18: ='Coeff+Calc'!A18 -> 800 | I18: =IF(N$1<>0,0,IF(K$1>26.25,0,IF(K$2<12,0,IF($K$3<12,0,IF($K$3>48.1,0,('Coeff+Calc'!B18*K$4^2+'Coeff+Calc'!C18*K$4+'Coeff+Calc'!D18+K$1*('Coeff+Calc'!E18*K$4^2+'Coeff+Calc'!F18*K$4+'Coeff+Calc'!G18))))))) -> 32.073728 | J18: =H18 -> 800 | K18: =IF(I18<0,0,IF(I18>50,50,I18)) -> 32.073728 | O18: =$K18-2*$P18*$K18 -> 26.983002 | P18: 0.079359754 | Q18: =$K18+2*$P18*$K18 -> 37.164454
A19: 1000 | B19: 138.98563 | C19: -28.912855 | D19: 7.2223189 | E19: -98.377408 | F19: 55.817392 | G19: -3.4497297 | H19: ='Coeff+Calc'!A19 -> 1000 | I19: =IF(N$1<>0,0,IF(K$1>26.25,0,IF(K$2<12,0,IF($K$3<12,0,IF($K$3>48.1,0,('Coeff+Calc'!B19*K$4^2+'Coeff+Calc'!C19*K$4+'Coeff+Calc'!D19+K$1*('Coeff+Calc'!E19*K$4^2+'Coeff+Calc'!F19*K$4+'Coeff+Calc'!G19))))))) -> 28.790654 | J19: =H19 -> 1000 | K19: =IF(I19<0,0,IF(I19>50,50,I19)) -> 28.790654 | O19: =$K19-2*$P19*$K19 -> 24.348354 | P19: 0.077148294 | Q19: =$K19+2*$P19*$K19 -> 33.232954
A20: 1250 | B20: 181.76169 | C20: -28.140475 | D20: 7.2381415 | E20: -33.717179 | F20: 35.709132 | G20: -2.3704819 | H20: ='Coeff+Calc'!A20 -> 1250 | I20: =IF(N$1<>0,0,IF(K$1>26.25,0,IF(K$2<12,0,IF($K$3<12,0,IF($K$3>48.1,0,('Coeff+Calc'!B20*K$4^2+'Coeff+Calc'!C20*K$4+'Coeff+Calc'!D20+K$1*('Coeff+Calc'!E20*K$4^2+'Coeff+Calc'!F20*K$4+'Coeff+Calc'!G20))))))) -> 24.069464 | J20: =H20 -> 1250 | K20: =IF(I20<0,0,IF(I20>50,50,I20)) -> 24.069464 | O20: =$K20-2*$P20*$K20 -> 18.512054 | P20: 0.11544524 | Q20: =$K20+2*$P20*$K20 -> 29.626874
A21: 1600 | B21: -177.4592 | C21: 92.467152 | D21: -1.698278 | E21: 102.26193 | F21: -11.916574 | G21: 0.71119978 | H21: ='Coeff+Calc'!A21 -> 1600 | I21: =IF(N$1<>0,0,IF(K$1>26.25,0,IF(K$2<12,0,IF($K$3<12,0,IF($K$3>48.1,0,('Coeff+Calc'!B21*K$4^2+'Coeff+Calc'!C21*K$4+'Coeff+Calc'!D21+K$1*('Coeff+Calc'!E21*K$4^2+'Coeff+Calc'!F21*K$4+'Coeff+Calc'!G21))))))) -> 16.129429 | J21: =H21 -> 1600 | K21: =IF(I21<0,0,IF(I21>50,50,I21)) -> 16.129429 | O21: =$K21-2*$P21*$K21 -> 12.092006 | P21: 0.12515702 | Q21: =$K21+2*$P21*$K21 -> 20.166852
A22: 2000 | B22: 46.497216 | C22: 32.474242 | D22: 0.96266349 | E22: 30.532052 | F22: 0.51881769 | G22: 0.063087103 | H22: ='Coeff+Calc'!A22 -> 2000 | I22: =IF(N$1<>0,0,IF(K$1>26.25,0,IF(K$2<12,0,IF($K$3<12,0,IF($K$3>48.1,0,('Coeff+Calc'!B22*K$4^2+'Coeff+Calc'!C22*K$4+'Coeff+Calc'!D22+K$1*('Coeff+Calc'!E22*K$4^2+'Coeff+Calc'!F22*K$4+'Coeff+Calc'!G22))))))) -> 12.610039 | J22: =H22 -> 2000 | K22: =IF(I22<0,0,IF(I22>50,50,I22)) -> 12.610039 | O22: =$K22-2*$P22*$K22 -> 9.6743855 | P22: 0.11640144 | Q22: =$K22+2*$P22*$K22 -> 15.545692
A23: 2500 | B23: -141.8575 | C23: 75.128217 | D23: -1.4720166 | E23: 36.513425 | F23: -3.7369505 | G23: 0.3223334 | H23: ='Coeff+Calc'!A23 -> 2500 | I23: =IF(N$1<>0,0,IF(K$1>26.25,0,IF(K$2<12,0,IF($K$3<12,0,IF($K$3>48.1,0,('Coeff+Calc'!B23*K$4^2+'Coeff+Calc'!C23*K$4+'Coeff+Calc'!D23+K$1*('Coeff+Calc'!E23*K$4^2+'Coeff+Calc'!F23*K$4+'Coeff+Calc'!G23))))))) -> 10.492731 | J23: =H23 -> 2500 | K23: =IF(I23<0,0,IF(I23>50,50,I23)) -> 10.492731 | O23: =$K23-2*$P23*$K23 -> 7.3118747 | P23: 0.15157429 | Q23: =$K23+2*$P23*$K23 -> 13.673588
A24: 3150 | B24: -0.65380048 | C24: 40.269524 | D24: -0.22321785 | E24: 4.6775195 | F24: 3.5282035 | G24: -0.077015458 | H24: ='Coeff+Calc'!A24 -> 3150 | I24: =IF(N$1<>0,0,IF(K$1>26.25,0,IF(K$2<12,0,IF($K$3<12,0,IF($K$3>48.1,0,('Coeff+Calc'!B24*K$4^2+'Coeff+Calc'!C24*K$4+'Coeff+Calc'!D24+K$1*('Coeff+Calc'!E24*K$4^2+'Coeff+Calc'!F24*K$4+'Coeff+Calc'!G24))))))) -> 9.8344167 | J24: =H24 -> 3150 | K24: =IF(I24<0,0,IF(I24>50,50,I24)) -> 9.8344167 | O24: =$K24-2*$P24*$K24 -> 7.424877 | P24: 0.12250547 | Q24: =$K24+2*$P24*$K24 -> 12.243956
A25: 4000 | B25: 143.64216 | C25: 1.7011891 | D25: 1.1548861 | E25: -14.765329 | F25: 7.5841318 | G25: -0.27203335 | H25: ='Coeff+Calc'!A25 -> 4000 | I25: =IF(N$1<>0,0,IF(K$1>26.25,0,IF(K$2<12,0,IF($K$3<12,0,IF($K$3>48.1,0,('Coeff+Calc'!B25*K$4^2+'Coeff+Calc'!C25*K$4+'Coeff+Calc'!D25+K$1*('Coeff+Calc'!E25*K$4^2+'Coeff+Calc'!F25*K$4+'Coeff+Calc'!G25))))))) -> 8.9426663 | J25: =H25 -> 4000 | K25: =IF(I25<0,0,IF(I25>50,50,I25)) -> 8.9426663 | O25: =$K25-2*$P25*$K25 -> 5.9359833 | P25: 0.16810887 | Q25: =$K25+2*$P25*$K25 -> 11.949349
... A29: 10000 | B29: 29.699229 | C29: 29.273487 | D29: -0.91913146 | E29: -17.673395 | F29: 8.3423321 | G29: -0.39957826 | H29: ='Coeff+Calc'!A29 -> 10000 | I29: =IF(N$1<>0,0,IF(K$1>26.25,0,IF(K$2<12,0,IF($K$3<12,0,IF($K$3>48.1,0,('Coeff+Calc'!B29*K$4^2+'Coeff+Calc'!C29*K$4+'Coeff+Calc'!D29+K$1*('Coeff+Calc'!E29*K$4^2+'Coeff+Calc'!F29*K$4+'Coeff+Calc'!G29))))))) -> 7.3374974 | J29: =H29 -> 10000 | K29: =IF(I29<0,0,IF(I29>50,50,I29)) -> 7.3374974 | O29: =$K29-2*$P29*$K29 -> 3.1165531 | P29: 0.28762833 | Q29: =$K29+2*$P29*$K29 -> 11.558442
A35: Frequency | B35: a1 | C35: a2 | D35: a3 | E35: b1 | F35: b2 | G35: b3 | I35: IL = (a1*P/A^2+a2*P/A+a3) + (b1*P/A^2+b2*P/A+b3) * L | O35: m-2s | P35: s/m | Q35: m+2s
A36: 50 | B36: -165.7464 | C36: 74.469508 | D36: -4.9625696 | E36: -17.285487 | F36: 5.3367086 | G36: -0.35284792 | H36: =A36 -> 50 | I36: =IF(N$1<>0,0,IF(K$1>26.25,0,IF(K$2<12,0,IF($K$3<12,0,IF($K$3>48.1,0,('Coeff+Calc'!B36*K$4^2+'Coeff+Calc'!C36*K$4+'Coeff+Calc'!D36+K$1*('Coeff+Calc'!E36*K$4^2+'Coeff+Calc'!F36*K$4+'Coeff+Calc'!G36))))))) -> 1.6663476 | J36: =H36 -> 50 | K36: =IF(K37=0,0,IF(I36<0,0,IF(I36>50,50,I36))) -> 1.6663476 | M36: 63 | N36: =-10*LOG((10^(-K36/10)+10^(-K37/10)+10^(-K38/10))/3) -> 0.83820523 | O36: =$K36-2*$P36*$K36 -> -4.060085 | P36: 1.7182587 | Q36: =$K36+2*$P36*$K36 -> 7.3927802
A37: 63 | B37: 22.909852 | C37: -7.5573783 | D37: 0.41543003 | E37: -12.561249 | F37: 3.5847747 | G37: -0.18562486 | H37: =A37 -> 63 | I37: =IF(N$1<>0,0,IF(K$1>26.25,0,IF(K$2<12,0,IF($K$3<12,0,IF($K$3>48.1,0,('Coeff+Calc'!B37*K$4^2+'Coeff+Calc'!C37*K$4+'Coeff+Calc'!D37+K$1*('Coeff+Calc'!E37*K$4^2+'Coeff+Calc'!F37*K$4+'Coeff+Calc'!G37))))))) -> 0.7226535 | J37: =H37 -> 63 | K37: =IF(K38=0,0,IF(I37<0,0,IF(I37>50,50,I37))) -> 0.7226535 | M37: 125 | N37: =-10*LOG((10^(-K39/10)+10^(-K40/10)+10^(-K41/10))/3) -> 3.5116316 | O37: =$K37-2*$P37*$K37 -> -5.8187823 | P37: 4.5259836 | Q37: =$K37+2*$P37*$K37 -> 7.2640893
A38: 80 | B38: -102.51195 | C38: 36.096902 | D38: -2.5783288 | E38: 30.509836 | F38: -8.8163134 | G38: 0.60806294 | H38: =A38 -> 80 | I38: =IF(N$1<>0,0,IF(K$1>26.25,0,IF(K$2<12,0,IF($K$3<12,0,IF($K$3>48.1,0,('Coeff+Calc'!B38*K$4^2+'Coeff+Calc'!C38*K$4+'Coeff+Calc'!D38+K$1*('Coeff+Calc'!E38*K$4^2+'Coeff+Calc'!F38*K$4+'Coeff+Calc'!G38))))))) -> 0.24391632 | J38: =H38 -> 80 | K38: =IF(K39=0,0,IF(I38<0,0,IF(I38>50,50,I38))) -> 0.24391632 | M38: 250 | N38: =-10*LOG((10^(-K42/10)+10^(-K43/10)+10^(-K44/10))/3) -> 13.114043 | O38: =$K38-2*$P38*$K38 -> -0.17115986 | P38: 0.85085775 | Q38: =$K38+2*$P38*$K38 -> 0.6589925
A39: 100 | B39: -30.191382 | C39: 18.795929 | D39: -1.5360156 | E39: -15.565705 | F39: 4.5514687 | G39: -0.18352381 | H39: =A39 -> 100 | I39: =IF(N$1<>0,0,IF(K$1>26.25,0,IF(K$2<12,0,IF($K$3<12,0,IF($K$3>48.1,0,('Coeff+Calc'!B39*K$4^2+'Coeff+Calc'!C39*K$4+'Coeff+Calc'!D39+K$1*('Coeff+Calc'!E39*K$4^2+'Coeff+Calc'!F39*K$4+'Coeff+Calc'!G39))))))) -> 2.1300739 | J39: =H39 -> 100 | K39: =IF(K40=0,0,IF(I39<0,0,IF(I39>50,50,I39))) -> 2.1300739 | M39: 500 | N39: =-10*LOG((10^(-K45/10)+10^(-K46/10)+10^(-K47/10))/3) -> 35.696535 | O39: =$K39-2*$P39*$K39 -> 0.18520142 | P39: 0.456527 | Q39: =$K39+2*$P39*$K39 -> 4.0749464
A40: 125 | B40: 68.942307 | C40: -22.910531 | D40: 1.7946894 | E40: -2.9540015 | F40: 3.2226013 | G40: -0.062207069 | H40: =A40 -> 125 | I40: =IF(N$1<>0,0,IF(K$1>26.25,0,IF(K$2<12,0,IF($K$3<12,0,IF($K$3>48.1,0,('Coeff+Calc'!B40*K$4^2+'Coeff+Calc'!C40*K$4+'Coeff+Calc'!D40+K$1*('Coeff+Calc'!E40*K$4^2+'Coeff+Calc'!F40*K$4+'Coeff+Calc'!G40))))))) -> 3.9910733 | J40: =H40 -> 125 | K40: =IF(K41=0,0,IF(I40<0,0,IF(I40>50,50,I40))) -> 3.9910733 | M40: 1000 | N40: =-10*LOG((10^(-K48/10)+10^(-K49/10)+10^(-K50/10))/3) -> 20.532343 | O40: =$K40-2*$P40*$K40 -> 2.4434889 | P40: 0.19388073 | Q40: =$K40+2*$P40*$K40 -> 5.5386577
A41: 160 | B41: 94.417027 | C41: -23.302635 | D41: 1.5466343 | E41: 2.5204092 | F41: 1.0514031 | G41: 0.16908768 | H41: =A41 -> 160 | I41: =IF(N$1<>0,0,IF(K$1>26.25,0,IF(K$2<12,0,IF($K$3<12,0,IF($K$3>48.1,0,('Coeff+Calc'!B41*K$4^2+'Coeff+Calc'!C41*K$4+'Coeff+Calc'!D41+K$1*('Coeff+Calc'!E41*K$4^2+'Coeff+Calc'!F41*K$4+'Coeff+Calc'!G41))))))) -> 4.878491 | J41: =H41 -> 160 | K41: =IF(I41<0,0,IF(I41>50,50,I41)) -> 4.878491 | M41: 2000 | N41: =-10*LOG((10^(-K51/10)+10^(-K52/10)+10^(-K53/10))/3) -> 11.644241 | O41: =$K41-2*$P41*$K41 -> 3.0458565 | P41: 0.18782801 | Q41: =$K41+2*$P41*$K41 -> 6.7111256
A42: 200 | B42: 93.317493 | C42: -31.325638 | D42: 2.621355 | E42: -6.9890006 | F42: 5.7014358 | G42: 0.087697381 | H42: =A42 -> 200 | I42: =IF(N$1<>0,0,IF(K$1>26.25,0,IF(K$2<12,0,IF($K$3<12,0,IF($K$3>48.1,0,('Coeff+Calc'!B42*K$4^2+'Coeff+Calc'!C42*K$4+'Coeff+Calc'!D42+K$1*('Coeff+Calc'!E42*K$4^2+'Coeff+Calc'!F42*K$4+'Coeff+Calc'!G42))))))) -> 9.8163908 | J42: =H42 -> 200 | K42: =IF(I42<0,0,IF(I42>50,50,I42)) -> 9.8163908 | M42: 4000 | N42: =-10*LOG((10^(-K54/10)+10^(-K55/10)+10^(-K56/10))/3) -> 9.5880814 | O42: =$K42-2*$P42*$K42 -> 6.9370029 | P42: 0.14666225 | Q42: =$K42+2*$P42*$K42 -> 12.695779
A43: 250 | B43: 67.358004 | C43: -27.633285 | D43: 3.031132 | E43: -14.187028 | F43: 9.677815 | G43: 0.014300674 | H43: =A43 -> 250 | I43: =IF(N$1<>0,0,IF(K$1>26.25,0,IF(K$2<12,0,IF($K$3<12,0,IF($K$3>48.1,0,('Coeff+Calc'!B43*K$4^2+'Coeff+Calc'!C43*K$4+'Coeff+Calc'!D43+K$1*('Coeff+Calc'!E43*K$4^2+'Coeff+Calc'!F43*K$4+'Coeff+Calc'!G43))))))) -> 14.509322 | J43: =H43 -> 250 | K43: =IF(I43<0,0,IF(I43>50,50,I43)) -> 14.509322 | M43: 8000 | N43: =-10*LOG((10^(-K57/10)+10^(-K58/10)+10^(-K59/10))/3) -> 9.0970292 | O43: =$K43-2*$P43*$K43 -> 10.095038 | P43: 0.1521189 | Q43: =$K43+2*$P43*$K43 -> 18.923606
A44: 315 | B44: 190.61764 | C44: -65.255376 | D44: 6.9660025 | E44: -17.366709 | F44: 11.037801 | G44: 0.29781543 | H44: =A44 -> 315 | I44: =IF(N$1<>0,0,IF(K$1>26.25,0,IF(K$2<12,0,IF($K$3<12,0,IF($K$3>48.1,0,('Coeff+Calc'!B44*K$4^2+'Coeff+Calc'!C44*K$4+'Coeff+Calc'!D44+K$1*('Coeff+Calc'!E44*K$4^2+'Coeff+Calc'!F44*K$4+'Coeff+Calc'!G44))))))) -> 21.716219 | J44: =H44 -> 315 | K44: =IF(I44<0,0,IF(I44>50,50,I44)) -> 21.716219 | O44: =$K44-2*$P44*$K44 -> 16.070077 | P44: 0.12999827 | Q44: =$K44+2*$P44*$K44 -> 27.362361
A45: 400 | B45: 25.27762 | C45: -10.54316 | D45: 3.0790593 | E45: -1.8621872 | F45: 8.4536506 | G45: 1.0809813 | H45: =A45 -> 400 | I45: =IF(N$1<>0,0,IF(K$1>26.25,0,IF(K$2<12,0,IF($K$3<12,0,IF($K$3>48.1,0,('Coeff+Calc'!B45*K$4^2+'Coeff+Calc'!C45*K$4+'Coeff+Calc'!D45+K$1*('Coeff+Calc'!E45*K$4^2+'Coeff+Calc'!F45*K$4+'Coeff+Calc'!G45))))))) -> 32.178954 | J45: =H45 -> 400 | K45: =IF(I45<0,0,IF(I45>50,50,I45)) -> 32.178954 | O45: =$K45-2*$P45*$K45 -> 29.022239 | P45: 0.049049371 | Q45: =$K45+2*$P45*$K45 -> 35.335669
A46: 500 | B46: -218.59279 | C46: 121.0682 | D46: -6.0103028 | E46: -11.052532 | F46: 6.3191215 | G46: 1.8338047 | H46: =A46 -> 500 | I46: =IF(N$1<>0,0,IF(K$1>26.25,0,IF(K$2<12,0,IF($K$3<12,0,IF($K$3>48.1,0,('Coeff+Calc'!B46*K$4^2+'Coeff+Calc'!C46*K$4+'Coeff+Calc'!D46+K$1*('Coeff+Calc'!E46*K$4^2+'Coeff+Calc'!F46*K$4+'Coeff+Calc'!G46))))))) -> 40.735219 | J46: =H46 -> 500 | K46: =IF(I46<0,0,IF(I46>50,50,I46)) -> 40.735219 | O46: =$K46-2*$P46*$K46 -> 35.658433 | P46: 0.062314449 | Q46: =$K46+2*$P46*$K46 -> 45.812004
A47: 630 | B47: -339.86806 | C47: 152.40206 | D47: -4.0594695 | E47: -54.350286 | F47: 34.594595 | G47: -1.1331237 | H47: =A47 -> 630 | I47: =IF(N$1<>0,0,IF(K$1>26.25,0,IF(K$2<12,0,IF($K$3<12,0,IF($K$3>48.1,0,('Coeff+Calc'!B47*K$4^2+'Coeff+Calc'!C47*K$4+'Coeff+Calc'!D47+K$1*('Coeff+Calc'!E47*K$4^2+'Coeff+Calc'!F47*K$4+'Coeff+Calc'!G47))))))) -> 39.274126 | J47: =H47 -> 630 | K47: =IF(I47<0,0,IF(I47>50,50,I47)) -> 39.274126 | O47: =$K47-2*$P47*$K47 -> 32.177324 | P47: 0.090349591 | Q47: =$K47+2*$P47*$K47 -> 46.370928
A48: 800 | B48: 718.1961 | C48: -225.04252 | D48: 22.971807 | E48: -261.66393 | F48: 115.60039 | G48: -7.635455 | H48: =A48 -> 800 | I48: =IF(N$1<>0,0,IF(K$1>26.25,0,IF(K$2<12,0,IF($K$3<12,0,IF($K$3>48.1,0,('Coeff+Calc'!B48*K$4^2+'Coeff+Calc'!C48*K$4+'Coeff+Calc'!D48+K$1*('Coeff+Calc'!E48*K$4^2+'Coeff+Calc'!F48*K$4+'Coeff+Calc'!G48))))))) -> 36.51291 | J48: =H48 -> 800 | K48: =IF(I48<0,0,IF(I48>50,50,I48)) -> 36.51291 | O48: =$K48-2*$P48*$K48 -> 27.006158 | P48: 0.13018343 | Q48: =$K48+2*$P48*$K48 -> 46.019662
...
